BEGIN:VCALENDAR
VERSION:2.0
PRODID:-//The Learning Curve - ECPv6.15.17.1//NONSGML v1.0//EN
CALSCALE:GREGORIAN
METHOD:PUBLISH
X-WR-CALNAME:The Learning Curve
X-ORIGINAL-URL:https://www.learningcurvedevelopment.co.uk
X-WR-CALDESC:Events for The Learning Curve
REFRESH-INTERVAL;VALUE=DURATION:PT1H
X-Robots-Tag:noindex
X-PUBLISHED-TTL:PT1H
BEGIN:VTIMEZONE
TZID:UTC
BEGIN:STANDARD
TZOFFSETFROM:+0000
TZOFFSETTO:+0000
TZNAME:UTC
DTSTART:20160101T000000
END:STANDARD
END:VTIMEZONE
BEGIN:VEVENT
DTSTART;VALUE=DATE:20170529
DTEND;VALUE=DATE:20170530
DTSTAMP:20260426T042056
CREATED:20161003T131538Z
LAST-MODIFIED:20161003T131538Z
UID:3136-1496016000-1496102399@www.learningcurvedevelopment.co.uk
SUMMARY:Spring Bank Holiday
DESCRIPTION:
URL:https://www.learningcurvedevelopment.co.uk/event/spring-bank-holiday-5/
END:VEVENT
BEGIN:VEVENT
DTSTART;TZID=UTC:20170526T120000
DTEND;TZID=UTC:20170526T170000
DTSTAMP:20260426T042056
CREATED:20161004T123026Z
LAST-MODIFIED:20161004T123026Z
UID:3298-1495800000-1495818000@www.learningcurvedevelopment.co.uk
SUMMARY:IAT Level 3
DESCRIPTION:Level 3 Diploma in Laboratory Animal Science & Technology
URL:https://www.learningcurvedevelopment.co.uk/event/iat-level-3-101/
CATEGORIES:IAT Level III
END:VEVENT
BEGIN:VEVENT
DTSTART;TZID=UTC:20170526T080000
DTEND;TZID=UTC:20170526T120000
DTSTAMP:20260426T042056
CREATED:20161004T122255Z
LAST-MODIFIED:20161004T122255Z
UID:3283-1495785600-1495800000@www.learningcurvedevelopment.co.uk
SUMMARY:IAT Level 2
DESCRIPTION:Level 2 Diploma in Laboratory Animal Science & Technology
URL:https://www.learningcurvedevelopment.co.uk/event/iat-level-2-95/
CATEGORIES:IAT Level II
END:VEVENT
BEGIN:VEVENT
DTSTART;TZID=UTC:20170525T120000
DTEND;TZID=UTC:20170525T170000
DTSTAMP:20260426T042056
CREATED:20161004T123002Z
LAST-MODIFIED:20161004T123002Z
UID:3297-1495713600-1495731600@www.learningcurvedevelopment.co.uk
SUMMARY:IAT Level 3
DESCRIPTION:Level 3 Diploma in Laboratory Animal Science & Technology
URL:https://www.learningcurvedevelopment.co.uk/event/iat-level-3-100/
CATEGORIES:IAT Level III
END:VEVENT
BEGIN:VEVENT
DTSTART;TZID=UTC:20170525T080000
DTEND;TZID=UTC:20170525T120000
DTSTAMP:20260426T042056
CREATED:20161004T122230Z
LAST-MODIFIED:20161004T122230Z
UID:3282-1495699200-1495713600@www.learningcurvedevelopment.co.uk
SUMMARY:IAT Level 2
DESCRIPTION:Level 2 Diploma in Laboratory Animal Science & Technology
URL:https://www.learningcurvedevelopment.co.uk/event/iat-level-2-94/
CATEGORIES:IAT Level II
END:VEVENT
BEGIN:VEVENT
DTSTART;TZID=UTC:20170523T080000
DTEND;TZID=UTC:20170523T120000
DTSTAMP:20260426T042056
CREATED:20161004T122206Z
LAST-MODIFIED:20161004T122206Z
UID:3281-1495526400-1495540800@www.learningcurvedevelopment.co.uk
SUMMARY:IAT Level 2
DESCRIPTION:Level 2 Diploma in Laboratory Animal Science & Technology
URL:https://www.learningcurvedevelopment.co.uk/event/iat-level-2-93/
CATEGORIES:IAT Level II
END:VEVENT
BEGIN:VEVENT
DTSTART;TZID=UTC:20170522T120000
DTEND;TZID=UTC:20170522T170000
DTSTAMP:20260426T042056
CREATED:20161004T122933Z
LAST-MODIFIED:20161004T122933Z
UID:3296-1495454400-1495472400@www.learningcurvedevelopment.co.uk
SUMMARY:IAT Level 3
DESCRIPTION:Level 3 Diploma in Laboratory Animal Science & Technology
URL:https://www.learningcurvedevelopment.co.uk/event/iat-level-3-99/
CATEGORIES:IAT Level III
END:VEVENT
BEGIN:VEVENT
DTSTART;TZID=UTC:20170522T080000
DTEND;TZID=UTC:20170522T120000
DTSTAMP:20260426T042056
CREATED:20161004T122141Z
LAST-MODIFIED:20161004T122141Z
UID:3280-1495440000-1495454400@www.learningcurvedevelopment.co.uk
SUMMARY:IAT Level 2
DESCRIPTION:Level 2 Diploma in Laboratory Animal Science & Technology
URL:https://www.learningcurvedevelopment.co.uk/event/iat-level-2-92/
CATEGORIES:IAT Level II
END:VEVENT
BEGIN:VEVENT
DTSTART;VALUE=DATE:20170522
DTEND;VALUE=DATE:20170524
DTSTAMP:20260426T042056
CREATED:20161003T131859Z
LAST-MODIFIED:20170420T074043Z
UID:3146-1495411200-1495583999@www.learningcurvedevelopment.co.uk
SUMMARY:Home Office E1/L PIL AB
DESCRIPTION:Royal Society of Biology accredited Home Office E1/L PIL AB training\, delivered over two days. \nSorry\, privately booked.  Please contact TLC for more available dates
URL:https://www.learningcurvedevelopment.co.uk/event/home-office-pil-ab-8/
LOCATION:Birmingham
CATEGORIES:PIL AB
ORGANIZER;CN="":MAILTO:Info@LearningCurveDevelopment.co.uk
END:VEVENT
BEGIN:VEVENT
DTSTART;TZID=UTC:20170519T120000
DTEND;TZID=UTC:20170519T170000
DTSTAMP:20260426T042056
CREATED:20161004T122903Z
LAST-MODIFIED:20161004T122903Z
UID:3295-1495195200-1495213200@www.learningcurvedevelopment.co.uk
SUMMARY:IAT Level 3
DESCRIPTION:Level 3 Diploma in Laboratory Animal Science & Technology
URL:https://www.learningcurvedevelopment.co.uk/event/iat-level-3-98/
CATEGORIES:IAT Level III
END:VEVENT
BEGIN:VEVENT
DTSTART;TZID=UTC:20170519T080000
DTEND;TZID=UTC:20170519T120000
DTSTAMP:20260426T042056
CREATED:20161004T122117Z
LAST-MODIFIED:20161004T122117Z
UID:3279-1495180800-1495195200@www.learningcurvedevelopment.co.uk
SUMMARY:IAT Level 2
DESCRIPTION:Level 2 Diploma in Laboratory Animal Science & Technology
URL:https://www.learningcurvedevelopment.co.uk/event/iat-level-2-91/
CATEGORIES:IAT Level II
END:VEVENT
BEGIN:VEVENT
DTSTART;VALUE=DATE:20170519
DTEND;VALUE=DATE:20170520
DTSTAMP:20260426T042056
CREATED:20161004T122835Z
LAST-MODIFIED:20161004T122835Z
UID:3294-1495152000-1495238399@www.learningcurvedevelopment.co.uk
SUMMARY:IAT Level 3
DESCRIPTION:Level 3 Diploma in Laboratory Animal Science & Technology
URL:https://www.learningcurvedevelopment.co.uk/event/iat-level-3-97/
CATEGORIES:IAT Level III
END:VEVENT
BEGIN:VEVENT
DTSTART;TZID=UTC:20170518T080000
DTEND;TZID=UTC:20170518T120000
DTSTAMP:20260426T042056
CREATED:20161004T122810Z
LAST-MODIFIED:20161004T122810Z
UID:3293-1495094400-1495108800@www.learningcurvedevelopment.co.uk
SUMMARY:IAT Level 3
DESCRIPTION:Level 3 Diploma in Laboratory Animal Science & Technology
URL:https://www.learningcurvedevelopment.co.uk/event/iat-level-3-96/
CATEGORIES:IAT Level III
END:VEVENT
BEGIN:VEVENT
DTSTART;TZID=UTC:20170517T120000
DTEND;TZID=UTC:20170517T170000
DTSTAMP:20260426T042056
CREATED:20161004T122739Z
LAST-MODIFIED:20161004T122739Z
UID:3292-1495022400-1495040400@www.learningcurvedevelopment.co.uk
SUMMARY:IAT Level 3
DESCRIPTION:Level 3 Diploma in Laboratory Animal Science & Technology
URL:https://www.learningcurvedevelopment.co.uk/event/iat-level-3-95/
CATEGORIES:IAT Level III
END:VEVENT
BEGIN:VEVENT
DTSTART;TZID=UTC:20170517T080000
DTEND;TZID=UTC:20170517T120000
DTSTAMP:20260426T042056
CREATED:20161004T122043Z
LAST-MODIFIED:20161004T122043Z
UID:3278-1495008000-1495022400@www.learningcurvedevelopment.co.uk
SUMMARY:IAT Level 2
DESCRIPTION:Level 2 Diploma in Laboratory Animal Science & Technology
URL:https://www.learningcurvedevelopment.co.uk/event/iat-level-2-90/
CATEGORIES:IAT Level II
END:VEVENT
BEGIN:VEVENT
DTSTART;VALUE=DATE:20170516
DTEND;VALUE=DATE:20170519
DTSTAMP:20260426T042056
CREATED:20161003T131811Z
LAST-MODIFIED:20170420T074123Z
UID:3143-1494892800-1495151999@www.learningcurvedevelopment.co.uk
SUMMARY:Home Office E1/L PIL ABC
DESCRIPTION:Royal Society of Biology accredited Home Office E1/L PIL ABC training\, delivered over three days. \nParticipants may attend for E1/L\, E1/L PIL AB\, E1/L PIL ABC or PIL C\, depending on their needs.  Please discuss this when you make your booking
URL:https://www.learningcurvedevelopment.co.uk/event/home-office-pil-abc-34/
LOCATION:Unnamed Venue\, London
CATEGORIES:PIL AB,PIL ABC
ORGANIZER;CN="Unnamed Organizer":MAILTO:Info@LearningCurveDevelopment.co.uk
END:VEVENT
BEGIN:VEVENT
DTSTART;TZID=UTC:20170512T120000
DTEND;TZID=UTC:20170512T170000
DTSTAMP:20260426T042056
CREATED:20161004T122711Z
LAST-MODIFIED:20161004T122711Z
UID:3291-1494590400-1494608400@www.learningcurvedevelopment.co.uk
SUMMARY:IAT Level 3
DESCRIPTION:Level 3 Diploma in Laboratory Animal Science & Technology
URL:https://www.learningcurvedevelopment.co.uk/event/iat-level-3-94/
END:VEVENT
BEGIN:VEVENT
DTSTART;TZID=UTC:20170512T080000
DTEND;TZID=UTC:20170512T120000
DTSTAMP:20260426T042056
CREATED:20161004T122017Z
LAST-MODIFIED:20161004T122017Z
UID:3277-1494576000-1494590400@www.learningcurvedevelopment.co.uk
SUMMARY:IAT Level 2
DESCRIPTION:Level 2 Diploma in Laboratory Animal Science & Technology
URL:https://www.learningcurvedevelopment.co.uk/event/iat-level-2-89/
CATEGORIES:IAT Level II
END:VEVENT
BEGIN:VEVENT
DTSTART;TZID=UTC:20170511T120000
DTEND;TZID=UTC:20170511T170000
DTSTAMP:20260426T042056
CREATED:20161004T122642Z
LAST-MODIFIED:20161004T122642Z
UID:3290-1494504000-1494522000@www.learningcurvedevelopment.co.uk
SUMMARY:IAT Level 3
DESCRIPTION:Level 3 Diploma in Laboratory Animal Science & Technology
URL:https://www.learningcurvedevelopment.co.uk/event/iat-level-3-93/
CATEGORIES:IAT Level III
END:VEVENT
BEGIN:VEVENT
DTSTART;TZID=UTC:20170511T080000
DTEND;TZID=UTC:20170511T120000
DTSTAMP:20260426T042056
CREATED:20161004T121953Z
LAST-MODIFIED:20161004T121953Z
UID:3276-1494489600-1494504000@www.learningcurvedevelopment.co.uk
SUMMARY:IAT Level 2
DESCRIPTION:Level 2 Diploma in Laboratory Animal Science & Technology
URL:https://www.learningcurvedevelopment.co.uk/event/iat-level-2-88/
CATEGORIES:IAT Level II
END:VEVENT
BEGIN:VEVENT
DTSTART;TZID=UTC:20170509T080000
DTEND;TZID=UTC:20170509T120000
DTSTAMP:20260426T042056
CREATED:20161004T121924Z
LAST-MODIFIED:20161004T121924Z
UID:3275-1494316800-1494331200@www.learningcurvedevelopment.co.uk
SUMMARY:IAT Level 2
DESCRIPTION:Level 2 Diploma in Laboratory Animal Science & Technology
URL:https://www.learningcurvedevelopment.co.uk/event/iat-level-2-87/
CATEGORIES:IAT Level II
END:VEVENT
BEGIN:VEVENT
DTSTART;TZID=UTC:20170508T120000
DTEND;TZID=UTC:20170508T170000
DTSTAMP:20260426T042056
CREATED:20161004T122615Z
LAST-MODIFIED:20161004T122615Z
UID:3289-1494244800-1494262800@www.learningcurvedevelopment.co.uk
SUMMARY:IAT Level 3
DESCRIPTION:Level 3 Diploma in Laboratory Animal Science & Technology
URL:https://www.learningcurvedevelopment.co.uk/event/iat-level-3-92/
CATEGORIES:IAT Level III
END:VEVENT
BEGIN:VEVENT
DTSTART;TZID=UTC:20170508T080000
DTEND;TZID=UTC:20170508T120000
DTSTAMP:20260426T042056
CREATED:20161004T115430Z
LAST-MODIFIED:20161004T115430Z
UID:3274-1494230400-1494244800@www.learningcurvedevelopment.co.uk
SUMMARY:IAT Level 2
DESCRIPTION:Level 2 Diploma in Laboratory Animal Science & Technology
URL:https://www.learningcurvedevelopment.co.uk/event/iat-level-2-86/
CATEGORIES:IAT Level II
END:VEVENT
BEGIN:VEVENT
DTSTART;TZID=UTC:20170505T120000
DTEND;TZID=UTC:20170505T170000
DTSTAMP:20260426T042056
CREATED:20161004T122550Z
LAST-MODIFIED:20161004T122550Z
UID:3288-1493985600-1494003600@www.learningcurvedevelopment.co.uk
SUMMARY:IAT Level 3
DESCRIPTION:Level 3 Diploma in Laboratory Animal Science & Technology
URL:https://www.learningcurvedevelopment.co.uk/event/iat-level-3-91/
CATEGORIES:IAT Level III
END:VEVENT
BEGIN:VEVENT
DTSTART;TZID=UTC:20170505T080000
DTEND;TZID=UTC:20170505T120000
DTSTAMP:20260426T042056
CREATED:20161004T115203Z
LAST-MODIFIED:20161004T115203Z
UID:3273-1493971200-1493985600@www.learningcurvedevelopment.co.uk
SUMMARY:IAT Level 2
DESCRIPTION:Level 2 Diploma in Laboratory Animal Science & Technology
URL:https://www.learningcurvedevelopment.co.uk/event/iat-level-2-85/
CATEGORIES:IAT Level II
END:VEVENT
BEGIN:VEVENT
DTSTART;TZID=UTC:20170504T080000
DTEND;TZID=UTC:20170504T120000
DTSTAMP:20260426T042056
CREATED:20161004T122515Z
LAST-MODIFIED:20161004T122515Z
UID:3287-1493884800-1493899200@www.learningcurvedevelopment.co.uk
SUMMARY:IAT Level 3
DESCRIPTION:Level 3 Diploma in Laboratory Animal Science & Technology
URL:https://www.learningcurvedevelopment.co.uk/event/iat-level-3-90/
CATEGORIES:IAT Level III
END:VEVENT
BEGIN:VEVENT
DTSTART;TZID=UTC:20170503T120000
DTEND;TZID=UTC:20170503T170000
DTSTAMP:20260426T042056
CREATED:20161004T122447Z
LAST-MODIFIED:20161004T122447Z
UID:3286-1493812800-1493830800@www.learningcurvedevelopment.co.uk
SUMMARY:IAT Level 3
DESCRIPTION:Level 3 Diploma in Laboratory Animal Science & Technology
URL:https://www.learningcurvedevelopment.co.uk/event/iat-level-3-89/
CATEGORIES:IAT Level III
END:VEVENT
BEGIN:VEVENT
DTSTART;TZID=UTC:20170503T080000
DTEND;TZID=UTC:20170503T120000
DTSTAMP:20260426T042056
CREATED:20161004T115127Z
LAST-MODIFIED:20161004T115359Z
UID:3272-1493798400-1493812800@www.learningcurvedevelopment.co.uk
SUMMARY:IAT Level 2
DESCRIPTION:Level 2 Diploma in Laboratory Animal Science & Technology
URL:https://www.learningcurvedevelopment.co.uk/event/iat-level-2-84/
CATEGORIES:IAT Level II
END:VEVENT
BEGIN:VEVENT
DTSTART;VALUE=DATE:20170502
DTEND;VALUE=DATE:20170505
DTSTAMP:20260426T042056
CREATED:20161003T131634Z
LAST-MODIFIED:20170420T074222Z
UID:3137-1493683200-1493942399@www.learningcurvedevelopment.co.uk
SUMMARY:Home Office E1/L PIL ABC
DESCRIPTION:Royal Society of Biology accredited Home Office E1/L PIL ABC training\, delivered over three days. \nParticipants may attend for E1/L\, E1/L PIL AB\, E1/L PIL ABC or PIL C\, depending on their needs.  Please discuss this when you make your booking
URL:https://www.learningcurvedevelopment.co.uk/event/home-office-pil-abc-32/
LOCATION:Unnamed Venue\, London
CATEGORIES:PIL AB,PIL ABC
ORGANIZER;CN="Unnamed Organizer":MAILTO:Info@LearningCurveDevelopment.co.uk
END:VEVENT
BEGIN:VEVENT
DTSTART;VALUE=DATE:20170501
DTEND;VALUE=DATE:20170502
DTSTAMP:20260426T042056
CREATED:20161004T103920Z
LAST-MODIFIED:20161004T103920Z
UID:3271-1493596800-1493683199@www.learningcurvedevelopment.co.uk
SUMMARY:Early May Bank Holiday
DESCRIPTION:
URL:https://www.learningcurvedevelopment.co.uk/event/early-may-bank-holiday-6/
END:VEVENT
END:VCALENDAR