BEGIN:VCALENDAR
VERSION:2.0
PRODID:-//The Learning Curve - ECPv6.15.17.1//NONSGML v1.0//EN
CALSCALE:GREGORIAN
METHOD:PUBLISH
X-WR-CALNAME:The Learning Curve
X-ORIGINAL-URL:https://www.learningcurvedevelopment.co.uk
X-WR-CALDESC:Events for The Learning Curve
REFRESH-INTERVAL;VALUE=DURATION:PT1H
X-Robots-Tag:noindex
X-PUBLISHED-TTL:PT1H
BEGIN:VTIMEZONE
TZID:Europe/London
BEGIN:DAYLIGHT
TZOFFSETFROM:+0000
TZOFFSETTO:+0100
TZNAME:BST
DTSTART:20160327T010000
END:DAYLIGHT
BEGIN:STANDARD
TZOFFSETFROM:+0100
TZOFFSETTO:+0000
TZNAME:GMT
DTSTART:20161030T010000
END:STANDARD
BEGIN:DAYLIGHT
TZOFFSETFROM:+0000
TZOFFSETTO:+0100
TZNAME:BST
DTSTART:20170326T010000
END:DAYLIGHT
BEGIN:STANDARD
TZOFFSETFROM:+0100
TZOFFSETTO:+0000
TZNAME:GMT
DTSTART:20171029T010000
END:STANDARD
BEGIN:DAYLIGHT
TZOFFSETFROM:+0000
TZOFFSETTO:+0100
TZNAME:BST
DTSTART:20180325T010000
END:DAYLIGHT
BEGIN:STANDARD
TZOFFSETFROM:+0100
TZOFFSETTO:+0000
TZNAME:GMT
DTSTART:20181028T010000
END:STANDARD
BEGIN:DAYLIGHT
TZOFFSETFROM:+0000
TZOFFSETTO:+0100
TZNAME:BST
DTSTART:20190331T010000
END:DAYLIGHT
BEGIN:STANDARD
TZOFFSETFROM:+0100
TZOFFSETTO:+0000
TZNAME:GMT
DTSTART:20191027T010000
END:STANDARD
END:VTIMEZONE
BEGIN:VTIMEZONE
TZID:UTC
BEGIN:STANDARD
TZOFFSETFROM:+0000
TZOFFSETTO:+0000
TZNAME:UTC
DTSTART:20160101T000000
END:STANDARD
END:VTIMEZONE
BEGIN:VEVENT
DTSTART;VALUE=DATE:20180125
DTEND;VALUE=DATE:20180126
DTSTAMP:20260425T224912
CREATED:20170928T123116Z
LAST-MODIFIED:20170928T123116Z
UID:4011-1516838400-1516924799@www.learningcurvedevelopment.co.uk
SUMMARY:Award in Education and Training
DESCRIPTION:City & Guilds Award in Education and Training is an introduction to teaching.  Duration is one day a week for five weeks.  This is day four
URL:https://www.learningcurvedevelopment.co.uk/event/award-in-education-and-training-4/
LOCATION:Cambridge\, Cambridge\, United Kingdom
CATEGORIES:PTLLS
END:VEVENT
BEGIN:VEVENT
DTSTART;TZID=Europe/London:20180123T123000
DTEND;TZID=Europe/London:20180123T163000
DTSTAMP:20260425T224912
CREATED:20171102T100428Z
LAST-MODIFIED:20171109T061842Z
UID:4144-1516710600-1516725000@www.learningcurvedevelopment.co.uk
SUMMARY:Preparing for RAnTech
DESCRIPTION:To prepare candidates for inclusion in the Register
URL:https://www.learningcurvedevelopment.co.uk/event/preparing-for-rantech-12/
CATEGORIES:RAnTech
ORGANIZER;CN="Gill":MAILTO:Info@LearningCurveDevelopment.co.uk
END:VEVENT
BEGIN:VEVENT
DTSTART;TZID=Europe/London:20180123T080000
DTEND;TZID=Europe/London:20180123T120000
DTSTAMP:20260425T224912
CREATED:20171010T075038Z
LAST-MODIFIED:20171010T075038Z
UID:4122-1516694400-1516708800@www.learningcurvedevelopment.co.uk
SUMMARY:IAT Level 2
DESCRIPTION:Level 2 Diploma in Laboratory Animal Science & Technology
URL:https://www.learningcurvedevelopment.co.uk/event/iat-level-2-120/
CATEGORIES:IAT Level II
END:VEVENT
BEGIN:VEVENT
DTSTART;TZID=Europe/London:20180119T120000
DTEND;TZID=Europe/London:20180119T170000
DTSTAMP:20260425T224912
CREATED:20171010T074855Z
LAST-MODIFIED:20171010T074855Z
UID:4116-1516363200-1516381200@www.learningcurvedevelopment.co.uk
SUMMARY:IAT Level 3
DESCRIPTION:Level 3 Diploma in Laboratory Animal Science & Technology
URL:https://www.learningcurvedevelopment.co.uk/event/iat-level-3-132/
CATEGORIES:IAT Level III
END:VEVENT
BEGIN:VEVENT
DTSTART;TZID=Europe/London:20180119T080000
DTEND;TZID=Europe/London:20180119T120000
DTSTAMP:20260425T224912
CREATED:20171010T075000Z
LAST-MODIFIED:20171010T075000Z
UID:4120-1516348800-1516363200@www.learningcurvedevelopment.co.uk
SUMMARY:IAT Level 2
DESCRIPTION:Level 2 Diploma in Laboratory Animal Science & Technology
URL:https://www.learningcurvedevelopment.co.uk/event/iat-level-2-119/
CATEGORIES:IAT Level II
END:VEVENT
BEGIN:VEVENT
DTSTART;TZID=Europe/London:20180118T120000
DTEND;TZID=Europe/London:20180118T170000
DTSTAMP:20260425T224912
CREATED:20171010T074824Z
LAST-MODIFIED:20171010T074824Z
UID:4114-1516276800-1516294800@www.learningcurvedevelopment.co.uk
SUMMARY:IAT Level 3
DESCRIPTION:Level 3 Diploma in Laboratory Animal Science & Technology
URL:https://www.learningcurvedevelopment.co.uk/event/iat-level-3-131/
CATEGORIES:IAT Level III
END:VEVENT
BEGIN:VEVENT
DTSTART;VALUE=DATE:20180118
DTEND;VALUE=DATE:20180119
DTSTAMP:20260425T224912
CREATED:20170928T122858Z
LAST-MODIFIED:20170928T122858Z
UID:4008-1516233600-1516319999@www.learningcurvedevelopment.co.uk
SUMMARY:Award in Education and Training
DESCRIPTION:City & Guilds Award in Education and Training is an introduction to teaching.  Duration is one day a week for five weeks.  This is day three
URL:https://www.learningcurvedevelopment.co.uk/event/award-in-education-and-training-3/
LOCATION:Cambridge\, Cambridge\, United Kingdom
CATEGORIES:PTLLS
END:VEVENT
BEGIN:VEVENT
DTSTART;VALUE=DATE:20180116
DTEND;VALUE=DATE:20180119
DTSTAMP:20260425T224912
CREATED:20170824T080533Z
LAST-MODIFIED:20170824T101930Z
UID:3892-1516060800-1516319999@www.learningcurvedevelopment.co.uk
SUMMARY:Home Office E1/L PIL ABC
DESCRIPTION:Royal Society of Biology accredited Home Office E1/L PIL ABC training\, delivered over three days. \nParticipants may attend for E1/L\, E1/L PIL AB\, E1/L PIL ABC or PIL C\, depending on their needs.  Please discuss this when you make your booking
URL:https://www.learningcurvedevelopment.co.uk/event/home-office-e1l-pil-ab-2/
LOCATION:Kings College London\, London\, United Kingdom
CATEGORIES:PIL AB,PIL ABC
ORGANIZER;CN="Gill":MAILTO:Info@LearningCurveDevelopment.co.uk
END:VEVENT
BEGIN:VEVENT
DTSTART;TZID=Europe/London:20180115T120000
DTEND;TZID=Europe/London:20180115T170000
DTSTAMP:20260425T224912
CREATED:20171010T074749Z
LAST-MODIFIED:20171010T074749Z
UID:4112-1516017600-1516035600@www.learningcurvedevelopment.co.uk
SUMMARY:IAT Level 3
DESCRIPTION:Level 3 Diploma in Laboratory Animal Science & Technology
URL:https://www.learningcurvedevelopment.co.uk/event/iat-level-3-130/
CATEGORIES:IAT Level III
END:VEVENT
BEGIN:VEVENT
DTSTART;TZID=Europe/London:20180115T080000
DTEND;TZID=Europe/London:20180115T120000
DTSTAMP:20260425T224912
CREATED:20171010T074931Z
LAST-MODIFIED:20171010T074931Z
UID:4118-1516003200-1516017600@www.learningcurvedevelopment.co.uk
SUMMARY:IAT Level 2
DESCRIPTION:Level 2 Diploma in Laboratory Animal Science & Technology
URL:https://www.learningcurvedevelopment.co.uk/event/iat-level-2-118/
CATEGORIES:IAT Level II
END:VEVENT
BEGIN:VEVENT
DTSTART;VALUE=DATE:20180115
DTEND;VALUE=DATE:20180117
DTSTAMP:20260425T224912
CREATED:20170824T102059Z
LAST-MODIFIED:20171120T143325Z
UID:3991-1515974400-1516147199@www.learningcurvedevelopment.co.uk
SUMMARY:Home Office E1/L PIL AB
DESCRIPTION:Royal Society of Biology accredited Home Office E1/L PIL AB training\, delivered over two days. \nParticipants may attend for E1/L or E1/L PIL AB depending on their needs.  Please discuss this when you make your booking
URL:https://www.learningcurvedevelopment.co.uk/event/home-office-e1l-pil-ab-10/
LOCATION:Birmingham\, United Kingdom
CATEGORIES:PIL AB
ORGANIZER;CN="Gill":MAILTO:Info@LearningCurveDevelopment.co.uk
END:VEVENT
BEGIN:VEVENT
DTSTART;TZID=Europe/London:20180112T120000
DTEND;TZID=Europe/London:20180112T170000
DTSTAMP:20260425T224912
CREATED:20171010T074716Z
LAST-MODIFIED:20171010T074716Z
UID:4110-1515758400-1515776400@www.learningcurvedevelopment.co.uk
SUMMARY:IAT Level 3
DESCRIPTION:Level 3 Diploma in Laboratory Animal Science & Technology
URL:https://www.learningcurvedevelopment.co.uk/event/iat-level-3-129/
CATEGORIES:IAT Level III
END:VEVENT
BEGIN:VEVENT
DTSTART;VALUE=DATE:20180111
DTEND;VALUE=DATE:20180112
DTSTAMP:20260425T224912
CREATED:20170928T122804Z
LAST-MODIFIED:20170928T122804Z
UID:4006-1515628800-1515715199@www.learningcurvedevelopment.co.uk
SUMMARY:Award in Education and Training
DESCRIPTION:City & Guilds Award in Education and Training is an introduction to teaching.  Duration is one day a week for five weeks.  This is day two
URL:https://www.learningcurvedevelopment.co.uk/event/award-in-education-and-training-2/
LOCATION:Cambridge\, United Kingdom
CATEGORIES:PTLLS
END:VEVENT
BEGIN:VEVENT
DTSTART;TZID=Europe/London:20180109T080000
DTEND;TZID=Europe/London:20180109T120000
DTSTAMP:20260425T224912
CREATED:20171010T074604Z
LAST-MODIFIED:20171010T074604Z
UID:4106-1515484800-1515499200@www.learningcurvedevelopment.co.uk
SUMMARY:IAT Level 2
DESCRIPTION:Level 2 Diploma in Laboratory Animal Science & Technology
URL:https://www.learningcurvedevelopment.co.uk/event/iat-level-2-117/
CATEGORIES:IAT Level II
END:VEVENT
BEGIN:VEVENT
DTSTART;TZID=Europe/London:20180108T120000
DTEND;TZID=Europe/London:20180108T170000
DTSTAMP:20260425T224912
CREATED:20171010T074648Z
LAST-MODIFIED:20180201T123530Z
UID:4108-1515412800-1515430800@www.learningcurvedevelopment.co.uk
SUMMARY:IAT Level 3
DESCRIPTION:Level 3 Diploma in Laboratory Animal Science & Technology
URL:https://www.learningcurvedevelopment.co.uk/event/iat-level-3-128/
LOCATION:North Yorkshire
CATEGORIES:IAT Level III
END:VEVENT
BEGIN:VEVENT
DTSTART;TZID=Europe/London:20180108T080000
DTEND;TZID=Europe/London:20180108T120000
DTSTAMP:20260425T224912
CREATED:20171010T074536Z
LAST-MODIFIED:20171010T074536Z
UID:4104-1515398400-1515412800@www.learningcurvedevelopment.co.uk
SUMMARY:IAT Level 2
DESCRIPTION:Level 2 Diploma in Laboratory Animal Science & Technology
URL:https://www.learningcurvedevelopment.co.uk/event/iat-level-2-116/
CATEGORIES:IAT Level II
END:VEVENT
BEGIN:VEVENT
DTSTART;TZID=Europe/London:20180104T120000
DTEND;TZID=Europe/London:20180104T170000
DTSTAMP:20260425T224912
CREATED:20171010T074448Z
LAST-MODIFIED:20171010T074458Z
UID:4101-1515067200-1515085200@www.learningcurvedevelopment.co.uk
SUMMARY:IAT Level 3
DESCRIPTION:Level 3 Diploma in Laboratory Animal Science & Technology
URL:https://www.learningcurvedevelopment.co.uk/event/iat-level-2-115/
CATEGORIES:IAT Level III
END:VEVENT
BEGIN:VEVENT
DTSTART;VALUE=DATE:20180104
DTEND;VALUE=DATE:20180105
DTSTAMP:20260425T224912
CREATED:20170928T122640Z
LAST-MODIFIED:20170928T122958Z
UID:4004-1515024000-1515110399@www.learningcurvedevelopment.co.uk
SUMMARY:Award in Education and Training
DESCRIPTION:City & Guilds Award in Education and Training is an introduction to teaching.  Duration is one day a week\, for five weeks.  This is day one
URL:https://www.learningcurvedevelopment.co.uk/event/award-in-education-and-training/
LOCATION:Cambridge\, Cambridge\, United Kingdom
CATEGORIES:PTLLS
END:VEVENT
BEGIN:VEVENT
DTSTART;TZID=Europe/London:20171219T080000
DTEND;TZID=Europe/London:20171219T120000
DTSTAMP:20260425T224912
CREATED:20171010T074243Z
LAST-MODIFIED:20171010T074243Z
UID:4099-1513670400-1513684800@www.learningcurvedevelopment.co.uk
SUMMARY:IAT Level 2
DESCRIPTION:Level 2 Diploma in Laboratory Animal Science & Technology
URL:https://www.learningcurvedevelopment.co.uk/event/iat-level-2-114/
CATEGORIES:IAT Level II
END:VEVENT
BEGIN:VEVENT
DTSTART;TZID=Europe/London:20171218T120000
DTEND;TZID=Europe/London:20171218T170000
DTSTAMP:20260425T224912
CREATED:20171010T073816Z
LAST-MODIFIED:20171010T073816Z
UID:4095-1513598400-1513616400@www.learningcurvedevelopment.co.uk
SUMMARY:IAT Level 3
DESCRIPTION:Level 3 Diploma in Laboratory Animal Science & Technology
URL:https://www.learningcurvedevelopment.co.uk/event/iat-level-3-127/
CATEGORIES:IAT Level III
END:VEVENT
BEGIN:VEVENT
DTSTART;TZID=Europe/London:20171218T080000
DTEND;TZID=Europe/London:20171218T120000
DTSTAMP:20260425T224912
CREATED:20171010T073853Z
LAST-MODIFIED:20171010T073853Z
UID:4097-1513584000-1513598400@www.learningcurvedevelopment.co.uk
SUMMARY:IAT Level 2
DESCRIPTION:Level 2 Diploma in Laboratory Animal Science & Technology
URL:https://www.learningcurvedevelopment.co.uk/event/iat-level-2-113/
CATEGORIES:IAT Level II
END:VEVENT
BEGIN:VEVENT
DTSTART;TZID=Europe/London:20171215T120000
DTEND;TZID=Europe/London:20171215T170000
DTSTAMP:20260425T224912
CREATED:20171010T073731Z
LAST-MODIFIED:20171010T073731Z
UID:4093-1513339200-1513357200@www.learningcurvedevelopment.co.uk
SUMMARY:IAT Level 3
DESCRIPTION:Level 3 Diploma in Laboratory Animal Science & Technology
URL:https://www.learningcurvedevelopment.co.uk/event/iat-level-3-126/
CATEGORIES:IAT Level III
END:VEVENT
BEGIN:VEVENT
DTSTART;TZID=Europe/London:20171214T120000
DTEND;TZID=Europe/London:20171214T170000
DTSTAMP:20260425T224912
CREATED:20171010T073659Z
LAST-MODIFIED:20171010T073659Z
UID:4091-1513252800-1513270800@www.learningcurvedevelopment.co.uk
SUMMARY:IAT Level 3
DESCRIPTION:Level 3 Diploma in Laboratory Animal Science & Technology
URL:https://www.learningcurvedevelopment.co.uk/event/iat-level-3-125/
CATEGORIES:IAT Level III
END:VEVENT
BEGIN:VEVENT
DTSTART;VALUE=DATE:20171212
DTEND;VALUE=DATE:20171215
DTSTAMP:20260425T224912
CREATED:20170824T100204Z
LAST-MODIFIED:20170824T100204Z
UID:3984-1513036800-1513295999@www.learningcurvedevelopment.co.uk
SUMMARY:Home Office E1/L PIL ABC
DESCRIPTION:Royal Society of Biology accredited Home Office E1/L PIL ABC training\, delivered over three days. \nParticipants may attend for E1/L\, E1/L PIL AB\, E1/L PIL ABC or PIL C\, depending on their needs.  Please discuss this when you make your booking
URL:https://www.learningcurvedevelopment.co.uk/event/home-office-e1l-pil-abc-24/
LOCATION:Kings College London\, London\, United Kingdom
CATEGORIES:PIL AB,PIL ABC
ORGANIZER;CN="Gill":MAILTO:Info@LearningCurveDevelopment.co.uk
END:VEVENT
BEGIN:VEVENT
DTSTART;TZID=Europe/London:20171211T120000
DTEND;TZID=Europe/London:20171211T170000
DTSTAMP:20260425T224912
CREATED:20171010T073621Z
LAST-MODIFIED:20171010T073621Z
UID:4089-1512993600-1513011600@www.learningcurvedevelopment.co.uk
SUMMARY:IAT Level 3
DESCRIPTION:Level 3 Diploma in Laboratory Animal Science & Technology
URL:https://www.learningcurvedevelopment.co.uk/event/iat-level-3-124/
CATEGORIES:IAT Level III
END:VEVENT
BEGIN:VEVENT
DTSTART;TZID=Europe/London:20171211T080000
DTEND;TZID=Europe/London:20171211T120000
DTSTAMP:20260425T224912
CREATED:20171010T073536Z
LAST-MODIFIED:20171010T073536Z
UID:4087-1512979200-1512993600@www.learningcurvedevelopment.co.uk
SUMMARY:IAT Level 2
DESCRIPTION:Level 2 Diploma in Laboratory Animal Science & Technology
URL:https://www.learningcurvedevelopment.co.uk/event/iat-level-2-112/
CATEGORIES:IAT Level II
END:VEVENT
BEGIN:VEVENT
DTSTART;VALUE=DATE:20171211
DTEND;VALUE=DATE:20171213
DTSTAMP:20260425T224912
CREATED:20161003T133519Z
LAST-MODIFIED:20170420T073506Z
UID:3173-1512950400-1513123199@www.learningcurvedevelopment.co.uk
SUMMARY:Home Office E1/L PIL AB
DESCRIPTION:Royal Society of Biology accredited Home Office E1/L PIL ABC training\, delivered over three days. \nParticipants may attend for E1/L\, E1/L PIL AB\, E1/L PIL ABC or PIL C\, depending on their needs.  Please discuss this when you make your booking
URL:https://www.learningcurvedevelopment.co.uk/event/home-office-pil-ab-11/
LOCATION:Birmingham
CATEGORIES:PIL AB
ORGANIZER;CN="":MAILTO:Info@LearningCurveDevelopment.co.uk
END:VEVENT
BEGIN:VEVENT
DTSTART;TZID=Europe/London:20171208T120000
DTEND;TZID=Europe/London:20171208T170000
DTSTAMP:20260425T224912
CREATED:20171010T073422Z
LAST-MODIFIED:20171010T073422Z
UID:4083-1512734400-1512752400@www.learningcurvedevelopment.co.uk
SUMMARY:IAT Level 3
DESCRIPTION:Level 3 Diploma in Laboratory Animal Science & Technology
URL:https://www.learningcurvedevelopment.co.uk/event/iat-level-3-123/
CATEGORIES:IAT Level III
END:VEVENT
BEGIN:VEVENT
DTSTART;TZID=Europe/London:20171208T080000
DTEND;TZID=Europe/London:20171208T120000
DTSTAMP:20260425T224912
CREATED:20171010T073500Z
LAST-MODIFIED:20171010T073500Z
UID:4085-1512720000-1512734400@www.learningcurvedevelopment.co.uk
SUMMARY:IAT Level 2
DESCRIPTION:Level 2 Diploma in Laboratory Animal Science & Technology
URL:https://www.learningcurvedevelopment.co.uk/event/iat-level-2-111/
CATEGORIES:IAT Level II
END:VEVENT
BEGIN:VEVENT
DTSTART;VALUE=DATE:20171206
DTEND;VALUE=DATE:20171208
DTSTAMP:20260425T224912
CREATED:20170824T100026Z
LAST-MODIFIED:20170824T100026Z
UID:3982-1512518400-1512691199@www.learningcurvedevelopment.co.uk
SUMMARY:Home Office E1/L PIL AB
DESCRIPTION:Royal Society of Biology accredited Home Office E1/L PIL AB training\, delivered over two days. \nSorry\, privately booked.  Please contact TLC for available dates
URL:https://www.learningcurvedevelopment.co.uk/event/home-office-e1l-pil-ab-9/
CATEGORIES:PIL AB
END:VEVENT
END:VCALENDAR