BEGIN:VCALENDAR
VERSION:2.0
PRODID:-//The Learning Curve - ECPv6.15.17.1//NONSGML v1.0//EN
CALSCALE:GREGORIAN
METHOD:PUBLISH
X-WR-CALNAME:The Learning Curve
X-ORIGINAL-URL:https://www.learningcurvedevelopment.co.uk
X-WR-CALDESC:Events for The Learning Curve
REFRESH-INTERVAL;VALUE=DURATION:PT1H
X-Robots-Tag:noindex
X-PUBLISHED-TTL:PT1H
BEGIN:VTIMEZONE
TZID:UTC
BEGIN:STANDARD
TZOFFSETFROM:+0000
TZOFFSETTO:+0000
TZNAME:UTC
DTSTART:20160101T000000
END:STANDARD
END:VTIMEZONE
BEGIN:VTIMEZONE
TZID:Europe/London
BEGIN:DAYLIGHT
TZOFFSETFROM:+0000
TZOFFSETTO:+0100
TZNAME:BST
DTSTART:20160327T010000
END:DAYLIGHT
BEGIN:STANDARD
TZOFFSETFROM:+0100
TZOFFSETTO:+0000
TZNAME:GMT
DTSTART:20161030T010000
END:STANDARD
BEGIN:DAYLIGHT
TZOFFSETFROM:+0000
TZOFFSETTO:+0100
TZNAME:BST
DTSTART:20170326T010000
END:DAYLIGHT
BEGIN:STANDARD
TZOFFSETFROM:+0100
TZOFFSETTO:+0000
TZNAME:GMT
DTSTART:20171029T010000
END:STANDARD
BEGIN:DAYLIGHT
TZOFFSETFROM:+0000
TZOFFSETTO:+0100
TZNAME:BST
DTSTART:20180325T010000
END:DAYLIGHT
BEGIN:STANDARD
TZOFFSETFROM:+0100
TZOFFSETTO:+0000
TZNAME:GMT
DTSTART:20181028T010000
END:STANDARD
END:VTIMEZONE
BEGIN:VEVENT
DTSTART;VALUE=DATE:20171211
DTEND;VALUE=DATE:20171213
DTSTAMP:20260425T145050
CREATED:20161003T133519Z
LAST-MODIFIED:20170420T073506Z
UID:3173-1512950400-1513123199@www.learningcurvedevelopment.co.uk
SUMMARY:Home Office E1/L PIL AB
DESCRIPTION:Royal Society of Biology accredited Home Office E1/L PIL ABC training\, delivered over three days. \nParticipants may attend for E1/L\, E1/L PIL AB\, E1/L PIL ABC or PIL C\, depending on their needs.  Please discuss this when you make your booking
URL:https://www.learningcurvedevelopment.co.uk/event/home-office-pil-ab-11/
LOCATION:Birmingham
CATEGORIES:PIL AB
ORGANIZER;CN="":MAILTO:Info@LearningCurveDevelopment.co.uk
END:VEVENT
BEGIN:VEVENT
DTSTART;TZID=Europe/London:20171208T120000
DTEND;TZID=Europe/London:20171208T170000
DTSTAMP:20260425T145050
CREATED:20171010T073422Z
LAST-MODIFIED:20171010T073422Z
UID:4083-1512734400-1512752400@www.learningcurvedevelopment.co.uk
SUMMARY:IAT Level 3
DESCRIPTION:Level 3 Diploma in Laboratory Animal Science & Technology
URL:https://www.learningcurvedevelopment.co.uk/event/iat-level-3-123/
CATEGORIES:IAT Level III
END:VEVENT
BEGIN:VEVENT
DTSTART;TZID=Europe/London:20171208T080000
DTEND;TZID=Europe/London:20171208T120000
DTSTAMP:20260425T145050
CREATED:20171010T073500Z
LAST-MODIFIED:20171010T073500Z
UID:4085-1512720000-1512734400@www.learningcurvedevelopment.co.uk
SUMMARY:IAT Level 2
DESCRIPTION:Level 2 Diploma in Laboratory Animal Science & Technology
URL:https://www.learningcurvedevelopment.co.uk/event/iat-level-2-111/
CATEGORIES:IAT Level II
END:VEVENT
BEGIN:VEVENT
DTSTART;VALUE=DATE:20171206
DTEND;VALUE=DATE:20171208
DTSTAMP:20260425T145050
CREATED:20170824T100026Z
LAST-MODIFIED:20170824T100026Z
UID:3982-1512518400-1512691199@www.learningcurvedevelopment.co.uk
SUMMARY:Home Office E1/L PIL AB
DESCRIPTION:Royal Society of Biology accredited Home Office E1/L PIL AB training\, delivered over two days. \nSorry\, privately booked.  Please contact TLC for available dates
URL:https://www.learningcurvedevelopment.co.uk/event/home-office-e1l-pil-ab-9/
CATEGORIES:PIL AB
END:VEVENT
BEGIN:VEVENT
DTSTART;VALUE=DATE:20171205
DTEND;VALUE=DATE:20171208
DTSTAMP:20260425T145050
CREATED:20170824T095934Z
LAST-MODIFIED:20171103T102537Z
UID:3980-1512432000-1512691199@www.learningcurvedevelopment.co.uk
SUMMARY:Home Office E1/L PIL AB
DESCRIPTION:Royal Society of Biology accredited Home Office E1/L PIL ABC training\, delivered over three days. \nParticipants may attend for E1/L\, E1/L PIL AB\, E1/L PIL ABC or PIL C\, depending on their needs.  Please discuss this when you make your booking
URL:https://www.learningcurvedevelopment.co.uk/event/home-office-e1l-pil-ab-8/
CATEGORIES:PIL AB,PIL ABC
END:VEVENT
BEGIN:VEVENT
DTSTART;TZID=Europe/London:20171201T120000
DTEND;TZID=Europe/London:20171201T170000
DTSTAMP:20260425T145050
CREATED:20171010T073311Z
LAST-MODIFIED:20171010T073311Z
UID:4081-1512129600-1512147600@www.learningcurvedevelopment.co.uk
SUMMARY:IAT Level 3
DESCRIPTION:Level 3 Diploma in Laboratory Animal Science & Technology
URL:https://www.learningcurvedevelopment.co.uk/event/iat-level-3-122/
CATEGORIES:IAT Level III
END:VEVENT
BEGIN:VEVENT
DTSTART;TZID=Europe/London:20171130T120000
DTEND;TZID=Europe/London:20171130T170000
DTSTAMP:20260425T145050
CREATED:20171010T073235Z
LAST-MODIFIED:20171010T073235Z
UID:4079-1512043200-1512061200@www.learningcurvedevelopment.co.uk
SUMMARY:IAT Level 3
DESCRIPTION:Level 3 Diploma in Laboratory Animal Science & Technology
URL:https://www.learningcurvedevelopment.co.uk/event/iat-level-3-121/
CATEGORIES:IAT Level III
END:VEVENT
BEGIN:VEVENT
DTSTART;TZID=Europe/London:20171127T120000
DTEND;TZID=Europe/London:20171127T170000
DTSTAMP:20260425T145050
CREATED:20171010T073202Z
LAST-MODIFIED:20171010T073202Z
UID:4077-1511784000-1511802000@www.learningcurvedevelopment.co.uk
SUMMARY:IAT Level 3
DESCRIPTION:Level 3 Diploma in Laboratory Animal Science & Technology
URL:https://www.learningcurvedevelopment.co.uk/event/iat-level-3-120/
CATEGORIES:IAT Level III
END:VEVENT
BEGIN:VEVENT
DTSTART;TZID=Europe/London:20171127T080000
DTEND;TZID=Europe/London:20171127T120000
DTSTAMP:20260425T145050
CREATED:20171010T073129Z
LAST-MODIFIED:20171010T073129Z
UID:4075-1511769600-1511784000@www.learningcurvedevelopment.co.uk
SUMMARY:IAT Level 2
DESCRIPTION:Level 2 Diploma in Laboratory Animal Science & Technology
URL:https://www.learningcurvedevelopment.co.uk/event/iat-level-2-110/
CATEGORIES:IAT Level II
END:VEVENT
BEGIN:VEVENT
DTSTART;TZID=Europe/London:20171124T120000
DTEND;TZID=Europe/London:20171124T170000
DTSTAMP:20260425T145050
CREATED:20171010T072927Z
LAST-MODIFIED:20171010T072927Z
UID:4069-1511524800-1511542800@www.learningcurvedevelopment.co.uk
SUMMARY:IAT Level 3
DESCRIPTION:Level 3 Diploma in Laboratory Animal Science & Technology
URL:https://www.learningcurvedevelopment.co.uk/event/iat-level-3-119/
CATEGORIES:IAT Level III
END:VEVENT
BEGIN:VEVENT
DTSTART;TZID=Europe/London:20171124T080000
DTEND;TZID=Europe/London:20171124T120000
DTSTAMP:20260425T145050
CREATED:20171010T073031Z
LAST-MODIFIED:20171010T073031Z
UID:4073-1511510400-1511524800@www.learningcurvedevelopment.co.uk
SUMMARY:IAT Level 2
DESCRIPTION:Level 2 Diploma in Laboratory Animal Science & Technology
URL:https://www.learningcurvedevelopment.co.uk/event/iat-level-2-109/
CATEGORIES:IAT Level II
END:VEVENT
BEGIN:VEVENT
DTSTART;VALUE=DATE:20171121
DTEND;VALUE=DATE:20171124
DTSTAMP:20260425T145050
CREATED:20161003T130020Z
LAST-MODIFIED:20170824T095014Z
UID:3132-1511222400-1511481599@www.learningcurvedevelopment.co.uk
SUMMARY:Home Office E1/L PIL ABC
DESCRIPTION:Royal Society of Biology accredited Home Office E1/L PIL ABC training\, delivered over three days. \nParticipants may attend for E1/L\, E1/L PIL AB\, E1/L PIL ABC or PIL C\, depending on their needs.  Please discuss this when you make your booking
URL:https://www.learningcurvedevelopment.co.uk/event/home-office-pil-abc-31/
LOCATION:Southampton\, Southampton\, United Kingdom
CATEGORIES:PIL AB,PIL ABC
ORGANIZER;CN="Gill":MAILTO:Info@LearningCurveDevelopment.co.uk
END:VEVENT
BEGIN:VEVENT
DTSTART;VALUE=DATE:20171121
DTEND;VALUE=DATE:20171123
DTSTAMP:20260425T145050
CREATED:20170824T101636Z
LAST-MODIFIED:20170928T121931Z
UID:3988-1511222400-1511395199@www.learningcurvedevelopment.co.uk
SUMMARY:NACWO Workshop
DESCRIPTION:NACWO two-day interactive workshop accredited by the Institute of Animal Technology
URL:https://www.learningcurvedevelopment.co.uk/event/nacwo-workshop-24/
LOCATION:Edinburgh\, United Kingdom
CATEGORIES:NACWO
ORGANIZER;CN="Gill":MAILTO:Info@LearningCurveDevelopment.co.uk
END:VEVENT
BEGIN:VEVENT
DTSTART;TZID=Europe/London:20171120T120000
DTEND;TZID=Europe/London:20171120T170000
DTSTAMP:20260425T145050
CREATED:20171010T072849Z
LAST-MODIFIED:20171010T072849Z
UID:4067-1511179200-1511197200@www.learningcurvedevelopment.co.uk
SUMMARY:IAT Level 3
DESCRIPTION:Level 3 Diploma in Laboratory Animal Science & Technology
URL:https://www.learningcurvedevelopment.co.uk/event/iat-level-3-118/
CATEGORIES:IAT Level III
END:VEVENT
BEGIN:VEVENT
DTSTART;TZID=Europe/London:20171120T080000
DTEND;TZID=Europe/London:20171120T120000
DTSTAMP:20260425T145050
CREATED:20171010T073001Z
LAST-MODIFIED:20171010T073001Z
UID:4071-1511164800-1511179200@www.learningcurvedevelopment.co.uk
SUMMARY:IAT Level 2
DESCRIPTION:Level 2 Diploma in Laboratory Animal Science & Technology
URL:https://www.learningcurvedevelopment.co.uk/event/iat-level-2-108/
CATEGORIES:IAT Level II
END:VEVENT
BEGIN:VEVENT
DTSTART;TZID=Europe/London:20171116T120000
DTEND;TZID=Europe/London:20171116T170000
DTSTAMP:20260425T145050
CREATED:20171010T072808Z
LAST-MODIFIED:20171010T072808Z
UID:4065-1510833600-1510851600@www.learningcurvedevelopment.co.uk
SUMMARY:IAT Level 3
DESCRIPTION:Level 3 Diploma in Laboratory Animal Science & Technology
URL:https://www.learningcurvedevelopment.co.uk/event/iat-level-3-117/
CATEGORIES:IAT Level III
END:VEVENT
BEGIN:VEVENT
DTSTART;VALUE=DATE:20171114
DTEND;VALUE=DATE:20171117
DTSTAMP:20260425T145050
CREATED:20170824T101341Z
LAST-MODIFIED:20170824T101341Z
UID:3986-1510617600-1510876799@www.learningcurvedevelopment.co.uk
SUMMARY:Home Office E1/L PIL ABC
DESCRIPTION:Royal Society of Biology accredited Home Office E1/L PIL ABC training\, delivered over three days. \nParticipants may attend for E1/L\, E1/L PIL AB\, E1/L PIL ABC or PIL C\, depending on their needs.  Please discuss this when you make your booking
URL:https://www.learningcurvedevelopment.co.uk/event/home-office-e1l-pil-abc-25/
LOCATION:Kings College London\, London\, United Kingdom
CATEGORIES:PIL AB,PIL ABC
ORGANIZER;CN="Gill":MAILTO:Info@LearningCurveDevelopment.co.uk
END:VEVENT
BEGIN:VEVENT
DTSTART;TZID=Europe/London:20171113T120000
DTEND;TZID=Europe/London:20171113T170000
DTSTAMP:20260425T145050
CREATED:20171010T072644Z
LAST-MODIFIED:20171010T072644Z
UID:4061-1510574400-1510592400@www.learningcurvedevelopment.co.uk
SUMMARY:IAT Level 3
DESCRIPTION:Level 3 Diploma in Laboratory Animal Science & Technology
URL:https://www.learningcurvedevelopment.co.uk/event/iat-level-3-116/
CATEGORIES:IAT Level III
END:VEVENT
BEGIN:VEVENT
DTSTART;TZID=Europe/London:20171113T080000
DTEND;TZID=Europe/London:20171113T120000
DTSTAMP:20260425T145050
CREATED:20171010T072719Z
LAST-MODIFIED:20171010T072719Z
UID:4063-1510560000-1510574400@www.learningcurvedevelopment.co.uk
SUMMARY:IAT Level 2
DESCRIPTION:Level 2 Diploma in Laboratory Animal Science & Technology
URL:https://www.learningcurvedevelopment.co.uk/event/iat-level-2-107/
CATEGORIES:IAT Level II
END:VEVENT
BEGIN:VEVENT
DTSTART;TZID=Europe/London:20171110T120000
DTEND;TZID=Europe/London:20171110T170000
DTSTAMP:20260425T145050
CREATED:20171010T072610Z
LAST-MODIFIED:20171010T072610Z
UID:4059-1510315200-1510333200@www.learningcurvedevelopment.co.uk
SUMMARY:IAT Level 3
DESCRIPTION:Level 3 Diploma in Laboratory Animal Science & Technology
URL:https://www.learningcurvedevelopment.co.uk/event/iat-level-3-115/
CATEGORIES:IAT Level III
END:VEVENT
BEGIN:VEVENT
DTSTART;TZID=Europe/London:20171110T080000
DTEND;TZID=Europe/London:20171110T120000
DTSTAMP:20260425T145050
CREATED:20171010T072503Z
LAST-MODIFIED:20171010T072503Z
UID:4055-1510300800-1510315200@www.learningcurvedevelopment.co.uk
SUMMARY:IAT Level 2
DESCRIPTION:Level 2 Diploma in Laboratory Animal Science & Technology
URL:https://www.learningcurvedevelopment.co.uk/event/iat-level-2-106/
CATEGORIES:IAT Level II
END:VEVENT
BEGIN:VEVENT
DTSTART;VALUE=DATE:20171110
DTEND;VALUE=DATE:20171111
DTSTAMP:20260425T145050
CREATED:20170928T122206Z
LAST-MODIFIED:20170928T122254Z
UID:4002-1510272000-1510358399@www.learningcurvedevelopment.co.uk
SUMMARY:PPL Review for AWERB
DESCRIPTION:Interactive and participative workshop for named persons and those new to Project Licence (PPL) review. \nSorry\, privately book.  Please contact TLC for more available dates
URL:https://www.learningcurvedevelopment.co.uk/event/ppl-review-for-awerb/
CATEGORIES:PPL Review
END:VEVENT
BEGIN:VEVENT
DTSTART;TZID=Europe/London:20171107T080000
DTEND;TZID=Europe/London:20171107T120000
DTSTAMP:20260425T145050
CREATED:20171010T072426Z
LAST-MODIFIED:20171010T072426Z
UID:4053-1510041600-1510056000@www.learningcurvedevelopment.co.uk
SUMMARY:IAT Level 2
DESCRIPTION:Level 2 Diploma in Laboratory Animal Science & Technology
URL:https://www.learningcurvedevelopment.co.uk/event/iat-level-2-105/
CATEGORIES:IAT Level II
END:VEVENT
BEGIN:VEVENT
DTSTART;VALUE=DATE:20171107
DTEND;VALUE=DATE:20171110
DTSTAMP:20260425T145050
CREATED:20170824T094344Z
LAST-MODIFIED:20170824T094344Z
UID:3972-1510012800-1510271999@www.learningcurvedevelopment.co.uk
SUMMARY:Home Office E1/L PIL ABC
DESCRIPTION:Royal Society of Biology accredited Home Office E1/L PIL ABC training\, delivered over three days. \nParticipants may attend for E1/L\, E1/L PIL AB\, E1/L PIL ABC or PIL C\, depending on their needs.  Please discuss this when you make your booking
URL:https://www.learningcurvedevelopment.co.uk/event/home-office-e1l-pil-abc-22/
LOCATION:Imperical College\, London\, United Kingdom
CATEGORIES:PIL AB,PIL ABC
ORGANIZER;CN="Gill":MAILTO:Info@LearningCurveDevelopment.co.uk
END:VEVENT
BEGIN:VEVENT
DTSTART;TZID=Europe/London:20171106T120000
DTEND;TZID=Europe/London:20171106T170000
DTSTAMP:20260425T145050
CREATED:20171010T072542Z
LAST-MODIFIED:20171010T072542Z
UID:4057-1509969600-1509987600@www.learningcurvedevelopment.co.uk
SUMMARY:IAT Level 3
DESCRIPTION:Level 3 Diploma in Laboratory Animal Science & Technology
URL:https://www.learningcurvedevelopment.co.uk/event/iat-level-3-114/
CATEGORIES:IAT Level III
END:VEVENT
BEGIN:VEVENT
DTSTART;TZID=Europe/London:20171106T080000
DTEND;TZID=Europe/London:20171106T120000
DTSTAMP:20260425T145050
CREATED:20171010T072355Z
LAST-MODIFIED:20171010T072355Z
UID:4051-1509955200-1509969600@www.learningcurvedevelopment.co.uk
SUMMARY:IAT Level 2
DESCRIPTION:Level 2 Diploma in Laboratory Animal Science & Technology
URL:https://www.learningcurvedevelopment.co.uk/event/iat-level-2-104/
CATEGORIES:IAT Level II
END:VEVENT
BEGIN:VEVENT
DTSTART;VALUE=DATE:20171101
DTEND;VALUE=DATE:20171104
DTSTAMP:20260425T145050
CREATED:20170824T094031Z
LAST-MODIFIED:20170824T094031Z
UID:3968-1509494400-1509753599@www.learningcurvedevelopment.co.uk
SUMMARY:Home Office E1/L PIL ABC
DESCRIPTION:Royal Society of Biology accredited Home Office E1/L PIL ABC training\, delivered over three days. \nParticipants may attend for E1/L\, E1/L PIL AB\, E1/L PIL ABC or PIL C\, depending on their needs.  Please discuss this when you make your booking
URL:https://www.learningcurvedevelopment.co.uk/event/home-office-e1l-pil-abc-20/
LOCATION:Cambridge\, Cambridge\, United Kingdom
CATEGORIES:PIL AB,PIL ABC
ORGANIZER;CN="Gill":MAILTO:Info@LearningCurveDevelopment.co.uk
END:VEVENT
BEGIN:VEVENT
DTSTART;TZID=Europe/London:20171030T120000
DTEND;TZID=Europe/London:20171030T170000
DTSTAMP:20260425T145050
CREATED:20171010T072036Z
LAST-MODIFIED:20171010T072036Z
UID:4047-1509364800-1509382800@www.learningcurvedevelopment.co.uk
SUMMARY:IAT Level 3
DESCRIPTION:Level 3 Diploma in Laboratory Animal Science & Technology
URL:https://www.learningcurvedevelopment.co.uk/event/iat-level-3-113/
CATEGORIES:IAT Level III
END:VEVENT
BEGIN:VEVENT
DTSTART;TZID=Europe/London:20171030T080000
DTEND;TZID=Europe/London:20171030T120000
DTSTAMP:20260425T145050
CREATED:20171010T072111Z
LAST-MODIFIED:20171010T072111Z
UID:4049-1509350400-1509364800@www.learningcurvedevelopment.co.uk
SUMMARY:IAT Level 2
DESCRIPTION:Level 2 Diploma in Laboratory Animal Science & Technology
URL:https://www.learningcurvedevelopment.co.uk/event/iat-level-2-103/
CATEGORIES:IAT Level II
END:VEVENT
BEGIN:VEVENT
DTSTART;TZID=Europe/London:20171027T120000
DTEND;TZID=Europe/London:20171027T170000
DTSTAMP:20260425T145050
CREATED:20171010T072002Z
LAST-MODIFIED:20171010T072002Z
UID:4045-1509105600-1509123600@www.learningcurvedevelopment.co.uk
SUMMARY:IAT Level 3
DESCRIPTION:Level 3 Diploma in Laboratory Animal Science & Technology
URL:https://www.learningcurvedevelopment.co.uk/event/iat-level-3-112/
CATEGORIES:IAT Level III
END:VEVENT
END:VCALENDAR