BEGIN:VCALENDAR
VERSION:2.0
PRODID:-//The Learning Curve - ECPv6.15.17.1//NONSGML v1.0//EN
CALSCALE:GREGORIAN
METHOD:PUBLISH
X-WR-CALNAME:The Learning Curve
X-ORIGINAL-URL:https://www.learningcurvedevelopment.co.uk
X-WR-CALDESC:Events for The Learning Curve
REFRESH-INTERVAL;VALUE=DURATION:PT1H
X-Robots-Tag:noindex
X-PUBLISHED-TTL:PT1H
BEGIN:VTIMEZONE
TZID:Europe/London
BEGIN:DAYLIGHT
TZOFFSETFROM:+0000
TZOFFSETTO:+0100
TZNAME:BST
DTSTART:20170326T010000
END:DAYLIGHT
BEGIN:STANDARD
TZOFFSETFROM:+0100
TZOFFSETTO:+0000
TZNAME:GMT
DTSTART:20171029T010000
END:STANDARD
BEGIN:DAYLIGHT
TZOFFSETFROM:+0000
TZOFFSETTO:+0100
TZNAME:BST
DTSTART:20180325T010000
END:DAYLIGHT
BEGIN:STANDARD
TZOFFSETFROM:+0100
TZOFFSETTO:+0000
TZNAME:GMT
DTSTART:20181028T010000
END:STANDARD
BEGIN:DAYLIGHT
TZOFFSETFROM:+0000
TZOFFSETTO:+0100
TZNAME:BST
DTSTART:20190331T010000
END:DAYLIGHT
BEGIN:STANDARD
TZOFFSETFROM:+0100
TZOFFSETTO:+0000
TZNAME:GMT
DTSTART:20191027T010000
END:STANDARD
END:VTIMEZONE
BEGIN:VTIMEZONE
TZID:UTC
BEGIN:STANDARD
TZOFFSETFROM:+0000
TZOFFSETTO:+0000
TZNAME:UTC
DTSTART:20170101T000000
END:STANDARD
END:VTIMEZONE
BEGIN:VEVENT
DTSTART;VALUE=DATE:20181031
DTEND;VALUE=DATE:20181102
DTSTAMP:20260425T161338
CREATED:20180808T091445Z
LAST-MODIFIED:20180926T094538Z
UID:4542-1540944000-1541116799@www.learningcurvedevelopment.co.uk
SUMMARY:Home Office E1/L\, PIL AB
DESCRIPTION:Royal Society of Biology accredited Home Office E1/L PIL AB training\, delivered over two days. \nSorry\, privately booked.  Contact TLC for more available dates.
URL:https://www.learningcurvedevelopment.co.uk/event/home-office-e1-l-pil-ab-7/
LOCATION:Cambrideshire
CATEGORIES:PIL AB
ORGANIZER;CN="Gill":MAILTO:Info@LearningCurveDevelopment.co.uk
END:VEVENT
BEGIN:VEVENT
DTSTART;VALUE=DATE:20181023
DTEND;VALUE=DATE:20181026
DTSTAMP:20260425T161338
CREATED:20180201T143458Z
LAST-MODIFIED:20180201T143458Z
UID:4398-1540252800-1540511999@www.learningcurvedevelopment.co.uk
SUMMARY:Home Office E1/L\, PIL ABC
DESCRIPTION:Royal Society of Biology accredited Home Office E1/L PIL ABC training\, delivered over three days. \nParticipants may attend for E1/L\, E1/L PIL AB\, E1/L PIL ABC or PIL C\, depending on their needs.  Please discuss this when you make your booking
URL:https://www.learningcurvedevelopment.co.uk/event/home-office-e1-l-pil-abc-4/
LOCATION:Kings College London\, London\, United Kingdom
CATEGORIES:PIL AB,PIL ABC
END:VEVENT
BEGIN:VEVENT
DTSTART;VALUE=DATE:20181016
DTEND;VALUE=DATE:20181019
DTSTAMP:20260425T161338
CREATED:20180808T090922Z
LAST-MODIFIED:20180808T090922Z
UID:4540-1539648000-1539907199@www.learningcurvedevelopment.co.uk
SUMMARY:Study Plan Workshop
DESCRIPTION:Sorry\, privately booked.  Please contact TLC for more information
URL:https://www.learningcurvedevelopment.co.uk/event/study-plan-workshop/
CATEGORIES:Study Plan
END:VEVENT
BEGIN:VEVENT
DTSTART;VALUE=DATE:20181012
DTEND;VALUE=DATE:20181013
DTSTAMP:20260425T161338
CREATED:20180808T090702Z
LAST-MODIFIED:20180808T090702Z
UID:4538-1539302400-1539388799@www.learningcurvedevelopment.co.uk
SUMMARY:Support Staff Workshop
DESCRIPTION:
URL:https://www.learningcurvedevelopment.co.uk/event/support-staff-workshop/
LOCATION:Central London\, United Kingdom
CATEGORIES:Support Staff
ORGANIZER;CN="Gill":MAILTO:Info@LearningCurveDevelopment.co.uk
END:VEVENT
BEGIN:VEVENT
DTSTART;VALUE=DATE:20181008
DTEND;VALUE=DATE:20181010
DTSTAMP:20260425T161338
CREATED:20180201T143342Z
LAST-MODIFIED:20180201T143342Z
UID:4396-1538956800-1539129599@www.learningcurvedevelopment.co.uk
SUMMARY:Home Office E1/L\, PIL AB
DESCRIPTION:Royal Society of Biology accredited Home Office E1/L PIL AB training\, delivered over two days. \nParticipants may attend for E1/L or E1/L PIL AB depending on their needs.  Please discuss this when you make your booking
URL:https://www.learningcurvedevelopment.co.uk/event/home-office-e1-l-pil-ab-4/
LOCATION:Birmingham\, United Kingdom
CATEGORIES:PIL AB
END:VEVENT
BEGIN:VEVENT
DTSTART;VALUE=DATE:20181004
DTEND;VALUE=DATE:20181005
DTSTAMP:20260425T161338
CREATED:20180808T090256Z
LAST-MODIFIED:20180808T090256Z
UID:4536-1538611200-1538697599@www.learningcurvedevelopment.co.uk
SUMMARY:NACWO Refresher Workshop
DESCRIPTION:NACWO refresher\, interactive workshop
URL:https://www.learningcurvedevelopment.co.uk/event/nacwo-refresher-workshop-2/
LOCATION:Central London\, United Kingdom
CATEGORIES:NACWO
ORGANIZER;CN="Gill":MAILTO:Info@LearningCurveDevelopment.co.uk
END:VEVENT
BEGIN:VEVENT
DTSTART;VALUE=DATE:20181001
DTEND;VALUE=DATE:20181004
DTSTAMP:20260425T161338
CREATED:20180201T143251Z
LAST-MODIFIED:20180201T143251Z
UID:4394-1538352000-1538611199@www.learningcurvedevelopment.co.uk
SUMMARY:Home Office E1/L\, PIL ABC
DESCRIPTION:Royal Society of Biology accredited Home Office E1/L PIL ABC training\, delivered over three days. \nParticipants may attend for E1/L\, E1/L PIL AB\, E1/L PIL ABC or PIL C\, depending on their needs.  Please discuss this when you make your booking
URL:https://www.learningcurvedevelopment.co.uk/event/home-office-e1-l-pil-abc-3/
LOCATION:Central London\, United Kingdom
CATEGORIES:PIL AB,PIL ABC
END:VEVENT
BEGIN:VEVENT
DTSTART;VALUE=DATE:20180925
DTEND;VALUE=DATE:20180928
DTSTAMP:20260425T161338
CREATED:20180201T143133Z
LAST-MODIFIED:20180201T143133Z
UID:4392-1537833600-1538092799@www.learningcurvedevelopment.co.uk
SUMMARY:Home Office E1/L\, PIL ABC
DESCRIPTION:Royal Society of Biology accredited Home Office E1/L PIL ABC training\, delivered over three days. \nParticipants may attend for E1/L\, E1/L PIL AB\, E1/L PIL ABC or PIL C\, depending on their needs.  Please discuss this when you make your booking
URL:https://www.learningcurvedevelopment.co.uk/event/home-office-e1-l-pil-abc-2/
LOCATION:Kings College London\, London\, United Kingdom
CATEGORIES:PIL AB,PIL ABC
END:VEVENT
BEGIN:VEVENT
DTSTART;VALUE=DATE:20180919
DTEND;VALUE=DATE:20180922
DTSTAMP:20260425T161338
CREATED:20180201T142920Z
LAST-MODIFIED:20180201T142920Z
UID:4390-1537315200-1537574399@www.learningcurvedevelopment.co.uk
SUMMARY:Home Office E1/L\, PIL ABC
DESCRIPTION:Royal Society of Biology accredited Home Office E1/L PIL ABC training\, delivered over three days. \nSorry\, privately booked
URL:https://www.learningcurvedevelopment.co.uk/event/home-office-e1-l-pil-abc/
CATEGORIES:PIL AB,PIL ABC
END:VEVENT
BEGIN:VEVENT
DTSTART;VALUE=DATE:20180918
DTEND;VALUE=DATE:20180919
DTSTAMP:20260425T161338
CREATED:20180710T141904Z
LAST-MODIFIED:20180808T085918Z
UID:4497-1537228800-1537315199@www.learningcurvedevelopment.co.uk
SUMMARY:Theatre Technician Workshop
DESCRIPTION:Full-day\, Theatre Technician Workshop
URL:https://www.learningcurvedevelopment.co.uk/event/theatre-technician-workshop/
LOCATION:Central London\, United Kingdom
CATEGORIES:Theatre Technician
ORGANIZER;CN="Gill":MAILTO:Info@LearningCurveDevelopment.co.uk
END:VEVENT
BEGIN:VEVENT
DTSTART;VALUE=DATE:20180917
DTEND;VALUE=DATE:20180919
DTSTAMP:20260425T161338
CREATED:20180201T142811Z
LAST-MODIFIED:20180201T142811Z
UID:4388-1537142400-1537315199@www.learningcurvedevelopment.co.uk
SUMMARY:Home Office E1/L\, PIL AB
DESCRIPTION:Royal Society of Biology accredited Home Office E1/L PIL AB training\, delivered over two days. \nSorry\, privately booked
URL:https://www.learningcurvedevelopment.co.uk/event/home-office-e1-l-pil-ab-3/
CATEGORIES:IAT Level II
END:VEVENT
BEGIN:VEVENT
DTSTART;VALUE=DATE:20180910
DTEND;VALUE=DATE:20180912
DTSTAMP:20260425T161338
CREATED:20180201T142555Z
LAST-MODIFIED:20180201T142555Z
UID:4386-1536537600-1536710399@www.learningcurvedevelopment.co.uk
SUMMARY:Home Office E1/L\, PIL AB
DESCRIPTION:Royal Society of Biology accredited Home Office E1/L PIL AB training\, delivered over two days. \nParticipants may attend for E1/L or E1/L PIL AB depending on their needs.  Please discuss this when you make your booking
URL:https://www.learningcurvedevelopment.co.uk/event/home-office-e1-l-pil-ab-2/
LOCATION:Birmingham\, United Kingdom
CATEGORIES:PIL AB
END:VEVENT
BEGIN:VEVENT
DTSTART;VALUE=DATE:20180905
DTEND;VALUE=DATE:20180908
DTSTAMP:20260425T161338
CREATED:20180808T085152Z
LAST-MODIFIED:20180808T085152Z
UID:4532-1536105600-1536364799@www.learningcurvedevelopment.co.uk
SUMMARY:Home Office PIL AB\, Additional Species
DESCRIPTION:Royal Society of Biology accredited Home Office E1/L PIL AB training for additional species\, delivered over three days. \nSorry\, privately booked.  Please contact TLC for available dates
URL:https://www.learningcurvedevelopment.co.uk/event/home-office-pil-ab-additional-species-4/
CATEGORIES:PIL AB
END:VEVENT
BEGIN:VEVENT
DTSTART;VALUE=DATE:20180905
DTEND;VALUE=DATE:20180906
DTSTAMP:20260425T161338
CREATED:20180808T085651Z
LAST-MODIFIED:20180808T085651Z
UID:4534-1536105600-1536191999@www.learningcurvedevelopment.co.uk
SUMMARY:NACWO Refresher Workshop
DESCRIPTION:NACWO refresher\, interactive workshop
URL:https://www.learningcurvedevelopment.co.uk/event/nacwo-refresher-workshop/
LOCATION:Central London\, United Kingdom
CATEGORIES:NACWO
ORGANIZER;CN="Gill":MAILTO:Info@LearningCurveDevelopment.co.uk
END:VEVENT
BEGIN:VEVENT
DTSTART;VALUE=DATE:20180903
DTEND;VALUE=DATE:20180905
DTSTAMP:20260425T161338
CREATED:20180808T085032Z
LAST-MODIFIED:20180808T085032Z
UID:4530-1535932800-1536105599@www.learningcurvedevelopment.co.uk
SUMMARY:Home Office E1/L\, PIL AB
DESCRIPTION:Royal Society of Biology accredited Home Office E1/L PIL AB training\, delivered over two days. \nSorry\, privately booked.  Please contact TLC for available dates
URL:https://www.learningcurvedevelopment.co.uk/event/home-office-e1-l-pil-ab-6/
CATEGORIES:PIL AB
END:VEVENT
BEGIN:VEVENT
DTSTART;TZID=Europe/London:20180810T123000
DTEND;TZID=Europe/London:20180810T170000
DTSTAMP:20260425T161338
CREATED:20180730T104810Z
LAST-MODIFIED:20180730T104810Z
UID:4527-1533904200-1533920400@www.learningcurvedevelopment.co.uk
SUMMARY:IAT Level 2
DESCRIPTION:Level 2 Diploma in Laboratory Animal Science & Technology
URL:https://www.learningcurvedevelopment.co.uk/event/iat-level-2-167/
CATEGORIES:IAT Level II
END:VEVENT
BEGIN:VEVENT
DTSTART;TZID=Europe/London:20180803T123000
DTEND;TZID=Europe/London:20180803T170000
DTSTAMP:20260425T161338
CREATED:20180730T104650Z
LAST-MODIFIED:20180730T104650Z
UID:4525-1533299400-1533315600@www.learningcurvedevelopment.co.uk
SUMMARY:IAT Level 3
DESCRIPTION:Level 3 Diploma in Laboratory Animal Science & Technology
URL:https://www.learningcurvedevelopment.co.uk/event/iat-level-3-187/
CATEGORIES:IAT Level III
END:VEVENT
BEGIN:VEVENT
DTSTART;TZID=Europe/London:20180730T123000
DTEND;TZID=Europe/London:20180730T170000
DTSTAMP:20260425T161338
CREATED:20180201T135756Z
LAST-MODIFIED:20180201T135756Z
UID:4371-1532953800-1532970000@www.learningcurvedevelopment.co.uk
SUMMARY:IAT Level 3
DESCRIPTION:Level 3 Diploma in Laboratory Animal Science & Technology
URL:https://www.learningcurvedevelopment.co.uk/event/iat-level-3-185/
LOCATION:Oxford
CATEGORIES:IAT Level III
END:VEVENT
BEGIN:VEVENT
DTSTART;TZID=Europe/London:20180730T080000
DTEND;TZID=Europe/London:20180730T120000
DTSTAMP:20260425T161338
CREATED:20180201T134903Z
LAST-MODIFIED:20180201T134903Z
UID:4349-1532937600-1532952000@www.learningcurvedevelopment.co.uk
SUMMARY:IAT Level 2
DESCRIPTION:Level 2 Diploma in Laboratory Animal Science & Technology
URL:https://www.learningcurvedevelopment.co.uk/event/iat-level-2-164/
LOCATION:Oxford
CATEGORIES:IAT Level II
END:VEVENT
BEGIN:VEVENT
DTSTART;TZID=Europe/London:20180727T123000
DTEND;TZID=Europe/London:20180727T170000
DTSTAMP:20260425T161338
CREATED:20180201T135704Z
LAST-MODIFIED:20180201T135704Z
UID:4369-1532694600-1532710800@www.learningcurvedevelopment.co.uk
SUMMARY:IAT Level 3
DESCRIPTION:Level 3 Diploma in Laboratory Animal Science & Technology
URL:https://www.learningcurvedevelopment.co.uk/event/iat-level-3-184/
LOCATION:Central London\, United Kingdom
CATEGORIES:IAT Level III
END:VEVENT
BEGIN:VEVENT
DTSTART;TZID=Europe/London:20180727T123000
DTEND;TZID=Europe/London:20180727T170000
DTSTAMP:20260425T161338
CREATED:20180201T135613Z
LAST-MODIFIED:20180201T140119Z
UID:4367-1532694600-1532710800@www.learningcurvedevelopment.co.uk
SUMMARY:IAT Level 3
DESCRIPTION:Level 3 Diploma in Laboratory Animal Science & Technology
URL:https://www.learningcurvedevelopment.co.uk/event/iat-level-3-183/
LOCATION:North Yorkshire
CATEGORIES:IAT Level III
END:VEVENT
BEGIN:VEVENT
DTSTART;TZID=Europe/London:20180727T080000
DTEND;TZID=Europe/London:20180727T120000
DTSTAMP:20260425T161338
CREATED:20180201T134815Z
LAST-MODIFIED:20180201T140016Z
UID:4347-1532678400-1532692800@www.learningcurvedevelopment.co.uk
SUMMARY:IAT Level 2
DESCRIPTION:Level 2 Diploma in Laboratory Animal Science & Technology
URL:https://www.learningcurvedevelopment.co.uk/event/iat-level-2-163/
LOCATION:Central London\, United Kingdom
CATEGORIES:IAT Level II
END:VEVENT
BEGIN:VEVENT
DTSTART;TZID=Europe/London:20180727T080000
DTEND;TZID=Europe/London:20180727T120000
DTSTAMP:20260425T161338
CREATED:20180201T134729Z
LAST-MODIFIED:20180201T134729Z
UID:4345-1532678400-1532692800@www.learningcurvedevelopment.co.uk
SUMMARY:IAT Level 2
DESCRIPTION:Level 2 Diploma in Laboratory Animal Science & Technology
URL:https://www.learningcurvedevelopment.co.uk/event/iat-level-2-162/
LOCATION:North Yorkshire
CATEGORIES:IAT Level II
END:VEVENT
BEGIN:VEVENT
DTSTART;VALUE=DATE:20180724
DTEND;VALUE=DATE:20180727
DTSTAMP:20260425T161338
CREATED:20170824T090056Z
LAST-MODIFIED:20170824T090056Z
UID:3941-1532390400-1532649599@www.learningcurvedevelopment.co.uk
SUMMARY:Home Office E1/L PIL ABC
DESCRIPTION:Royal Society of Biology accredited Home Office E1/L PIL ABC training\, delivered over three days. \nParticipants may attend for E1/L\, E1/L PIL AB\, E1/L PIL ABC or PIL C\, depending on their needs.  Please discuss this when you make your booking
URL:https://www.learningcurvedevelopment.co.uk/event/home-office-e1l-pil-abc-13/
LOCATION:Kings College London\, London\, United Kingdom
CATEGORIES:PIL AB,PIL ABC
ORGANIZER;CN="Gill":MAILTO:Info@LearningCurveDevelopment.co.uk
END:VEVENT
BEGIN:VEVENT
DTSTART;TZID=Europe/London:20180720T080000
DTEND;TZID=Europe/London:20180720T120000
DTSTAMP:20260425T161338
CREATED:20180201T135527Z
LAST-MODIFIED:20180201T135527Z
UID:4365-1532073600-1532088000@www.learningcurvedevelopment.co.uk
SUMMARY:IAT Level 3
DESCRIPTION:Level 3 Diploma in Laboratory Animal Science & Technology
URL:https://www.learningcurvedevelopment.co.uk/event/iat-level-3-182/
LOCATION:Central London\, United Kingdom
CATEGORIES:IAT Level III
END:VEVENT
BEGIN:VEVENT
DTSTART;TZID=Europe/London:20180716T123000
DTEND;TZID=Europe/London:20180716T170000
DTSTAMP:20260425T161338
CREATED:20180201T135444Z
LAST-MODIFIED:20180201T135444Z
UID:4363-1531744200-1531760400@www.learningcurvedevelopment.co.uk
SUMMARY:IAT Level 3
DESCRIPTION:Level 3 Diploma in Laboratory Animal Science & Technology
URL:https://www.learningcurvedevelopment.co.uk/event/iat-level-3-181/
LOCATION:Oxford
CATEGORIES:IAT Level III
END:VEVENT
BEGIN:VEVENT
DTSTART;TZID=Europe/London:20180716T080000
DTEND;TZID=Europe/London:20180716T120000
DTSTAMP:20260425T161338
CREATED:20180201T134611Z
LAST-MODIFIED:20180201T134611Z
UID:4343-1531728000-1531742400@www.learningcurvedevelopment.co.uk
SUMMARY:IAT Level 2
DESCRIPTION:Level 2 Diploma in Laboratory Animal Science & Technology
URL:https://www.learningcurvedevelopment.co.uk/event/iat-level-2-161/
LOCATION:Oxford
CATEGORIES:IAT Level II
END:VEVENT
BEGIN:VEVENT
DTSTART;VALUE=DATE:20180716
DTEND;VALUE=DATE:20180718
DTSTAMP:20260425T161338
CREATED:20180201T145134Z
LAST-MODIFIED:20180201T145134Z
UID:4408-1531699200-1531871999@www.learningcurvedevelopment.co.uk
SUMMARY:NACWO Workshop
DESCRIPTION:NACWO two-day interactive workshop accredited by the Institute of Animal Technology
URL:https://www.learningcurvedevelopment.co.uk/event/nacwo-workshop-25/
LOCATION:Central London\, United Kingdom
CATEGORIES:NACWO
END:VEVENT
BEGIN:VEVENT
DTSTART;TZID=Europe/London:20180713T123000
DTEND;TZID=Europe/London:20180713T170000
DTSTAMP:20260425T161338
CREATED:20180201T135402Z
LAST-MODIFIED:20180201T135402Z
UID:4361-1531485000-1531501200@www.learningcurvedevelopment.co.uk
SUMMARY:IAT Level 3
DESCRIPTION:Level 3 Diploma in Laboratory Animal Science & Technology
URL:https://www.learningcurvedevelopment.co.uk/event/iat-level-3-180/
LOCATION:North Yorkshire
CATEGORIES:IAT Level III
END:VEVENT
BEGIN:VEVENT
DTSTART;TZID=Europe/London:20180713T080000
DTEND;TZID=Europe/London:20180713T120000
DTSTAMP:20260425T161338
CREATED:20180201T134518Z
LAST-MODIFIED:20180201T134518Z
UID:4341-1531468800-1531483200@www.learningcurvedevelopment.co.uk
SUMMARY:IAT Level 2
DESCRIPTION:Level 2 Diploma in Laboratory Animal Science & Technology
URL:https://www.learningcurvedevelopment.co.uk/event/iat-level-2-160/
LOCATION:North Yorkshire
CATEGORIES:IAT Level II
END:VEVENT
END:VCALENDAR