BEGIN:VCALENDAR
VERSION:2.0
PRODID:-//The Learning Curve - ECPv6.15.17.1//NONSGML v1.0//EN
CALSCALE:GREGORIAN
METHOD:PUBLISH
X-WR-CALNAME:The Learning Curve
X-ORIGINAL-URL:https://www.learningcurvedevelopment.co.uk
X-WR-CALDESC:Events for The Learning Curve
REFRESH-INTERVAL;VALUE=DURATION:PT1H
X-Robots-Tag:noindex
X-PUBLISHED-TTL:PT1H
BEGIN:VTIMEZONE
TZID:Europe/London
BEGIN:DAYLIGHT
TZOFFSETFROM:+0000
TZOFFSETTO:+0100
TZNAME:BST
DTSTART:20170326T010000
END:DAYLIGHT
BEGIN:STANDARD
TZOFFSETFROM:+0100
TZOFFSETTO:+0000
TZNAME:GMT
DTSTART:20171029T010000
END:STANDARD
BEGIN:DAYLIGHT
TZOFFSETFROM:+0000
TZOFFSETTO:+0100
TZNAME:BST
DTSTART:20180325T010000
END:DAYLIGHT
BEGIN:STANDARD
TZOFFSETFROM:+0100
TZOFFSETTO:+0000
TZNAME:GMT
DTSTART:20181028T010000
END:STANDARD
BEGIN:DAYLIGHT
TZOFFSETFROM:+0000
TZOFFSETTO:+0100
TZNAME:BST
DTSTART:20190331T010000
END:DAYLIGHT
BEGIN:STANDARD
TZOFFSETFROM:+0100
TZOFFSETTO:+0000
TZNAME:GMT
DTSTART:20191027T010000
END:STANDARD
END:VTIMEZONE
BEGIN:VTIMEZONE
TZID:UTC
BEGIN:STANDARD
TZOFFSETFROM:+0000
TZOFFSETTO:+0000
TZNAME:UTC
DTSTART:20170101T000000
END:STANDARD
END:VTIMEZONE
BEGIN:VEVENT
DTSTART;TZID=Europe/London:20180608T080000
DTEND;TZID=Europe/London:20180608T120000
DTSTAMP:20260424T162638
CREATED:20180201T132949Z
LAST-MODIFIED:20180201T132949Z
UID:4305-1528444800-1528459200@www.learningcurvedevelopment.co.uk
SUMMARY:IAT Level 3
DESCRIPTION:Level 3 Diploma in Laboratory Animal Science & Technology
URL:https://www.learningcurvedevelopment.co.uk/event/iat-level-3-166/
LOCATION:Central London\, United Kingdom
CATEGORIES:IAT Level III
END:VEVENT
BEGIN:VEVENT
DTSTART;TZID=Europe/London:20180605T080000
DTEND;TZID=Europe/London:20180605T120000
DTSTAMP:20260424T162638
CREATED:20180201T132826Z
LAST-MODIFIED:20180201T132826Z
UID:4301-1528185600-1528200000@www.learningcurvedevelopment.co.uk
SUMMARY:IAT Level 2
DESCRIPTION:Level 2 Diploma in Laboratory Animal Science & Technology
URL:https://www.learningcurvedevelopment.co.uk/event/iat-level-2-150/
LOCATION:Cambrideshire
CATEGORIES:IAT Level II
END:VEVENT
BEGIN:VEVENT
DTSTART;TZID=Europe/London:20180604T123000
DTEND;TZID=Europe/London:20180604T170000
DTSTAMP:20260424T162638
CREATED:20180201T132910Z
LAST-MODIFIED:20180201T132910Z
UID:4303-1528115400-1528131600@www.learningcurvedevelopment.co.uk
SUMMARY:IAT Level 3
DESCRIPTION:Level 3 Diploma in Laboratory Animal Science & Technology
URL:https://www.learningcurvedevelopment.co.uk/event/iat-level-3-165/
LOCATION:Oxford
CATEGORIES:IAT Level III
END:VEVENT
BEGIN:VEVENT
DTSTART;TZID=Europe/London:20180604T080000
DTEND;TZID=Europe/London:20180604T120000
DTSTAMP:20260424T162638
CREATED:20180201T132747Z
LAST-MODIFIED:20180201T132747Z
UID:4299-1528099200-1528113600@www.learningcurvedevelopment.co.uk
SUMMARY:IAT Level 2
DESCRIPTION:Level 2 Diploma in Laboratory Animal Science & Technology
URL:https://www.learningcurvedevelopment.co.uk/event/iat-level-2-149/
LOCATION:Oxford
CATEGORIES:IAT Level II
END:VEVENT
BEGIN:VEVENT
DTSTART;TZID=Europe/London:20180601T080000
DTEND;TZID=Europe/London:20180601T120000
DTSTAMP:20260424T162638
CREATED:20180201T132411Z
LAST-MODIFIED:20180201T132411Z
UID:4291-1527840000-1527854400@www.learningcurvedevelopment.co.uk
SUMMARY:IAT Level 2
DESCRIPTION:Level 2 Diploma in Laboratory Animal Science & Technology
URL:https://www.learningcurvedevelopment.co.uk/event/iat-level-2-148/
LOCATION:North Yorkshire
CATEGORIES:IAT Level II
END:VEVENT
BEGIN:VEVENT
DTSTART;TZID=Europe/London:20180531T080000
DTEND;TZID=Europe/London:20180531T123000
DTSTAMP:20260424T162638
CREATED:20180201T132643Z
LAST-MODIFIED:20180201T132643Z
UID:4297-1527753600-1527769800@www.learningcurvedevelopment.co.uk
SUMMARY:IAT Level 3
DESCRIPTION:Level 3 Diploma in Laboratory Animal Science & Technology
URL:https://www.learningcurvedevelopment.co.uk/event/iat-level-3-164/
LOCATION:Cambrideshire
CATEGORIES:IAT Level III
END:VEVENT
BEGIN:VEVENT
DTSTART;TZID=Europe/London:20180525T080000
DTEND;TZID=Europe/London:20180525T120000
DTSTAMP:20260424T162638
CREATED:20180201T132558Z
LAST-MODIFIED:20180201T132558Z
UID:4295-1527235200-1527249600@www.learningcurvedevelopment.co.uk
SUMMARY:IAT Level 3
DESCRIPTION:Level 3 Diploma in Laboratory Animal Science & Technology
URL:https://www.learningcurvedevelopment.co.uk/event/iat-level-3-163/
LOCATION:Central London\, United Kingdom
CATEGORIES:IAT Level III
END:VEVENT
BEGIN:VEVENT
DTSTART;TZID=Europe/London:20180522T080000
DTEND;TZID=Europe/London:20180522T120000
DTSTAMP:20260424T162638
CREATED:20180201T132307Z
LAST-MODIFIED:20180201T132307Z
UID:4289-1526976000-1526990400@www.learningcurvedevelopment.co.uk
SUMMARY:IAT Level 2
DESCRIPTION:Level 2 Diploma in Laboratory Animal Science & Technology
URL:https://www.learningcurvedevelopment.co.uk/event/iat-level-2-147/
LOCATION:Cambrideshire
CATEGORIES:IAT Level II
END:VEVENT
BEGIN:VEVENT
DTSTART;VALUE=DATE:20180522
DTEND;VALUE=DATE:20180525
DTSTAMP:20260424T162638
CREATED:20170824T084742Z
LAST-MODIFIED:20170824T085014Z
UID:3930-1526947200-1527206399@www.learningcurvedevelopment.co.uk
SUMMARY:Home Office E1/L PIL ABC
DESCRIPTION:Royal Society of Biology accredited Home Office E1/L PIL ABC training\, delivered over three days. \nParticipants may attend for E1/L\, E1/L PIL AB\, E1/L PIL ABC or PIL C\, depending on their needs.  Please discuss this when you make your booking
URL:https://www.learningcurvedevelopment.co.uk/event/home-office-e1l-pil-abc-8/
LOCATION:Kings College London\, London\, United Kingdom
CATEGORIES:PIL AB,PIL ABC
ORGANIZER;CN="Gill":MAILTO:Info@LearningCurveDevelopment.co.uk
END:VEVENT
BEGIN:VEVENT
DTSTART;TZID=Europe/London:20180521T123000
DTEND;TZID=Europe/London:20180521T170000
DTSTAMP:20260424T162638
CREATED:20180201T132513Z
LAST-MODIFIED:20180201T132513Z
UID:4293-1526905800-1526922000@www.learningcurvedevelopment.co.uk
SUMMARY:IAT Level 3
DESCRIPTION:Level 3 Diploma in Laboratory Animal Science & Technology
URL:https://www.learningcurvedevelopment.co.uk/event/iat-level-3-162/
LOCATION:Central London\, United Kingdom
CATEGORIES:IAT Level III
END:VEVENT
BEGIN:VEVENT
DTSTART;TZID=Europe/London:20180521T080000
DTEND;TZID=Europe/London:20180521T120000
DTSTAMP:20260424T162638
CREATED:20180201T132230Z
LAST-MODIFIED:20180201T132230Z
UID:4287-1526889600-1526904000@www.learningcurvedevelopment.co.uk
SUMMARY:IAT Level 2
DESCRIPTION:Level 2 Diploma in Laboratory Animal Science & Technology
URL:https://www.learningcurvedevelopment.co.uk/event/iat-level-2-146/
LOCATION:Central London\, United Kingdom
CATEGORIES:IAT Level II
END:VEVENT
BEGIN:VEVENT
DTSTART;TZID=Europe/London:20180518T123000
DTEND;TZID=Europe/London:20180518T170000
DTSTAMP:20260424T162638
CREATED:20180201T131410Z
LAST-MODIFIED:20180201T131410Z
UID:4281-1526646600-1526662800@www.learningcurvedevelopment.co.uk
SUMMARY:IAT Level 3
DESCRIPTION:Level 3 Diploma in Laboratory Animal Science & Technology
URL:https://www.learningcurvedevelopment.co.uk/event/iat-level-3-161/
LOCATION:North Yorkshire
CATEGORIES:IAT Level III
END:VEVENT
BEGIN:VEVENT
DTSTART;TZID=Europe/London:20180518T080000
DTEND;TZID=Europe/London:20180518T120000
DTSTAMP:20260424T162638
CREATED:20180201T132151Z
LAST-MODIFIED:20180201T132151Z
UID:4285-1526630400-1526644800@www.learningcurvedevelopment.co.uk
SUMMARY:IAT Level 2
DESCRIPTION:Level 2 Diploma in Laboratory Animal Science & Technology
URL:https://www.learningcurvedevelopment.co.uk/event/iat-level-2-145/
LOCATION:North Yorkshire
CATEGORIES:IAT Level II
END:VEVENT
BEGIN:VEVENT
DTSTART;TZID=Europe/London:20180517T080000
DTEND;TZID=Europe/London:20180517T120000
DTSTAMP:20260424T162638
CREATED:20180201T131323Z
LAST-MODIFIED:20180201T131323Z
UID:4279-1526544000-1526558400@www.learningcurvedevelopment.co.uk
SUMMARY:IAT Level 3
DESCRIPTION:Level 3 Diploma in Laboratory Animal Science & Technology
URL:https://www.learningcurvedevelopment.co.uk/event/iat-level-3-160/
LOCATION:Cambrideshire
CATEGORIES:IAT Level III
END:VEVENT
BEGIN:VEVENT
DTSTART;TZID=Europe/London:20180514T123000
DTEND;TZID=Europe/London:20180514T170000
DTSTAMP:20260424T162638
CREATED:20180201T131215Z
LAST-MODIFIED:20180201T131215Z
UID:4277-1526301000-1526317200@www.learningcurvedevelopment.co.uk
SUMMARY:IAT Level 3
DESCRIPTION:Level 3 Diploma in Laboratory Animal Science & Technology
URL:https://www.learningcurvedevelopment.co.uk/event/iat-level-3-159/
LOCATION:Oxford
CATEGORIES:IAT Level III
END:VEVENT
BEGIN:VEVENT
DTSTART;TZID=Europe/London:20180514T080000
DTEND;TZID=Europe/London:20180514T120000
DTSTAMP:20260424T162638
CREATED:20180201T131518Z
LAST-MODIFIED:20180201T131518Z
UID:4283-1526284800-1526299200@www.learningcurvedevelopment.co.uk
SUMMARY:IAT Level 2
DESCRIPTION:Level 2 Diploma in Laboratory Animal Science & Technology
URL:https://www.learningcurvedevelopment.co.uk/event/iat-level-2-144/
LOCATION:Oxford
CATEGORIES:IAT Level II
END:VEVENT
BEGIN:VEVENT
DTSTART;VALUE=DATE:20180514
DTEND;VALUE=DATE:20180516
DTSTAMP:20260424T162638
CREATED:20170824T084045Z
LAST-MODIFIED:20180201T141925Z
UID:3928-1526256000-1526428799@www.learningcurvedevelopment.co.uk
SUMMARY:Home Office E1/L PIL AB
DESCRIPTION:Royal Society of Biology accredited Home Office E1/L PIL AB training\, delivered over two days. \nParticipants may attend for E1/L or E1/L PIL AB depending on their needs.  Please discuss this when you make your booking
URL:https://www.learningcurvedevelopment.co.uk/event/home-office-e1l-pil-ab-6/
LOCATION:Birmingham\, United Kingdom
CATEGORIES:PIL AB
ORGANIZER;CN="Gill":MAILTO:Info@LearningCurveDevelopment.co.uk
END:VEVENT
BEGIN:VEVENT
DTSTART;TZID=Europe/London:20180511T080000
DTEND;TZID=Europe/London:20180511T120000
DTSTAMP:20260424T162638
CREATED:20180201T131135Z
LAST-MODIFIED:20180201T131135Z
UID:4275-1526025600-1526040000@www.learningcurvedevelopment.co.uk
SUMMARY:IAT Level 3
DESCRIPTION:Level 3 Diploma in Laboratory Animal Science & Technology
URL:https://www.learningcurvedevelopment.co.uk/event/iat-level-3-158/
LOCATION:Central London\, United Kingdom
CATEGORIES:IAT Level III
END:VEVENT
BEGIN:VEVENT
DTSTART;TZID=Europe/London:20180508T080000
DTEND;TZID=Europe/London:20180508T120000
DTSTAMP:20260424T162638
CREATED:20180201T131040Z
LAST-MODIFIED:20180201T131040Z
UID:4273-1525766400-1525780800@www.learningcurvedevelopment.co.uk
SUMMARY:IAT Level 2
DESCRIPTION:Level 2 Diploma in Laboratory Animal Science & Technology
URL:https://www.learningcurvedevelopment.co.uk/event/iat-level-2-143/
LOCATION:Cambrideshire
CATEGORIES:IAT Level II
END:VEVENT
BEGIN:VEVENT
DTSTART;TZID=Europe/London:20180504T123000
DTEND;TZID=Europe/London:20180504T170000
DTSTAMP:20260424T162638
CREATED:20180201T130638Z
LAST-MODIFIED:20180201T130638Z
UID:4265-1525437000-1525453200@www.learningcurvedevelopment.co.uk
SUMMARY:IAT Level 3
DESCRIPTION:Level 3 Diploma in Laboratory Animal Science & Technology
URL:https://www.learningcurvedevelopment.co.uk/event/iat-level-3-156/
LOCATION:Cambrideshire
CATEGORIES:IAT Level III
END:VEVENT
BEGIN:VEVENT
DTSTART;TZID=Europe/London:20180504T080000
DTEND;TZID=Europe/London:20180504T120000
DTSTAMP:20260424T162638
CREATED:20180201T130948Z
LAST-MODIFIED:20180201T130948Z
UID:4271-1525420800-1525435200@www.learningcurvedevelopment.co.uk
SUMMARY:IAT Level 2
DESCRIPTION:Level 2 Diploma in Laboratory Animal Science & Technology
URL:https://www.learningcurvedevelopment.co.uk/event/iat-level-2-142/
LOCATION:North Yorkshire
CATEGORIES:IAT Level II
END:VEVENT
BEGIN:VEVENT
DTSTART;TZID=Europe/London:20180503T080000
DTEND;TZID=Europe/London:20180503T120000
DTSTAMP:20260424T162638
CREATED:20180201T130812Z
LAST-MODIFIED:20180201T130812Z
UID:4267-1525334400-1525348800@www.learningcurvedevelopment.co.uk
SUMMARY:IAT Level 3
DESCRIPTION:Level 3 Diploma in Laboratory Animal Science & Technology
URL:https://www.learningcurvedevelopment.co.uk/event/iat-level-3-157/
LOCATION:Cambrideshire
CATEGORIES:IAT Level III
END:VEVENT
BEGIN:VEVENT
DTSTART;VALUE=DATE:20180503
DTEND;VALUE=DATE:20180505
DTSTAMP:20260424T162638
CREATED:20170824T083627Z
LAST-MODIFIED:20170824T083627Z
UID:3924-1525305600-1525478399@www.learningcurvedevelopment.co.uk
SUMMARY:Home Office PIL AB\, Additional Species
DESCRIPTION:Royal Society of Biology accredited Home Office E1/L PIL AB training\, delivered over two days. \nSorry\, privately booked.  Please contact TLC for available dates
URL:https://www.learningcurvedevelopment.co.uk/event/home-office-pil-ab-additional-species-2/
CATEGORIES:PIL AB
END:VEVENT
BEGIN:VEVENT
DTSTART;TZID=Europe/London:20180430T123000
DTEND;TZID=Europe/London:20180430T170000
DTSTAMP:20260424T162638
CREATED:20180201T130550Z
LAST-MODIFIED:20180201T130550Z
UID:4263-1525091400-1525107600@www.learningcurvedevelopment.co.uk
SUMMARY:IAT Level 3
DESCRIPTION:Level 3 Diploma in Laboratory Animal Science & Technology
URL:https://www.learningcurvedevelopment.co.uk/event/iat-level-3-155/
LOCATION:Central London\, United Kingdom
CATEGORIES:IAT Level III
END:VEVENT
BEGIN:VEVENT
DTSTART;TZID=Europe/London:20180430T080000
DTEND;TZID=Europe/London:20180430T120000
DTSTAMP:20260424T162638
CREATED:20180201T150146Z
LAST-MODIFIED:20180201T150146Z
UID:4418-1525075200-1525089600@www.learningcurvedevelopment.co.uk
SUMMARY:IAT Level 2
DESCRIPTION:Level 2 Diploma in Laboratory Animal Science & Technology
URL:https://www.learningcurvedevelopment.co.uk/event/iat-level-2-166/
CATEGORIES:IAT Level II
END:VEVENT
BEGIN:VEVENT
DTSTART;VALUE=DATE:20180430
DTEND;VALUE=DATE:20180503
DTSTAMP:20260424T162638
CREATED:20170824T083437Z
LAST-MODIFIED:20170824T083507Z
UID:3922-1525046400-1525305599@www.learningcurvedevelopment.co.uk
SUMMARY:Home Office E1/L PIL ABC
DESCRIPTION:Royal Society of Biology accredited Home Office E1/L PIL ABC training\, delivered over three days. \nSorry\, privately booked.  Please contact TLC for available dates
URL:https://www.learningcurvedevelopment.co.uk/event/home-office-e1l-pil-abc-6/
CATEGORIES:PIL AB,PIL ABC
END:VEVENT
BEGIN:VEVENT
DTSTART;TZID=Europe/London:20180427T080000
DTEND;TZID=Europe/London:20180427T120000
DTSTAMP:20260424T162638
CREATED:20180201T130449Z
LAST-MODIFIED:20180201T130449Z
UID:4261-1524816000-1524830400@www.learningcurvedevelopment.co.uk
SUMMARY:IAT Level 3
DESCRIPTION:Level 3 Diploma in Laboratory Animal Science & Technology
URL:https://www.learningcurvedevelopment.co.uk/event/iat-level-3-154/
LOCATION:Central London\, United Kingdom
CATEGORIES:IAT Level III
END:VEVENT
BEGIN:VEVENT
DTSTART;TZID=Europe/London:20180424T080000
DTEND;TZID=Europe/London:20180424T120000
DTSTAMP:20260424T162638
CREATED:20180201T130302Z
LAST-MODIFIED:20180201T130302Z
UID:4257-1524556800-1524571200@www.learningcurvedevelopment.co.uk
SUMMARY:IAT Level 2
DESCRIPTION:Level 2 Diploma in Laboratory Animal Science & Technology
URL:https://www.learningcurvedevelopment.co.uk/event/iat-level-2-140/
LOCATION:Cambrideshire
CATEGORIES:IAT Level II
END:VEVENT
BEGIN:VEVENT
DTSTART;VALUE=DATE:20180424
DTEND;VALUE=DATE:20180427
DTSTAMP:20260424T162638
CREATED:20170824T083305Z
LAST-MODIFIED:20171120T143013Z
UID:3920-1524528000-1524787199@www.learningcurvedevelopment.co.uk
SUMMARY:Home Office E1/L PIL ABC
DESCRIPTION:Royal Society of Biology accredited Home Office E1/L PIL ABC training\, delivered over three days. \nParticipants may attend for E1/L\, E1/L PIL AB\, E1/L PIL ABC or PIL C\, depending on their needs.  Please discuss this when you make your booking
URL:https://www.learningcurvedevelopment.co.uk/event/home-office-e1l-pil-abc-5/
LOCATION:Kings College London\, London\, United Kingdom
CATEGORIES:PIL AB,PIL ABC
ORGANIZER;CN="Gill":MAILTO:Info@LearningCurveDevelopment.co.uk
END:VEVENT
BEGIN:VEVENT
DTSTART;TZID=Europe/London:20180423T123000
DTEND;TZID=Europe/London:20180423T170000
DTSTAMP:20260424T162638
CREATED:20180201T130353Z
LAST-MODIFIED:20180201T130353Z
UID:4259-1524486600-1524502800@www.learningcurvedevelopment.co.uk
SUMMARY:IAT Level 3
DESCRIPTION:Level 3 Diploma in Laboratory Animal Science & Technology
URL:https://www.learningcurvedevelopment.co.uk/event/iat-level-3-153/
LOCATION:Oxford
CATEGORIES:IAT Level III
END:VEVENT
END:VCALENDAR