BEGIN:VCALENDAR
VERSION:2.0
PRODID:-//The Learning Curve - ECPv6.15.17.1//NONSGML v1.0//EN
CALSCALE:GREGORIAN
METHOD:PUBLISH
X-WR-CALNAME:The Learning Curve
X-ORIGINAL-URL:https://www.learningcurvedevelopment.co.uk
X-WR-CALDESC:Events for The Learning Curve
REFRESH-INTERVAL;VALUE=DURATION:PT1H
X-Robots-Tag:noindex
X-PUBLISHED-TTL:PT1H
BEGIN:VTIMEZONE
TZID:Europe/London
BEGIN:DAYLIGHT
TZOFFSETFROM:+0000
TZOFFSETTO:+0100
TZNAME:BST
DTSTART:20180325T010000
END:DAYLIGHT
BEGIN:STANDARD
TZOFFSETFROM:+0100
TZOFFSETTO:+0000
TZNAME:GMT
DTSTART:20181028T010000
END:STANDARD
BEGIN:DAYLIGHT
TZOFFSETFROM:+0000
TZOFFSETTO:+0100
TZNAME:BST
DTSTART:20190331T010000
END:DAYLIGHT
BEGIN:STANDARD
TZOFFSETFROM:+0100
TZOFFSETTO:+0000
TZNAME:GMT
DTSTART:20191027T010000
END:STANDARD
BEGIN:DAYLIGHT
TZOFFSETFROM:+0000
TZOFFSETTO:+0100
TZNAME:BST
DTSTART:20200329T010000
END:DAYLIGHT
BEGIN:STANDARD
TZOFFSETFROM:+0100
TZOFFSETTO:+0000
TZNAME:GMT
DTSTART:20201025T010000
END:STANDARD
END:VTIMEZONE
BEGIN:VEVENT
DTSTART;VALUE=DATE:20190918
DTEND;VALUE=DATE:20190921
DTSTAMP:20260423T185207
CREATED:20190313T153127Z
LAST-MODIFIED:20190314T115145Z
UID:4757-1568764800-1569023999@www.learningcurvedevelopment.co.uk
SUMMARY:Home Office E1/L\, PIL ABC
DESCRIPTION:Royal Society of Biology accredited Home Office E1/L PIL ABC training\, delivered over three days. \nSorry\, privately booked.
URL:https://www.learningcurvedevelopment.co.uk/event/home-office-e1-l-pil-ab-21/
LOCATION:Central London\, United Kingdom
CATEGORIES:PIL ABC
ORGANIZER;CN="Gill":MAILTO:Info@LearningCurveDevelopment.co.uk
END:VEVENT
BEGIN:VEVENT
DTSTART;VALUE=DATE:20190918
DTEND;VALUE=DATE:20190920
DTSTAMP:20260423T185207
CREATED:20190314T115606Z
LAST-MODIFIED:20190314T115606Z
UID:4767-1568764800-1568937599@www.learningcurvedevelopment.co.uk
SUMMARY:Home Office E1/L\, PIL AB
DESCRIPTION:Royal Society of Biology accredited Home Office E1/L PIL AB training\, delivered over two days. \nSorry\, privately booked.
URL:https://www.learningcurvedevelopment.co.uk/event/home-office-e1-l-pil-ab-22/
LOCATION:Central London\, United Kingdom
CATEGORIES:PIL AB
ORGANIZER;CN="Gill":MAILTO:Info@LearningCurveDevelopment.co.uk
END:VEVENT
BEGIN:VEVENT
DTSTART;TZID=Europe/London:20190917T090000
DTEND;TZID=Europe/London:20190917T130000
DTSTAMP:20260423T185207
CREATED:20190522T102239Z
LAST-MODIFIED:20190522T102433Z
UID:4790-1568710800-1568725200@www.learningcurvedevelopment.co.uk
SUMMARY:PPL Review for AWERB
DESCRIPTION:Interactive and participative workshop for named persons and those new to Project Licence (PPL) review.  Please contact TLC for more information.
URL:https://www.learningcurvedevelopment.co.uk/event/ppl-review-for-awerb-2/
LOCATION:Central London\, United Kingdom
CATEGORIES:PPL Review
ORGANIZER;CN="Gill":MAILTO:Info@LearningCurveDevelopment.co.uk
END:VEVENT
BEGIN:VEVENT
DTSTART;VALUE=DATE:20190916
DTEND;VALUE=DATE:20190918
DTSTAMP:20260423T185207
CREATED:20181122T135327Z
LAST-MODIFIED:20190314T115408Z
UID:4624-1568592000-1568764799@www.learningcurvedevelopment.co.uk
SUMMARY:Home Office E1/L\, PIL AB
DESCRIPTION:Royal Society of Biology accredited Home Office E1/L PIL AB training\, delivered over two days. \nSorry\, privately booked.
URL:https://www.learningcurvedevelopment.co.uk/event/home-office-e1-l-pil-abc-16/
LOCATION:Central London\, United Kingdom
CATEGORIES:PIL AB
ORGANIZER;CN="Gill":MAILTO:Info@LearningCurveDevelopment.co.uk
END:VEVENT
BEGIN:VEVENT
DTSTART;VALUE=DATE:20190911
DTEND;VALUE=DATE:20190912
DTSTAMP:20260423T185207
CREATED:20180808T094954Z
LAST-MODIFIED:20190204T094917Z
UID:4572-1568160000-1568246399@www.learningcurvedevelopment.co.uk
SUMMARY:Named Information Officer
DESCRIPTION:One-day interactive workshop for Named Information Officers (NIO)\, whether new or experienced in their role
URL:https://www.learningcurvedevelopment.co.uk/event/named-information-officer-3/
LOCATION:Central London\, United Kingdom
CATEGORIES:NIO
ORGANIZER;CN="Gill":MAILTO:Info@LearningCurveDevelopment.co.uk
END:VEVENT
BEGIN:VEVENT
DTSTART;VALUE=DATE:20190909
DTEND;VALUE=DATE:20190911
DTSTAMP:20260423T185207
CREATED:20181122T130938Z
LAST-MODIFIED:20190204T094802Z
UID:4603-1567987200-1568159999@www.learningcurvedevelopment.co.uk
SUMMARY:Home Office E1/L\, PIL AB
DESCRIPTION:Royal Society of Biology accredited Home Office E1/L PIL AB training\, delivered over two days. \nParticipants may attend for E1/L\, E1/L PIL AB\, depending on their needs. Please discuss this when you make your booking
URL:https://www.learningcurvedevelopment.co.uk/event/home-office-e1-l-pil-ab-15/
LOCATION:Birmingham\, United Kingdom
CATEGORIES:PIL AB
ORGANIZER;CN="Gill":MAILTO:Info@LearningCurveDevelopment.co.uk
END:VEVENT
BEGIN:VEVENT
DTSTART;VALUE=DATE:20190902
DTEND;VALUE=DATE:20190903
DTSTAMP:20260423T185207
CREATED:20190703T122236Z
LAST-MODIFIED:20190703T122236Z
UID:4816-1567382400-1567468799@www.learningcurvedevelopment.co.uk
SUMMARY:PPL Review for AWERB
DESCRIPTION:Interactive and participative workshop for named persons and those new to Project Licence (PPL) review. \nSorry privately booked\, please look at the calendar or contact TLC for more information on other available dates.
URL:https://www.learningcurvedevelopment.co.uk/event/ppl-review-for-awerb-3/
LOCATION:Cambridge\, United Kingdom
CATEGORIES:PPL Review
ORGANIZER;CN="Gill":MAILTO:Info@LearningCurveDevelopment.co.uk
END:VEVENT
BEGIN:VEVENT
DTSTART;VALUE=DATE:20190723
DTEND;VALUE=DATE:20190726
DTSTAMP:20260423T185207
CREATED:20190314T120015Z
LAST-MODIFIED:20190314T120015Z
UID:4769-1563840000-1564099199@www.learningcurvedevelopment.co.uk
SUMMARY:Home Office E1/L\, PIL ABC
DESCRIPTION:Royal Society of Biology accredited Home Office E1/L PIL ABC training\, delivered over three days. \nParticipants may attend for E1/L\, E1/L PIL AB\, E1/L PIL ABC or PIL C\, depending on their needs. Please discuss this when you make your booking
URL:https://www.learningcurvedevelopment.co.uk/event/home-office-e1-l-pil-abc-17/
LOCATION:Central London\, United Kingdom
CATEGORIES:PIL ABC
ORGANIZER;CN="Gill":MAILTO:Info@LearningCurveDevelopment.co.uk
END:VEVENT
BEGIN:VEVENT
DTSTART;VALUE=DATE:20190723
DTEND;VALUE=DATE:20190726
DTSTAMP:20260423T185207
CREATED:20180808T094827Z
LAST-MODIFIED:20180808T094827Z
UID:4570-1563840000-1564099199@www.learningcurvedevelopment.co.uk
SUMMARY:Home Office E1/L\, PIL ABC
DESCRIPTION:Royal Society of Biology accredited Home Office E1/L PIL ABC training\, delivered over three days. \nParticipants may attend for E1/L\, E1/L PIL AB\, E1/L PIL ABC or PIL C\, depending on their needs.  Please discuss this when you make your booking
URL:https://www.learningcurvedevelopment.co.uk/event/home-office-e1-l-pil-abc-15/
LOCATION:Central London\, United Kingdom
CATEGORIES:PIL ABC
ORGANIZER;CN="Gill":MAILTO:Info@LearningCurveDevelopment.co.uk
END:VEVENT
BEGIN:VEVENT
DTSTART;VALUE=DATE:20190708
DTEND;VALUE=DATE:20190710
DTSTAMP:20260423T185207
CREATED:20181122T130812Z
LAST-MODIFIED:20190204T094637Z
UID:4601-1562544000-1562716799@www.learningcurvedevelopment.co.uk
SUMMARY:Home Office E1/L\, PIL AB
DESCRIPTION:Royal Society of Biology accredited Home Office E1/L PIL AB training\, delivered over two days. \nParticipants may attend for E1/L\, E1/L PIL AB\, depending on their needs. Please discuss this when you make your booking
URL:https://www.learningcurvedevelopment.co.uk/event/home-office-e1-l-pil-ab-14/
LOCATION:Birmingham\, United Kingdom
CATEGORIES:PIL AB
ORGANIZER;CN="Gill":MAILTO:Info@LearningCurveDevelopment.co.uk
END:VEVENT
BEGIN:VEVENT
DTSTART;VALUE=DATE:20190627
DTEND;VALUE=DATE:20190628
DTSTAMP:20260423T185207
CREATED:20190522T103038Z
LAST-MODIFIED:20190522T103233Z
UID:4795-1561593600-1561679999@www.learningcurvedevelopment.co.uk
SUMMARY:Anatomy and Necropsy Techniques (Rodents)
DESCRIPTION:This interactive workshop teaches correct use of equipment\, preparation of a rodent carcass\, organ identification and completing a necropsy report.  (Sorry privately booked\, contact us if you are interested in future workshops).
URL:https://www.learningcurvedevelopment.co.uk/event/anatomy-and-necropsy-techniques-rodents/
LOCATION:Nottingham
CATEGORIES:Necropsy
ORGANIZER;CN="Gill":MAILTO:Info@LearningCurveDevelopment.co.uk
END:VEVENT
BEGIN:VEVENT
DTSTART;VALUE=DATE:20190626
DTEND;VALUE=DATE:20190628
DTSTAMP:20260423T185207
CREATED:20190204T093518Z
LAST-MODIFIED:20190204T093518Z
UID:4637-1561507200-1561679999@www.learningcurvedevelopment.co.uk
SUMMARY:NACWO Workshop
DESCRIPTION:NACWO two-day interactive workshop accredited by the Institute of Animal Technology
URL:https://www.learningcurvedevelopment.co.uk/event/nacwo-workshop-29/
LOCATION:Harrogate
CATEGORIES:NACWO
ORGANIZER;CN="Gill":MAILTO:Info@LearningCurveDevelopment.co.uk
END:VEVENT
BEGIN:VEVENT
DTSTART;VALUE=DATE:20190625
DTEND;VALUE=DATE:20190628
DTSTAMP:20260423T185207
CREATED:20180808T094719Z
LAST-MODIFIED:20180808T094719Z
UID:4568-1561420800-1561679999@www.learningcurvedevelopment.co.uk
SUMMARY:Home Office E1/L\, PIL ABC
DESCRIPTION:Royal Society of Biology accredited Home Office E1/L PIL ABC training\, delivered over three days. \nParticipants may attend for E1/L\, E1/L PIL AB\, E1/L PIL ABC or PIL C\, depending on their needs.  Please discuss this when you make your booking
URL:https://www.learningcurvedevelopment.co.uk/event/home-office-e1-l-pil-abc-14/
LOCATION:Central London\, United Kingdom
CATEGORIES:PIL ABC
ORGANIZER;CN="Gill":MAILTO:Info@LearningCurveDevelopment.co.uk
END:VEVENT
BEGIN:VEVENT
DTSTART;VALUE=DATE:20190528
DTEND;VALUE=DATE:20190531
DTSTAMP:20260423T185207
CREATED:20180808T094350Z
LAST-MODIFIED:20180808T094350Z
UID:4566-1559001600-1559260799@www.learningcurvedevelopment.co.uk
SUMMARY:Home Office E1/L\, PIL ABC
DESCRIPTION:Royal Society of Biology accredited Home Office E1/L PIL ABC training\, delivered over three days. \nParticipants may attend for E1/L\, E1/L PIL AB\, E1/L PIL ABC or PIL C\, depending on their needs.  Please discuss this when you make your booking
URL:https://www.learningcurvedevelopment.co.uk/event/home-office-e1-l-pil-abc-13/
LOCATION:Central London\, United Kingdom
CATEGORIES:PIL ABC
ORGANIZER;CN="Gill":MAILTO:Info@LearningCurveDevelopment.co.uk
END:VEVENT
BEGIN:VEVENT
DTSTART;VALUE=DATE:20190513
DTEND;VALUE=DATE:20190515
DTSTAMP:20260423T185207
CREATED:20181122T130637Z
LAST-MODIFIED:20190204T094458Z
UID:4599-1557705600-1557878399@www.learningcurvedevelopment.co.uk
SUMMARY:Home Office E1/L\, PIL AB
DESCRIPTION:Royal Society of Biology accredited Home Office E1/L PIL AB training\, delivered over two days. \nParticipants may attend for E1/L\, E1/L PIL AB\, depending on their needs. Please discuss this when you make your booking
URL:https://www.learningcurvedevelopment.co.uk/event/home-office-e1-l-pil-ab-13/
LOCATION:Birmingham\, United Kingdom
CATEGORIES:PIL AB
ORGANIZER;CN="Gill":MAILTO:Info@LearningCurveDevelopment.co.uk
END:VEVENT
BEGIN:VEVENT
DTSTART;VALUE=DATE:20190513
DTEND;VALUE=DATE:20190514
DTSTAMP:20260423T185207
CREATED:20181122T125731Z
LAST-MODIFIED:20190204T094303Z
UID:4593-1557705600-1557791999@www.learningcurvedevelopment.co.uk
SUMMARY:Theatre Technician Workshop
DESCRIPTION:Full-day\, interactive Theatre Technician Workshop
URL:https://www.learningcurvedevelopment.co.uk/event/theatre-technician-workshop-3/
LOCATION:London
CATEGORIES:Theatre Technician
ORGANIZER;CN="Gill":MAILTO:Info@LearningCurveDevelopment.co.uk
END:VEVENT
BEGIN:VEVENT
DTSTART;VALUE=DATE:20190429
DTEND;VALUE=DATE:20190501
DTSTAMP:20260423T185207
CREATED:20190208T145310Z
LAST-MODIFIED:20190208T145310Z
UID:4664-1556496000-1556668799@www.learningcurvedevelopment.co.uk
SUMMARY:NACWO Workshop
DESCRIPTION:NACWO two-day interactive workshop accredited by the Institute of Animal Technology
URL:https://www.learningcurvedevelopment.co.uk/event/nacwo-workshop-30/
LOCATION:London
CATEGORIES:NACWO
ORGANIZER;CN="Gill":MAILTO:Info@LearningCurveDevelopment.co.uk
END:VEVENT
BEGIN:VEVENT
DTSTART;VALUE=DATE:20190423
DTEND;VALUE=DATE:20190426
DTSTAMP:20260423T185207
CREATED:20180808T094132Z
LAST-MODIFIED:20180808T094132Z
UID:4564-1555977600-1556236799@www.learningcurvedevelopment.co.uk
SUMMARY:Home Office E1/L\, PIL ABC
DESCRIPTION:Royal Society of Biology accredited Home Office E1/L PIL ABC training\, delivered over three days. \nParticipants may attend for E1/L\, E1/L PIL AB\, E1/L PIL ABC or PIL C\, depending on their needs.  Please discuss this when you make your booking
URL:https://www.learningcurvedevelopment.co.uk/event/home-office-e1-l-pil-abc-12/
LOCATION:Central London\, United Kingdom
CATEGORIES:PIL ABC
ORGANIZER;CN="Gill":MAILTO:Info@LearningCurveDevelopment.co.uk
END:VEVENT
BEGIN:VEVENT
DTSTART;VALUE=DATE:20190409
DTEND;VALUE=DATE:20190412
DTSTAMP:20260423T185207
CREATED:20190307T064027Z
LAST-MODIFIED:20190307T072606Z
UID:4719-1554768000-1555027199@www.learningcurvedevelopment.co.uk
SUMMARY:IAT Congress 2019
DESCRIPTION:TLC will be at Congress 2019 where we will be launching our distance learning courses for IAT diplomas\, available from May 2019!  Come and say hello
URL:https://www.learningcurvedevelopment.co.uk/event/iat-congress-2019/
END:VEVENT
BEGIN:VEVENT
DTSTART;VALUE=DATE:20190326
DTEND;VALUE=DATE:20190329
DTSTAMP:20260423T185207
CREATED:20180808T094004Z
LAST-MODIFIED:20180808T094004Z
UID:4562-1553558400-1553817599@www.learningcurvedevelopment.co.uk
SUMMARY:Home Office E1/L\, PIL ABC
DESCRIPTION:Royal Society of Biology accredited Home Office E1/L PIL ABC training\, delivered over three days. \nParticipants may attend for E1/L\, E1/L PIL AB\, E1/L PIL ABC or PIL C\, depending on their needs.  Please discuss this when you make your booking
URL:https://www.learningcurvedevelopment.co.uk/event/home-office-e1-l-pil-abc-11/
LOCATION:Central London\, United Kingdom
CATEGORIES:PIL ABC
ORGANIZER;CN="Gill":MAILTO:Info@LearningCurveDevelopment.co.uk
END:VEVENT
BEGIN:VEVENT
DTSTART;VALUE=DATE:20190326
DTEND;VALUE=DATE:20190327
DTSTAMP:20260423T185207
CREATED:20190221T144656Z
LAST-MODIFIED:20190221T144656Z
UID:4675-1553558400-1553644799@www.learningcurvedevelopment.co.uk
SUMMARY:PPL Refresher Training
DESCRIPTION:Interactive and participative refresher training course for Project Licence Holders. \nSorry\, this is a privately booked event\, please contact us if you are interested in attending this course\, or require further information.
URL:https://www.learningcurvedevelopment.co.uk/event/ppl-refresher-training/
LOCATION:Hampshire
CATEGORIES:PPL Review
ORGANIZER;CN="Gill":MAILTO:Info@LearningCurveDevelopment.co.uk
END:VEVENT
BEGIN:VEVENT
DTSTART;VALUE=DATE:20190318
DTEND;VALUE=DATE:20190320
DTSTAMP:20260423T185207
CREATED:20181122T130511Z
LAST-MODIFIED:20190204T094156Z
UID:4597-1552867200-1553039999@www.learningcurvedevelopment.co.uk
SUMMARY:Home Office E1/L\, PIL AB
DESCRIPTION:Royal Society of Biology accredited Home Office E1/L PIL AB training\, delivered over two days. \nParticipants may attend for E1/L\, E1/L PIL AB\, depending on their needs. Please discuss this when you make your booking
URL:https://www.learningcurvedevelopment.co.uk/event/home-office-e1-l-pil-ab-12/
LOCATION:Birmingham\, United Kingdom
CATEGORIES:PIL AB
ORGANIZER;CN="Gill":MAILTO:Info@LearningCurveDevelopment.co.uk
END:VEVENT
BEGIN:VEVENT
DTSTART;TZID=Europe/London:20190313T083000
DTEND;TZID=Europe/London:20190313T123000
DTSTAMP:20260423T185207
CREATED:20181212T135959Z
LAST-MODIFIED:20190204T092708Z
UID:4630-1552465800-1552480200@www.learningcurvedevelopment.co.uk
SUMMARY:PPL Review
DESCRIPTION:Interactive and participative workshop for named persons and those new to Project Licence (PPL) review
URL:https://www.learningcurvedevelopment.co.uk/event/ppl-review-14/
LOCATION:London
CATEGORIES:PPL Review
ORGANIZER;CN="Gill":MAILTO:Info@LearningCurveDevelopment.co.uk
END:VEVENT
BEGIN:VEVENT
DTSTART;VALUE=DATE:20190307
DTEND;VALUE=DATE:20190309
DTSTAMP:20260423T185207
CREATED:20181122T131654Z
LAST-MODIFIED:20190207T122602Z
UID:4611-1551916800-1552089599@www.learningcurvedevelopment.co.uk
SUMMARY:Home Office PIL AB\, Additional Species
DESCRIPTION:Royal Society of Biology accredited Home Office E1/L PIL AB training for additional species.\nPlease contact TLC for availability. \n 
URL:https://www.learningcurvedevelopment.co.uk/event/home-office-pil-ab-additional-species-5/
LOCATION:York
CATEGORIES:PIL AB
ORGANIZER;CN="Gill":MAILTO:Info@LearningCurveDevelopment.co.uk
END:VEVENT
BEGIN:VEVENT
DTSTART;VALUE=DATE:20190307
DTEND;VALUE=DATE:20190308
DTSTAMP:20260423T185207
CREATED:20190207T091323Z
LAST-MODIFIED:20190207T091645Z
UID:4656-1551916800-1552003199@www.learningcurvedevelopment.co.uk
SUMMARY:RAnTech Preparation Workshop
DESCRIPTION:To prepare candidates for inclusion in the Register
URL:https://www.learningcurvedevelopment.co.uk/event/rantech-preparation-workshop/
LOCATION:York
CATEGORIES:RAnTech
ORGANIZER;CN="Gill":MAILTO:Info@LearningCurveDevelopment.co.uk
END:VEVENT
BEGIN:VEVENT
DTSTART;TZID=Europe/London:20190305T080000
DTEND;TZID=Europe/London:20190306T170000
DTSTAMP:20260423T185207
CREATED:20181122T131529Z
LAST-MODIFIED:20190207T122451Z
UID:4609-1551772800-1551891600@www.learningcurvedevelopment.co.uk
SUMMARY:Home Office E1/L\, PIL AB
DESCRIPTION:Royal Society of Biology accredited Home Office E1/L PIL AB training\, delivered over two days. \n 
URL:https://www.learningcurvedevelopment.co.uk/event/home-office-e1-l-pil-ab-18/
LOCATION:York
CATEGORIES:PIL AB
ORGANIZER;CN="Gill":MAILTO:Info@LearningCurveDevelopment.co.uk
END:VEVENT
BEGIN:VEVENT
DTSTART;VALUE=DATE:20190225
DTEND;VALUE=DATE:20190228
DTSTAMP:20260423T185207
CREATED:20180808T093818Z
LAST-MODIFIED:20180808T093818Z
UID:4560-1551052800-1551311999@www.learningcurvedevelopment.co.uk
SUMMARY:Home Office E1/L\, PIL ABC
DESCRIPTION:Royal Society of Biology accredited Home Office E1/L PIL ABC training\, delivered over three days. \nParticipants may attend for E1/L\, E1/L PIL AB\, E1/L PIL ABC or PIL C\, depending on their needs.  Please discuss this when you make your booking
URL:https://www.learningcurvedevelopment.co.uk/event/home-office-e1-l-pil-abc-10/
LOCATION:Central London\, United Kingdom
CATEGORIES:PIL ABC
ORGANIZER;CN="Gill":MAILTO:Info@LearningCurveDevelopment.co.uk
END:VEVENT
BEGIN:VEVENT
DTSTART;VALUE=DATE:20190225
DTEND;VALUE=DATE:20190227
DTSTAMP:20260423T185207
CREATED:20181212T130040Z
LAST-MODIFIED:20190204T093754Z
UID:4627-1551052800-1551225599@www.learningcurvedevelopment.co.uk
SUMMARY:NACWO Workshop
DESCRIPTION:NACWO two-day interactive workshop accredited by the Institute of Animal Technology
URL:https://www.learningcurvedevelopment.co.uk/event/nacwo-workshop-28/
LOCATION:Cambridge\, United Kingdom
CATEGORIES:NACWO
ORGANIZER;CN="Gill":MAILTO:Info@LearningCurveDevelopment.co.uk
END:VEVENT
BEGIN:VEVENT
DTSTART;VALUE=DATE:20190220
DTEND;VALUE=DATE:20190222
DTSTAMP:20260423T185207
CREATED:20190218T124212Z
LAST-MODIFIED:20190218T124212Z
UID:4672-1550620800-1550793599@www.learningcurvedevelopment.co.uk
SUMMARY:Home Office E1/L\, PIL AB
DESCRIPTION:Royal Society of Biology accredited Home Office E1/L PIL AB training\, delivered over two days. \nSorry\, privately booked.  Please contact TLC for more available dates
URL:https://www.learningcurvedevelopment.co.uk/event/home-office-e1-l-pil-ab-20/
CATEGORIES:PIL AB
END:VEVENT
BEGIN:VEVENT
DTSTART;TZID=Europe/London:20190219T130000
DTEND;TZID=Europe/London:20190219T163000
DTSTAMP:20260423T185207
CREATED:20190218T123958Z
LAST-MODIFIED:20190218T124308Z
UID:4670-1550581200-1550593800@www.learningcurvedevelopment.co.uk
SUMMARY:PIL Refresher
DESCRIPTION:An interactive workshop to remind PIL holders of their responsibilities.  Sorry\, privately booked.  Please contact TLC for more information
URL:https://www.learningcurvedevelopment.co.uk/event/pil-refresher-6/
CATEGORIES:PIL Review
END:VEVENT
END:VCALENDAR