BEGIN:VCALENDAR
VERSION:2.0
PRODID:-//The Learning Curve - ECPv6.15.17.1//NONSGML v1.0//EN
CALSCALE:GREGORIAN
METHOD:PUBLISH
X-WR-CALNAME:The Learning Curve
X-ORIGINAL-URL:https://www.learningcurvedevelopment.co.uk
X-WR-CALDESC:Events for The Learning Curve
REFRESH-INTERVAL;VALUE=DURATION:PT1H
X-Robots-Tag:noindex
X-PUBLISHED-TTL:PT1H
BEGIN:VTIMEZONE
TZID:Europe/London
BEGIN:DAYLIGHT
TZOFFSETFROM:+0000
TZOFFSETTO:+0100
TZNAME:BST
DTSTART:20180325T010000
END:DAYLIGHT
BEGIN:STANDARD
TZOFFSETFROM:+0100
TZOFFSETTO:+0000
TZNAME:GMT
DTSTART:20181028T010000
END:STANDARD
BEGIN:DAYLIGHT
TZOFFSETFROM:+0000
TZOFFSETTO:+0100
TZNAME:BST
DTSTART:20190331T010000
END:DAYLIGHT
BEGIN:STANDARD
TZOFFSETFROM:+0100
TZOFFSETTO:+0000
TZNAME:GMT
DTSTART:20191027T010000
END:STANDARD
BEGIN:DAYLIGHT
TZOFFSETFROM:+0000
TZOFFSETTO:+0100
TZNAME:BST
DTSTART:20200329T010000
END:DAYLIGHT
BEGIN:STANDARD
TZOFFSETFROM:+0100
TZOFFSETTO:+0000
TZNAME:GMT
DTSTART:20201025T010000
END:STANDARD
BEGIN:DAYLIGHT
TZOFFSETFROM:+0000
TZOFFSETTO:+0100
TZNAME:BST
DTSTART:20210328T010000
END:DAYLIGHT
BEGIN:STANDARD
TZOFFSETFROM:+0100
TZOFFSETTO:+0000
TZNAME:GMT
DTSTART:20211031T010000
END:STANDARD
END:VTIMEZONE
BEGIN:VEVENT
DTSTART;VALUE=DATE:20200218
DTEND;VALUE=DATE:20200220
DTSTAMP:20260423T143147
CREATED:20200109T121137Z
LAST-MODIFIED:20200109T121137Z
UID:4963-1581984000-1582156799@www.learningcurvedevelopment.co.uk
SUMMARY:Home Office E1L\, PIL AB
DESCRIPTION:Royal Society of Biology accredited Home Office E1/L PIL AB training\, delivered over two days. \nSorry privately booked\, please contact us to discuss other available courses or to arrange in-house training
URL:https://www.learningcurvedevelopment.co.uk/event/home-office-e1l-pil-ab-11/
LOCATION:Essex
CATEGORIES:PIL AB
ORGANIZER;CN="Gill":MAILTO:Info@LearningCurveDevelopment.co.uk
END:VEVENT
BEGIN:VEVENT
DTSTART;VALUE=DATE:20200212
DTEND;VALUE=DATE:20200214
DTSTAMP:20260423T143147
CREATED:20191107T113227Z
LAST-MODIFIED:20191107T113227Z
UID:4909-1581465600-1581638399@www.learningcurvedevelopment.co.uk
SUMMARY:Home Office E1/L\, PIL AB
DESCRIPTION:Royal Society of Biology accredited Home Office E1/L PIL AB training\, delivered over two days. \nParticipants may attend for E1/L or E1/L PIL AB depending on their needs. Please discuss this when you make your booking
URL:https://www.learningcurvedevelopment.co.uk/event/home-office-e1-l-pil-ab-26/
LOCATION:Nottingham
CATEGORIES:PIL AB
ORGANIZER;CN="Gill":MAILTO:Info@LearningCurveDevelopment.co.uk
END:VEVENT
BEGIN:VEVENT
DTSTART;VALUE=DATE:20200210
DTEND;VALUE=DATE:20200212
DTSTAMP:20260423T143147
CREATED:20191107T113059Z
LAST-MODIFIED:20191107T113059Z
UID:4907-1581292800-1581465599@www.learningcurvedevelopment.co.uk
SUMMARY:Home Office E1/L\, PIL AB
DESCRIPTION:Royal Society of Biology accredited Home Office E1/L PIL AB training\, delivered over two days. \nParticipants may attend for E1/L or E1/L PIL AB depending on their needs. Please discuss this when you make your booking
URL:https://www.learningcurvedevelopment.co.uk/event/home-office-e1-l-pil-ab-25/
LOCATION:Nottingham
CATEGORIES:PIL AB
ORGANIZER;CN="Gill":MAILTO:Info@LearningCurveDevelopment.co.uk
END:VEVENT
BEGIN:VEVENT
DTSTART;VALUE=DATE:20200205
DTEND;VALUE=DATE:20200207
DTSTAMP:20260423T143147
CREATED:20191107T112743Z
LAST-MODIFIED:20191107T112743Z
UID:4904-1580860800-1581033599@www.learningcurvedevelopment.co.uk
SUMMARY:Home Office E1/L\, PIL AB
DESCRIPTION:Royal Society of Biology accredited Home Office E1/L PIL AB training\, delivered over two days. \nParticipants may attend for E1/L or E1/L PIL AB depending on their needs. Please discuss this when you make your booking
URL:https://www.learningcurvedevelopment.co.uk/event/home-office-e1-l-pil-ab-24/
LOCATION:Nottingham
CATEGORIES:PIL AB
ORGANIZER;CN="Gill":MAILTO:Info@LearningCurveDevelopment.co.uk
END:VEVENT
BEGIN:VEVENT
DTSTART;VALUE=DATE:20200128
DTEND;VALUE=DATE:20200131
DTSTAMP:20260423T143147
CREATED:20191107T105610Z
LAST-MODIFIED:20191107T105610Z
UID:4887-1580169600-1580428799@www.learningcurvedevelopment.co.uk
SUMMARY:Home Office E1/L\, PIL ABC
DESCRIPTION:Royal Society of Biology accredited Home Office E1/L PIL ABC training\, delivered over three days. \nParticipants may attend for E1/L\, E1/L PIL AB\, E1/L PIL ABC or PIL C\, depending on their needs. Please discuss this when you make your booking
URL:https://www.learningcurvedevelopment.co.uk/event/home-office-e1-l-pil-abc-22/
LOCATION:Central London\, United Kingdom
CATEGORIES:PIL ABC
ORGANIZER;CN="Gill":MAILTO:Info@LearningCurveDevelopment.co.uk
END:VEVENT
BEGIN:VEVENT
DTSTART;VALUE=DATE:20200121
DTEND;VALUE=DATE:20200123
DTSTAMP:20260423T143147
CREATED:20191014T105000Z
LAST-MODIFIED:20191220T130152Z
UID:4880-1579564800-1579737599@www.learningcurvedevelopment.co.uk
SUMMARY:NACWO Workshop
DESCRIPTION:NACWO two-day interactive workshop accredited by the Institute of Animal Technology \nSorry\, privately booked. Please contact TLC for more available dates or to organise an in-house event
URL:https://www.learningcurvedevelopment.co.uk/event/nacwo-workshop-32/
LOCATION:Newcastle
CATEGORIES:NACWO
ORGANIZER;CN="Gill":MAILTO:Info@LearningCurveDevelopment.co.uk
END:VEVENT
BEGIN:VEVENT
DTSTART;VALUE=DATE:20200116
DTEND;VALUE=DATE:20200117
DTSTAMP:20260423T143148
CREATED:20191125T092510Z
LAST-MODIFIED:20191125T092510Z
UID:4922-1579132800-1579219199@www.learningcurvedevelopment.co.uk
SUMMARY:Principles of Training\, Mentoring and Assessing
DESCRIPTION:Interactive workshop with exercises that teach the skills required to train others and assess competence in the workplace. \nSorry\, privately booked. Please contact TLC for more available dates or to organise an in-house event
URL:https://www.learningcurvedevelopment.co.uk/event/principles-of-training-mentoring-and-assessing-11/
LOCATION:Hampshire
CATEGORIES:Workplace Training
ORGANIZER;CN="Gill":MAILTO:Info@LearningCurveDevelopment.co.uk
END:VEVENT
BEGIN:VEVENT
DTSTART;VALUE=DATE:20200106
DTEND;VALUE=DATE:20200108
DTSTAMP:20260423T143148
CREATED:20191125T093024Z
LAST-MODIFIED:20191127T135159Z
UID:4924-1578268800-1578441599@www.learningcurvedevelopment.co.uk
SUMMARY:Home Office E1L\, PIL AB
DESCRIPTION:Royal Society of Biology accredited Home Office E1/L PIL AB training\, delivered over two days. \nParticipants may attend for E1/L or E1/L PIL AB\, depending on their needs. Please discuss this when you make your booking
URL:https://www.learningcurvedevelopment.co.uk/event/home-office-e1l-pil-ab/
LOCATION:Birmingham\, United Kingdom
CATEGORIES:E1/L,PIL AB
ORGANIZER;CN="Gill":MAILTO:Info@LearningCurveDevelopment.co.uk
END:VEVENT
BEGIN:VEVENT
DTSTART;VALUE=DATE:20191216
DTEND;VALUE=DATE:20191218
DTSTAMP:20260423T143148
CREATED:20191107T112136Z
LAST-MODIFIED:20191107T112136Z
UID:4901-1576454400-1576627199@www.learningcurvedevelopment.co.uk
SUMMARY:Home Office E1/L\, PIL AB
DESCRIPTION:Royal Society of Biology accredited Home Office E1/L PIL AB training\, delivered over two days. \nParticipants may attend for E1/L or E1/L PIL AB\, depending on their needs. Please discuss this when you make your booking
URL:https://www.learningcurvedevelopment.co.uk/event/home-office-e1-l-pil-ab-23/
LOCATION:Birmingham\, United Kingdom
CATEGORIES:PIL AB
ORGANIZER;CN="Gill":MAILTO:Info@LearningCurveDevelopment.co.uk
END:VEVENT
BEGIN:VEVENT
DTSTART;VALUE=DATE:20191210
DTEND;VALUE=DATE:20191213
DTSTAMP:20260423T143148
CREATED:20190314T120358Z
LAST-MODIFIED:20190314T120358Z
UID:4775-1575936000-1576195199@www.learningcurvedevelopment.co.uk
SUMMARY:Home Office E1/L\, PIL ABC
DESCRIPTION:Royal Society of Biology accredited Home Office E1/L PIL ABC training\, delivered over three days. \nParticipants may attend for E1/L\, E1/L PIL AB\, E1/L PIL ABC or PIL C\, depending on their needs. Please discuss this when you make your booking
URL:https://www.learningcurvedevelopment.co.uk/event/home-office-e1-l-pil-abc-20/
LOCATION:Central London\, United Kingdom
CATEGORIES:PIL ABC
ORGANIZER;CN="Gill":MAILTO:Info@LearningCurveDevelopment.co.uk
END:VEVENT
BEGIN:VEVENT
DTSTART;VALUE=DATE:20191206
DTEND;VALUE=DATE:20191207
DTSTAMP:20260423T143148
CREATED:20191107T114125Z
LAST-MODIFIED:20191107T114125Z
UID:4919-1575590400-1575676799@www.learningcurvedevelopment.co.uk
SUMMARY:Home Office PIL AB Additional Species
DESCRIPTION:Royal Society of Biology accredited Home Office  PIL AB training \nPlease contact us to discuss your requirements
URL:https://www.learningcurvedevelopment.co.uk/event/home-office-pil-ab-additional-species-6/
LOCATION:North Yorkshire
CATEGORIES:PIL AB
ORGANIZER;CN="Gill":MAILTO:Info@LearningCurveDevelopment.co.uk
END:VEVENT
BEGIN:VEVENT
DTSTART;VALUE=DATE:20191204
DTEND;VALUE=DATE:20191206
DTSTAMP:20260423T143148
CREATED:20191107T113919Z
LAST-MODIFIED:20191107T113919Z
UID:4917-1575417600-1575590399@www.learningcurvedevelopment.co.uk
SUMMARY:Home Office E1/L\, PIL AB
DESCRIPTION:Royal Society of Biology accredited Home Office E1/L PIL AB training\, delivered over two days. \nParticipants may attend for E1/L or E1/L PIL AB depending on their needs. Please discuss this when you make your booking
URL:https://www.learningcurvedevelopment.co.uk/event/home-office-e1-l-pil-ab-28/
LOCATION:North Yorkshire
CATEGORIES:PIL AB
ORGANIZER;CN="Gill":MAILTO:Info@LearningCurveDevelopment.co.uk
END:VEVENT
BEGIN:VEVENT
DTSTART;VALUE=DATE:20191202
DTEND;VALUE=DATE:20191204
DTSTAMP:20260423T143148
CREATED:20191107T113752Z
LAST-MODIFIED:20191107T113752Z
UID:4914-1575244800-1575417599@www.learningcurvedevelopment.co.uk
SUMMARY:Home Office E1/L\, PIL AB
DESCRIPTION:Royal Society of Biology accredited Home Office E1/L PIL AB training\, delivered over two days. \nParticipants may attend for E1/L or E1/L PIL AB depending on their needs. Please discuss this when you make your booking
URL:https://www.learningcurvedevelopment.co.uk/event/home-office-e1-l-pil-ab-27/
LOCATION:North Yorkshire
CATEGORIES:PIL AB
ORGANIZER;CN="Gill":MAILTO:Info@LearningCurveDevelopment.co.uk
END:VEVENT
BEGIN:VEVENT
DTSTART;VALUE=DATE:20191125
DTEND;VALUE=DATE:20191127
DTSTAMP:20260423T143148
CREATED:20190703T122529Z
LAST-MODIFIED:20190703T122529Z
UID:4818-1574640000-1574812799@www.learningcurvedevelopment.co.uk
SUMMARY:NACWO Workshop
DESCRIPTION:NACWO two-day interactive workshop accredited by the Institute of Animal Technology
URL:https://www.learningcurvedevelopment.co.uk/event/nacwo-workshop-31/
LOCATION:London
CATEGORIES:NACWO
ORGANIZER;CN="Gill":MAILTO:Info@LearningCurveDevelopment.co.uk
END:VEVENT
BEGIN:VEVENT
DTSTART;VALUE=DATE:20191125
DTEND;VALUE=DATE:20191127
DTSTAMP:20260423T143148
CREATED:20181122T131248Z
LAST-MODIFIED:20191107T112326Z
UID:4607-1574640000-1574812799@www.learningcurvedevelopment.co.uk
SUMMARY:Home Office E1/L\, PIL AB
DESCRIPTION:Royal Society of Biology accredited Home Office E1/L PIL AB training\, delivered over two days. \nParticipants may attend for E1/L or E1/L PIL AB depending on their needs. Please discuss this when you make your booking
URL:https://www.learningcurvedevelopment.co.uk/event/home-office-e1-l-pil-ab-17/
LOCATION:Birmingham\, United Kingdom
CATEGORIES:PIL AB
ORGANIZER;CN="Gill":MAILTO:Info@LearningCurveDevelopment.co.uk
END:VEVENT
BEGIN:VEVENT
DTSTART;VALUE=DATE:20191119
DTEND;VALUE=DATE:20191122
DTSTAMP:20260423T143148
CREATED:20190314T120258Z
LAST-MODIFIED:20190314T120258Z
UID:4773-1574121600-1574380799@www.learningcurvedevelopment.co.uk
SUMMARY:Home Office E1/L\, PIL ABC
DESCRIPTION:Royal Society of Biology accredited Home Office E1/L PIL ABC training\, delivered over three days. \nParticipants may attend for E1/L\, E1/L PIL AB\, E1/L PIL ABC or PIL C\, depending on their needs. Please discuss this when you make your booking
URL:https://www.learningcurvedevelopment.co.uk/event/home-office-e1-l-pil-abc-19/
LOCATION:Central London\, United Kingdom
CATEGORIES:PIL ABC
ORGANIZER;CN="Gill":MAILTO:Info@LearningCurveDevelopment.co.uk
END:VEVENT
BEGIN:VEVENT
DTSTART;VALUE=DATE:20191112
DTEND;VALUE=DATE:20191113
DTSTAMP:20260423T143148
CREATED:20190701T142001Z
LAST-MODIFIED:20190701T142029Z
UID:4802-1573516800-1573603199@www.learningcurvedevelopment.co.uk
SUMMARY:Theatre Technician Workshop
DESCRIPTION:Full-day\, interactive Theatre Technician Workshop
URL:https://www.learningcurvedevelopment.co.uk/event/theatre-technician-workshop-4/
LOCATION:Central London\, United Kingdom
CATEGORIES:Theatre Technician
ORGANIZER;CN="Gill":MAILTO:Info@LearningCurveDevelopment.co.uk
END:VEVENT
BEGIN:VEVENT
DTSTART;VALUE=DATE:20191104
DTEND;VALUE=DATE:20191106
DTSTAMP:20260423T143148
CREATED:20191107T113527Z
LAST-MODIFIED:20191107T113527Z
UID:4911-1572825600-1572998399@www.learningcurvedevelopment.co.uk
SUMMARY:NACWO Workshop
DESCRIPTION:NACWO two-day interactive workshop accredited by the Institute of Animal Technology
URL:https://www.learningcurvedevelopment.co.uk/event/nacwo-workshop-33/
LOCATION:Glasgow
CATEGORIES:NACWO
ORGANIZER;CN="Gill":MAILTO:Info@LearningCurveDevelopment.co.uk
END:VEVENT
BEGIN:VEVENT
DTSTART;VALUE=DATE:20191022
DTEND;VALUE=DATE:20191025
DTSTAMP:20260423T143148
CREATED:20190314T120148Z
LAST-MODIFIED:20190314T120148Z
UID:4771-1571702400-1571961599@www.learningcurvedevelopment.co.uk
SUMMARY:Home Office E1/L\, PIL ABC
DESCRIPTION:Royal Society of Biology accredited Home Office E1/L PIL ABC training\, delivered over three days. \nParticipants may attend for E1/L\, E1/L PIL AB\, E1/L PIL ABC or PIL C\, depending on their needs. Please discuss this when you make your booking
URL:https://www.learningcurvedevelopment.co.uk/event/home-office-e1-l-pil-abc-18/
LOCATION:Central London\, United Kingdom
CATEGORIES:PIL ABC
ORGANIZER;CN="Gill":MAILTO:Info@LearningCurveDevelopment.co.uk
END:VEVENT
BEGIN:VEVENT
DTSTART;VALUE=DATE:20191007
DTEND;VALUE=DATE:20191009
DTSTAMP:20260423T143148
CREATED:20181122T131137Z
LAST-MODIFIED:20190204T095223Z
UID:4605-1570406400-1570579199@www.learningcurvedevelopment.co.uk
SUMMARY:Home Office E1/L\, PIL AB
DESCRIPTION:Royal Society of Biology accredited Home Office E1/L PIL ABC training\, delivered over three days. \nParticipants may attend for E1/L\, E1/L PIL AB\, E1/L PIL ABC or PIL C\, depending on their needs. Please discuss this when you make your booking
URL:https://www.learningcurvedevelopment.co.uk/event/home-office-e1-l-pil-ab-16/
LOCATION:Birmingham\, United Kingdom
CATEGORIES:PIL AB
ORGANIZER;CN="Gill":MAILTO:Info@LearningCurveDevelopment.co.uk
END:VEVENT
BEGIN:VEVENT
DTSTART;VALUE=DATE:20190923
DTEND;VALUE=DATE:20190926
DTSTAMP:20260423T143148
CREATED:20190314T120646Z
LAST-MODIFIED:20190314T120737Z
UID:4777-1569196800-1569455999@www.learningcurvedevelopment.co.uk
SUMMARY:Home Office E1/L\, PIL ABC
DESCRIPTION:Royal Society of Biology accredited Home Office E1/L PIL ABC training\, delivered over three days. \nParticipants may attend for E1/L\, E1/L PIL AB\, E1/L PIL ABC or PIL C\, depending on their needs. Please discuss this when you make your booking
URL:https://www.learningcurvedevelopment.co.uk/event/home-office-e1-l-pil-abc-21/
LOCATION:Central London\, United Kingdom
CATEGORIES:PIL ABC
ORGANIZER;CN="Gill":MAILTO:Info@LearningCurveDevelopment.co.uk
END:VEVENT
BEGIN:VEVENT
DTSTART;VALUE=DATE:20190918
DTEND;VALUE=DATE:20190921
DTSTAMP:20260423T143148
CREATED:20190313T153127Z
LAST-MODIFIED:20190314T115145Z
UID:4757-1568764800-1569023999@www.learningcurvedevelopment.co.uk
SUMMARY:Home Office E1/L\, PIL ABC
DESCRIPTION:Royal Society of Biology accredited Home Office E1/L PIL ABC training\, delivered over three days. \nSorry\, privately booked.
URL:https://www.learningcurvedevelopment.co.uk/event/home-office-e1-l-pil-ab-21/
LOCATION:Central London\, United Kingdom
CATEGORIES:PIL ABC
ORGANIZER;CN="Gill":MAILTO:Info@LearningCurveDevelopment.co.uk
END:VEVENT
BEGIN:VEVENT
DTSTART;VALUE=DATE:20190918
DTEND;VALUE=DATE:20190920
DTSTAMP:20260423T143148
CREATED:20190314T115606Z
LAST-MODIFIED:20190314T115606Z
UID:4767-1568764800-1568937599@www.learningcurvedevelopment.co.uk
SUMMARY:Home Office E1/L\, PIL AB
DESCRIPTION:Royal Society of Biology accredited Home Office E1/L PIL AB training\, delivered over two days. \nSorry\, privately booked.
URL:https://www.learningcurvedevelopment.co.uk/event/home-office-e1-l-pil-ab-22/
LOCATION:Central London\, United Kingdom
CATEGORIES:PIL AB
ORGANIZER;CN="Gill":MAILTO:Info@LearningCurveDevelopment.co.uk
END:VEVENT
BEGIN:VEVENT
DTSTART;TZID=Europe/London:20190917T090000
DTEND;TZID=Europe/London:20190917T130000
DTSTAMP:20260423T143148
CREATED:20190522T102239Z
LAST-MODIFIED:20190522T102433Z
UID:4790-1568710800-1568725200@www.learningcurvedevelopment.co.uk
SUMMARY:PPL Review for AWERB
DESCRIPTION:Interactive and participative workshop for named persons and those new to Project Licence (PPL) review.  Please contact TLC for more information.
URL:https://www.learningcurvedevelopment.co.uk/event/ppl-review-for-awerb-2/
LOCATION:Central London\, United Kingdom
CATEGORIES:PPL Review
ORGANIZER;CN="Gill":MAILTO:Info@LearningCurveDevelopment.co.uk
END:VEVENT
BEGIN:VEVENT
DTSTART;VALUE=DATE:20190916
DTEND;VALUE=DATE:20190918
DTSTAMP:20260423T143148
CREATED:20181122T135327Z
LAST-MODIFIED:20190314T115408Z
UID:4624-1568592000-1568764799@www.learningcurvedevelopment.co.uk
SUMMARY:Home Office E1/L\, PIL AB
DESCRIPTION:Royal Society of Biology accredited Home Office E1/L PIL AB training\, delivered over two days. \nSorry\, privately booked.
URL:https://www.learningcurvedevelopment.co.uk/event/home-office-e1-l-pil-abc-16/
LOCATION:Central London\, United Kingdom
CATEGORIES:PIL AB
ORGANIZER;CN="Gill":MAILTO:Info@LearningCurveDevelopment.co.uk
END:VEVENT
BEGIN:VEVENT
DTSTART;VALUE=DATE:20190911
DTEND;VALUE=DATE:20190912
DTSTAMP:20260423T143148
CREATED:20180808T094954Z
LAST-MODIFIED:20190204T094917Z
UID:4572-1568160000-1568246399@www.learningcurvedevelopment.co.uk
SUMMARY:Named Information Officer
DESCRIPTION:One-day interactive workshop for Named Information Officers (NIO)\, whether new or experienced in their role
URL:https://www.learningcurvedevelopment.co.uk/event/named-information-officer-3/
LOCATION:Central London\, United Kingdom
CATEGORIES:NIO
ORGANIZER;CN="Gill":MAILTO:Info@LearningCurveDevelopment.co.uk
END:VEVENT
BEGIN:VEVENT
DTSTART;VALUE=DATE:20190909
DTEND;VALUE=DATE:20190911
DTSTAMP:20260423T143148
CREATED:20181122T130938Z
LAST-MODIFIED:20190204T094802Z
UID:4603-1567987200-1568159999@www.learningcurvedevelopment.co.uk
SUMMARY:Home Office E1/L\, PIL AB
DESCRIPTION:Royal Society of Biology accredited Home Office E1/L PIL AB training\, delivered over two days. \nParticipants may attend for E1/L\, E1/L PIL AB\, depending on their needs. Please discuss this when you make your booking
URL:https://www.learningcurvedevelopment.co.uk/event/home-office-e1-l-pil-ab-15/
LOCATION:Birmingham\, United Kingdom
CATEGORIES:PIL AB
ORGANIZER;CN="Gill":MAILTO:Info@LearningCurveDevelopment.co.uk
END:VEVENT
BEGIN:VEVENT
DTSTART;VALUE=DATE:20190902
DTEND;VALUE=DATE:20190903
DTSTAMP:20260423T143148
CREATED:20190703T122236Z
LAST-MODIFIED:20190703T122236Z
UID:4816-1567382400-1567468799@www.learningcurvedevelopment.co.uk
SUMMARY:PPL Review for AWERB
DESCRIPTION:Interactive and participative workshop for named persons and those new to Project Licence (PPL) review. \nSorry privately booked\, please look at the calendar or contact TLC for more information on other available dates.
URL:https://www.learningcurvedevelopment.co.uk/event/ppl-review-for-awerb-3/
LOCATION:Cambridge\, United Kingdom
CATEGORIES:PPL Review
ORGANIZER;CN="Gill":MAILTO:Info@LearningCurveDevelopment.co.uk
END:VEVENT
BEGIN:VEVENT
DTSTART;VALUE=DATE:20190723
DTEND;VALUE=DATE:20190726
DTSTAMP:20260423T143148
CREATED:20190314T120015Z
LAST-MODIFIED:20190314T120015Z
UID:4769-1563840000-1564099199@www.learningcurvedevelopment.co.uk
SUMMARY:Home Office E1/L\, PIL ABC
DESCRIPTION:Royal Society of Biology accredited Home Office E1/L PIL ABC training\, delivered over three days. \nParticipants may attend for E1/L\, E1/L PIL AB\, E1/L PIL ABC or PIL C\, depending on their needs. Please discuss this when you make your booking
URL:https://www.learningcurvedevelopment.co.uk/event/home-office-e1-l-pil-abc-17/
LOCATION:Central London\, United Kingdom
CATEGORIES:PIL ABC
ORGANIZER;CN="Gill":MAILTO:Info@LearningCurveDevelopment.co.uk
END:VEVENT
BEGIN:VEVENT
DTSTART;VALUE=DATE:20190723
DTEND;VALUE=DATE:20190726
DTSTAMP:20260423T143148
CREATED:20180808T094827Z
LAST-MODIFIED:20180808T094827Z
UID:4570-1563840000-1564099199@www.learningcurvedevelopment.co.uk
SUMMARY:Home Office E1/L\, PIL ABC
DESCRIPTION:Royal Society of Biology accredited Home Office E1/L PIL ABC training\, delivered over three days. \nParticipants may attend for E1/L\, E1/L PIL AB\, E1/L PIL ABC or PIL C\, depending on their needs.  Please discuss this when you make your booking
URL:https://www.learningcurvedevelopment.co.uk/event/home-office-e1-l-pil-abc-15/
LOCATION:Central London\, United Kingdom
CATEGORIES:PIL ABC
ORGANIZER;CN="Gill":MAILTO:Info@LearningCurveDevelopment.co.uk
END:VEVENT
END:VCALENDAR