BEGIN:VCALENDAR
VERSION:2.0
PRODID:-//The Learning Curve - ECPv6.15.17.1//NONSGML v1.0//EN
CALSCALE:GREGORIAN
METHOD:PUBLISH
X-WR-CALNAME:The Learning Curve
X-ORIGINAL-URL:https://www.learningcurvedevelopment.co.uk
X-WR-CALDESC:Events for The Learning Curve
REFRESH-INTERVAL;VALUE=DURATION:PT1H
X-Robots-Tag:noindex
X-PUBLISHED-TTL:PT1H
BEGIN:VTIMEZONE
TZID:Europe/London
BEGIN:DAYLIGHT
TZOFFSETFROM:+0000
TZOFFSETTO:+0100
TZNAME:BST
DTSTART:20180325T010000
END:DAYLIGHT
BEGIN:STANDARD
TZOFFSETFROM:+0100
TZOFFSETTO:+0000
TZNAME:GMT
DTSTART:20181028T010000
END:STANDARD
BEGIN:DAYLIGHT
TZOFFSETFROM:+0000
TZOFFSETTO:+0100
TZNAME:BST
DTSTART:20190331T010000
END:DAYLIGHT
BEGIN:STANDARD
TZOFFSETFROM:+0100
TZOFFSETTO:+0000
TZNAME:GMT
DTSTART:20191027T010000
END:STANDARD
BEGIN:DAYLIGHT
TZOFFSETFROM:+0000
TZOFFSETTO:+0100
TZNAME:BST
DTSTART:20200329T010000
END:DAYLIGHT
BEGIN:STANDARD
TZOFFSETFROM:+0100
TZOFFSETTO:+0000
TZNAME:GMT
DTSTART:20201025T010000
END:STANDARD
BEGIN:DAYLIGHT
TZOFFSETFROM:+0000
TZOFFSETTO:+0100
TZNAME:BST
DTSTART:20210328T010000
END:DAYLIGHT
BEGIN:STANDARD
TZOFFSETFROM:+0100
TZOFFSETTO:+0000
TZNAME:GMT
DTSTART:20211031T010000
END:STANDARD
END:VTIMEZONE
BEGIN:VEVENT
DTSTART;VALUE=DATE:20200921
DTEND;VALUE=DATE:20200926
DTSTAMP:20260423T104146
CREATED:20200701T103508Z
LAST-MODIFIED:20200706T074521Z
UID:5020-1600646400-1601078399@www.learningcurvedevelopment.co.uk
SUMMARY:Home Office E1/L\, PIL ABC Virtual Classroom
DESCRIPTION:Royal Society of Biology accredited Home Office E1/L PIL ABC (theory only) tutor led training \nSorry – privately booked\, contact us for other available dates or to arrange a group booking \nLive teaching sessions delivered online via virtual classroom over five days (E1/L \, PIL AB days 1 to 4: half days\, PIL C day 5: full day)\nParticipants may attend for E1/L\, E1/L PIL AB\, E1/L PIL ABC or PIL C depending on their needs\nPrivate group bookings also available; contact us at info@LearningCurveDevelopment.co.uk to discuss your needs \n 
URL:https://www.learningcurvedevelopment.co.uk/event/home-office-e1-l-pil-abc-webinar-4/
LOCATION:Online Webinar\, United Kingdom
CATEGORIES:E1/L,PIL AB,PIL ABC
ORGANIZER;CN="Gill":MAILTO:Info@LearningCurveDevelopment.co.uk
END:VEVENT
BEGIN:VEVENT
DTSTART;TZID=Europe/London:20200916T120000
DTEND;TZID=Europe/London:20200916T160000
DTSTAMP:20260423T104146
CREATED:20200810T092651Z
LAST-MODIFIED:20200810T093126Z
UID:5051-1600257600-1600272000@www.learningcurvedevelopment.co.uk
SUMMARY:Virtual RAnTech Preparation Workshop
DESCRIPTION:Virtual interactive half day workshop to prepare candidates for inclusion in the Register
URL:https://www.learningcurvedevelopment.co.uk/event/rantech-preparation-workshop-2/
CATEGORIES:RAnTech
ORGANIZER;CN="Gill":MAILTO:Info@LearningCurveDevelopment.co.uk
END:VEVENT
BEGIN:VEVENT
DTSTART;TZID=Europe/London:20200916T093000
DTEND;TZID=Europe/London:20200917T123000
DTSTAMP:20260423T104146
CREATED:20200810T093025Z
LAST-MODIFIED:20200810T093202Z
UID:5053-1600248600-1600345800@www.learningcurvedevelopment.co.uk
SUMMARY:Virtual Named Information Officer Workshop
DESCRIPTION:Two half-day interactive virtual workshop running 16 – 17 September 2020\, for Named Information Officers (NIO)\, whether new or experienced in their role
URL:https://www.learningcurvedevelopment.co.uk/event/named-information-officer-workshop-2/
CATEGORIES:NIO
ORGANIZER;CN="Gill":MAILTO:Info@LearningCurveDevelopment.co.uk
END:VEVENT
BEGIN:VEVENT
DTSTART;VALUE=DATE:20200907
DTEND;VALUE=DATE:20200912
DTSTAMP:20260423T104146
CREATED:20200701T103248Z
LAST-MODIFIED:20200706T074431Z
UID:5018-1599436800-1599868799@www.learningcurvedevelopment.co.uk
SUMMARY:Home Office E1/L\, PIL ABC Virtual Classroom
DESCRIPTION:Royal Society of Biology accredited Home Office E1/L PIL ABC (theory only) tutor led training \n  \nLive teaching session delivered online via virtual classroom over five days (E1/L \, PIL AB days 1 to 4: half days\, PIL C day 5: full day)\nParticipants may attend for E1/L\, E1/L PIL AB\, E1/L PIL ABC or PIL C depending on their needs\nPrivate group bookings also available; contact us at info@LearningCurveDevelopment.co.uk to discuss your needs \n 
URL:https://www.learningcurvedevelopment.co.uk/event/home-office-e1-l-pil-abc-webinar-3/
LOCATION:Online Webinar\, United Kingdom
CATEGORIES:E1/L,PIL AB,PIL ABC
END:VEVENT
BEGIN:VEVENT
DTSTART;VALUE=DATE:20200824
DTEND;VALUE=DATE:20200829
DTSTAMP:20260423T104146
CREATED:20200701T103141Z
LAST-MODIFIED:20200706T074541Z
UID:5016-1598227200-1598659199@www.learningcurvedevelopment.co.uk
SUMMARY:Home Office E1/L\, PIL ABC Virtual Classroom
DESCRIPTION:Royal Society of Biology accredited Home Office E1/L PIL ABC (theory only) tutor led training \n  \nLive teaching sessions delivered online via virtual classroom over five days (E1/L \, PIL AB days 1 to 4: half days\, PIL C day 5: full day)\nParticipants may attend for E1/L\, E1/L PIL AB\, E1/L PIL ABC or PIL C depending on their needs\nPrivate group bookings also available; contact us at info@LearningCurveDevelopment.co.uk to discuss your needs \n 
URL:https://www.learningcurvedevelopment.co.uk/event/home-office-e1-l-pil-abc-webinar-2/
LOCATION:Online Webinar\, United Kingdom
CATEGORIES:E1/L,PIL AB,PIL ABC
ORGANIZER;CN="Gill":MAILTO:Info@LearningCurveDevelopment.co.uk
END:VEVENT
BEGIN:VEVENT
DTSTART;VALUE=DATE:20200810
DTEND;VALUE=DATE:20200815
DTSTAMP:20260423T104146
CREATED:20200701T102936Z
LAST-MODIFIED:20200706T074600Z
UID:5014-1597017600-1597449599@www.learningcurvedevelopment.co.uk
SUMMARY:Home Office E1/L\, PIL ABC Virtual Classroom
DESCRIPTION:Royal Society of Biology accredited Home Office E1/L PIL ABC (theory only) tutor led training \n  \nLive teaching sessions delivered online via virtual classroom over five days (E1/L \, PIL AB days 1 to 4: half days\, PIL C day 5: full day)\nParticipants may attend for E1/L\, E1/L PIL AB\, E1/L PIL ABC or PIL C depending on their needs\nPrivate group bookings also available; contact us at info@LearningCurveDevelopment.co.uk to discuss your needs \n 
URL:https://www.learningcurvedevelopment.co.uk/event/home-office-e1-l-pil-abc-webinar/
LOCATION:Online Webinar\, United Kingdom
CATEGORIES:E1/L,PIL AB,PIL ABC
ORGANIZER;CN="Gill":MAILTO:Info@LearningCurveDevelopment.co.uk
END:VEVENT
BEGIN:VEVENT
DTSTART;VALUE=DATE:20200720
DTEND;VALUE=DATE:20200725
DTSTAMP:20260423T104146
CREATED:20191107T111248Z
LAST-MODIFIED:20200706T074623Z
UID:4899-1595203200-1595635199@www.learningcurvedevelopment.co.uk
SUMMARY:Home Office E1/L\, PIL ABC Virtual Classroom
DESCRIPTION:Royal Society of Biology accredited Home Office E1/L PIL ABC (theory only) tutor led training \n  \nLive teaching sessions delivered online via virtual classroom over five days (E1/L \, PIL AB days 1 to 4: half days\, PIL C day 5: full day)\nParticipants may attend for E1/L\, E1/L PIL AB\, E1/L PIL ABC or PIL C depending on their needs\nPrivate group bookings also available; contact us at info@LearningCurveDevelopment.co.uk to discuss your needs \n 
URL:https://www.learningcurvedevelopment.co.uk/event/home-office-e1-l-pil-abc-28/
LOCATION:Online Webinar\, United Kingdom
CATEGORIES:E1/L,PIL AB,PIL ABC
ORGANIZER;CN="Gill":MAILTO:Info@LearningCurveDevelopment.co.uk
END:VEVENT
BEGIN:VEVENT
DTSTART;VALUE=DATE:20200625
DTEND;VALUE=DATE:20200627
DTSTAMP:20260423T104146
CREATED:20200121T094106Z
LAST-MODIFIED:20200121T095842Z
UID:4980-1593043200-1593215999@www.learningcurvedevelopment.co.uk
SUMMARY:NACWO Workshop
DESCRIPTION:NACWO two-day interactive workshop accredited by the Institute of Animal Technology\, contact us now to secure your booking
URL:https://www.learningcurvedevelopment.co.uk/event/nacwo-workshop-36/
LOCATION:Liverpool
CATEGORIES:NACWO
ORGANIZER;CN="Gill":MAILTO:Info@LearningCurveDevelopment.co.uk
END:VEVENT
BEGIN:VEVENT
DTSTART;VALUE=DATE:20200623
DTEND;VALUE=DATE:20200626
DTSTAMP:20260423T104146
CREATED:20191107T111139Z
LAST-MODIFIED:20191107T111139Z
UID:4897-1592870400-1593129599@www.learningcurvedevelopment.co.uk
SUMMARY:Home Office E1/L\, PIL ABC
DESCRIPTION:Royal Society of Biology accredited Home Office E1/L PIL ABC training\, delivered over three days. \nParticipants may attend for E1/L\, E1/L PIL AB\, E1/L PIL ABC or PIL C\, depending on their needs. Please discuss this when you make your booking
URL:https://www.learningcurvedevelopment.co.uk/event/home-office-e1-l-pil-abc-27/
LOCATION:Central London\, United Kingdom
CATEGORIES:PIL ABC
ORGANIZER;CN="Gill":MAILTO:Info@LearningCurveDevelopment.co.uk
END:VEVENT
BEGIN:VEVENT
DTSTART;VALUE=DATE:20200526
DTEND;VALUE=DATE:20200529
DTSTAMP:20260423T104146
CREATED:20191107T111017Z
LAST-MODIFIED:20191107T111017Z
UID:4895-1590451200-1590710399@www.learningcurvedevelopment.co.uk
SUMMARY:Home Office E1/L\, PIL ABC
DESCRIPTION:Royal Society of Biology accredited Home Office E1/L PIL ABC training\, delivered over three days. \nParticipants may attend for E1/L\, E1/L PIL AB\, E1/L PIL ABC or PIL C\, depending on their needs. Please discuss this when you make your booking
URL:https://www.learningcurvedevelopment.co.uk/event/home-office-e1-l-pil-abc-26/
LOCATION:Central London\, United Kingdom
CATEGORIES:PIL ABC
ORGANIZER;CN="Gill":MAILTO:Info@LearningCurveDevelopment.co.uk
END:VEVENT
BEGIN:VEVENT
DTSTART;VALUE=DATE:20200511
DTEND;VALUE=DATE:20200513
DTSTAMP:20260423T104146
CREATED:20200107T092459Z
LAST-MODIFIED:20200107T092459Z
UID:4959-1589155200-1589327999@www.learningcurvedevelopment.co.uk
SUMMARY:Home Office E1L\, PIL AB
DESCRIPTION:Royal Society of Biology accredited Home Office E1/L PIL AB training\, delivered over two days. \nParticipants may attend for E1/L or E1/L PIL AB\, depending on their needs. Please discuss this when you make your booking
URL:https://www.learningcurvedevelopment.co.uk/event/home-office-e1l-pil-ab-17/
LOCATION:Birmingham\, United Kingdom
CATEGORIES:E1/L,PIL AB
ORGANIZER;CN="Gill":MAILTO:Info@LearningCurveDevelopment.co.uk
END:VEVENT
BEGIN:VEVENT
DTSTART;TZID=Europe/London:20200428T090000
DTEND;TZID=Europe/London:20200428T130000
DTSTAMP:20260423T104146
CREATED:20200121T094803Z
LAST-MODIFIED:20200121T094803Z
UID:4986-1588064400-1588078800@www.learningcurvedevelopment.co.uk
SUMMARY:PPL Review for AWERB
DESCRIPTION:This interactive half-day workshop\, accredited by the Laboratory Animal Science Association provides delegates with the opportunity to learn more about the AWERB process\, its function\, member’s responsibilities and the contribution they can make. Contact us now to secure your booking.
URL:https://www.learningcurvedevelopment.co.uk/event/ppl-review-for-awerb-4/
LOCATION:Central London\, United Kingdom
CATEGORIES:PPL Review
ORGANIZER;CN="Gill":MAILTO:Info@LearningCurveDevelopment.co.uk
END:VEVENT
BEGIN:VEVENT
DTSTART;VALUE=DATE:20200428
DTEND;VALUE=DATE:20200501
DTSTAMP:20260423T104146
CREATED:20191107T110856Z
LAST-MODIFIED:20191107T110856Z
UID:4893-1588032000-1588291199@www.learningcurvedevelopment.co.uk
SUMMARY:Home Office E1/L\, PIL ABC
DESCRIPTION:Royal Society of Biology accredited Home Office E1/L PIL ABC training\, delivered over three days. \nParticipants may attend for E1/L\, E1/L PIL AB\, E1/L PIL ABC or PIL C\, depending on their needs. Please discuss this when you make your booking
URL:https://www.learningcurvedevelopment.co.uk/event/home-office-e1-l-pil-abc-25/
LOCATION:Central London\, United Kingdom
CATEGORIES:PIL ABC
ORGANIZER;CN="Gill":MAILTO:Info@LearningCurveDevelopment.co.uk
END:VEVENT
BEGIN:VEVENT
DTSTART;VALUE=DATE:20200420
DTEND;VALUE=DATE:20200422
DTSTAMP:20260423T104146
CREATED:20200121T093954Z
LAST-MODIFIED:20200121T093954Z
UID:4977-1587340800-1587513599@www.learningcurvedevelopment.co.uk
SUMMARY:NACWO Workshop
DESCRIPTION:NACWO two-day interactive workshop accredited by the Institute of Animal Technology\, contact us now to secure your booking
URL:https://www.learningcurvedevelopment.co.uk/event/nacwo-workshop-35/
LOCATION:Hertfordshire
CATEGORIES:NACWO
ORGANIZER;CN="Gill":MAILTO:Info@LearningCurveDevelopment.co.uk
END:VEVENT
BEGIN:VEVENT
DTSTART;VALUE=DATE:20200408
DTEND;VALUE=DATE:20200409
DTSTAMP:20260423T104146
CREATED:20200225T141412Z
LAST-MODIFIED:20200225T141412Z
UID:5000-1586304000-1586390399@www.learningcurvedevelopment.co.uk
SUMMARY:Principles of Training\, Mentoring and Assessing
DESCRIPTION:Interactive workshop with exercises that teach the skills required to train others and assess competence in the workplace. \nSorry\, privately booked. Please contact TLC for more available dates or to organise an in-house event
URL:https://www.learningcurvedevelopment.co.uk/event/principles-of-training-mentoring-and-assessing-12/
LOCATION:Glasgow
CATEGORIES:Workplace Training
ORGANIZER;CN="Gill":MAILTO:Info@LearningCurveDevelopment.co.uk
END:VEVENT
BEGIN:VEVENT
DTSTART;VALUE=DATE:20200402
DTEND;VALUE=DATE:20200403
DTSTAMP:20260423T104146
CREATED:20200211T122816Z
LAST-MODIFIED:20200211T123044Z
UID:4994-1585785600-1585871999@www.learningcurvedevelopment.co.uk
SUMMARY:Procedure Individual Licence (PIL) Refresher Workshop
DESCRIPTION:An interactive half-day workshop to refresh and update knowledge.  Sorry privately booked\, please contact us if you are interested in running this course in-house.
URL:https://www.learningcurvedevelopment.co.uk/event/procedure-individual-licence-pil-refresher-workshop/
LOCATION:Surrey
CATEGORIES:Legislation Update
END:VEVENT
BEGIN:VEVENT
DTSTART;VALUE=DATE:20200324
DTEND;VALUE=DATE:20200327
DTSTAMP:20260423T104146
CREATED:20191107T110548Z
LAST-MODIFIED:20191107T110548Z
UID:4891-1585008000-1585267199@www.learningcurvedevelopment.co.uk
SUMMARY:Home Office E1/L\, PIL ABC
DESCRIPTION:Royal Society of Biology accredited Home Office E1/L PIL ABC training\, delivered over three days. \nParticipants may attend for E1/L\, E1/L PIL AB\, E1/L PIL ABC or PIL C\, depending on their needs. Please discuss this when you make your booking
URL:https://www.learningcurvedevelopment.co.uk/event/home-office-e1-l-pil-abc-24/
LOCATION:Central London\, United Kingdom
CATEGORIES:PIL ABC
ORGANIZER;CN="Gill":MAILTO:Info@LearningCurveDevelopment.co.uk
END:VEVENT
BEGIN:VEVENT
DTSTART;VALUE=DATE:20200317
DTEND;VALUE=DATE:20200319
DTSTAMP:20260423T104146
CREATED:20191125T093145Z
LAST-MODIFIED:20200107T091944Z
UID:4926-1584403200-1584575999@www.learningcurvedevelopment.co.uk
SUMMARY:Home Office E1L\, PIL AB
DESCRIPTION:Royal Society of Biology accredited Home Office E1/L PIL AB training\, delivered over two days. \nParticipants may attend for E1/L or E1/L PIL AB\, depending on their needs. Please discuss this when you make your booking
URL:https://www.learningcurvedevelopment.co.uk/event/home-office-e1l-pil-ab-3/
LOCATION:Birmingham\, United Kingdom
CATEGORIES:E1/L,PIL AB
ORGANIZER;CN="Gill":MAILTO:Info@LearningCurveDevelopment.co.uk
END:VEVENT
BEGIN:VEVENT
DTSTART;VALUE=DATE:20200303
DTEND;VALUE=DATE:20200304
DTSTAMP:20260423T104146
CREATED:20191014T105551Z
LAST-MODIFIED:20200107T093205Z
UID:4883-1583193600-1583279999@www.learningcurvedevelopment.co.uk
SUMMARY:Principles of Training\, Mentoring and Assessing
DESCRIPTION:Interactive workshop with exercises that teach the skills required to train others and assess competence in the workplace. \nSorry\, privately booked. Please contact TLC for more available dates or to organise an in-house event
URL:https://www.learningcurvedevelopment.co.uk/event/principles-of-training-mentoring-and-assessing-10/
CATEGORIES:Workplace Training
END:VEVENT
BEGIN:VEVENT
DTSTART;VALUE=DATE:20200225
DTEND;VALUE=DATE:20200226
DTSTAMP:20260423T104146
CREATED:20200107T095425Z
LAST-MODIFIED:20200107T095425Z
UID:4961-1582588800-1582675199@www.learningcurvedevelopment.co.uk
SUMMARY:Home Office PIL C
DESCRIPTION:Royal Society of Biology accredited Home Office PIL C one day training course. \nSorry privately booked\, please contact us to discuss other available options.
URL:https://www.learningcurvedevelopment.co.uk/event/home-office-pil-c-2/
LOCATION:Central London\, United Kingdom
CATEGORIES:PIL
ORGANIZER;CN="Gill":MAILTO:Info@LearningCurveDevelopment.co.uk
END:VEVENT
BEGIN:VEVENT
DTSTART;VALUE=DATE:20200224
DTEND;VALUE=DATE:20200227
DTSTAMP:20260423T104146
CREATED:20191107T105727Z
LAST-MODIFIED:20191107T105727Z
UID:4889-1582502400-1582761599@www.learningcurvedevelopment.co.uk
SUMMARY:Home Office E1/L\, PIL ABC
DESCRIPTION:Royal Society of Biology accredited Home Office E1/L PIL ABC training\, delivered over three days. \nParticipants may attend for E1/L\, E1/L PIL AB\, E1/L PIL ABC or PIL C\, depending on their needs. Please discuss this when you make your booking
URL:https://www.learningcurvedevelopment.co.uk/event/home-office-e1-l-pil-abc-23/
LOCATION:Central London\, United Kingdom
CATEGORIES:PIL ABC
ORGANIZER;CN="Gill":MAILTO:Info@LearningCurveDevelopment.co.uk
END:VEVENT
BEGIN:VEVENT
DTSTART;VALUE=DATE:20200218
DTEND;VALUE=DATE:20200220
DTSTAMP:20260423T104146
CREATED:20200109T121137Z
LAST-MODIFIED:20200109T121137Z
UID:4963-1581984000-1582156799@www.learningcurvedevelopment.co.uk
SUMMARY:Home Office E1L\, PIL AB
DESCRIPTION:Royal Society of Biology accredited Home Office E1/L PIL AB training\, delivered over two days. \nSorry privately booked\, please contact us to discuss other available courses or to arrange in-house training
URL:https://www.learningcurvedevelopment.co.uk/event/home-office-e1l-pil-ab-11/
LOCATION:Essex
CATEGORIES:PIL AB
ORGANIZER;CN="Gill":MAILTO:Info@LearningCurveDevelopment.co.uk
END:VEVENT
BEGIN:VEVENT
DTSTART;VALUE=DATE:20200212
DTEND;VALUE=DATE:20200214
DTSTAMP:20260423T104146
CREATED:20191107T113227Z
LAST-MODIFIED:20191107T113227Z
UID:4909-1581465600-1581638399@www.learningcurvedevelopment.co.uk
SUMMARY:Home Office E1/L\, PIL AB
DESCRIPTION:Royal Society of Biology accredited Home Office E1/L PIL AB training\, delivered over two days. \nParticipants may attend for E1/L or E1/L PIL AB depending on their needs. Please discuss this when you make your booking
URL:https://www.learningcurvedevelopment.co.uk/event/home-office-e1-l-pil-ab-26/
LOCATION:Nottingham
CATEGORIES:PIL AB
ORGANIZER;CN="Gill":MAILTO:Info@LearningCurveDevelopment.co.uk
END:VEVENT
BEGIN:VEVENT
DTSTART;VALUE=DATE:20200210
DTEND;VALUE=DATE:20200212
DTSTAMP:20260423T104146
CREATED:20191107T113059Z
LAST-MODIFIED:20191107T113059Z
UID:4907-1581292800-1581465599@www.learningcurvedevelopment.co.uk
SUMMARY:Home Office E1/L\, PIL AB
DESCRIPTION:Royal Society of Biology accredited Home Office E1/L PIL AB training\, delivered over two days. \nParticipants may attend for E1/L or E1/L PIL AB depending on their needs. Please discuss this when you make your booking
URL:https://www.learningcurvedevelopment.co.uk/event/home-office-e1-l-pil-ab-25/
LOCATION:Nottingham
CATEGORIES:PIL AB
ORGANIZER;CN="Gill":MAILTO:Info@LearningCurveDevelopment.co.uk
END:VEVENT
BEGIN:VEVENT
DTSTART;VALUE=DATE:20200205
DTEND;VALUE=DATE:20200207
DTSTAMP:20260423T104146
CREATED:20191107T112743Z
LAST-MODIFIED:20191107T112743Z
UID:4904-1580860800-1581033599@www.learningcurvedevelopment.co.uk
SUMMARY:Home Office E1/L\, PIL AB
DESCRIPTION:Royal Society of Biology accredited Home Office E1/L PIL AB training\, delivered over two days. \nParticipants may attend for E1/L or E1/L PIL AB depending on their needs. Please discuss this when you make your booking
URL:https://www.learningcurvedevelopment.co.uk/event/home-office-e1-l-pil-ab-24/
LOCATION:Nottingham
CATEGORIES:PIL AB
ORGANIZER;CN="Gill":MAILTO:Info@LearningCurveDevelopment.co.uk
END:VEVENT
BEGIN:VEVENT
DTSTART;VALUE=DATE:20200128
DTEND;VALUE=DATE:20200131
DTSTAMP:20260423T104146
CREATED:20191107T105610Z
LAST-MODIFIED:20191107T105610Z
UID:4887-1580169600-1580428799@www.learningcurvedevelopment.co.uk
SUMMARY:Home Office E1/L\, PIL ABC
DESCRIPTION:Royal Society of Biology accredited Home Office E1/L PIL ABC training\, delivered over three days. \nParticipants may attend for E1/L\, E1/L PIL AB\, E1/L PIL ABC or PIL C\, depending on their needs. Please discuss this when you make your booking
URL:https://www.learningcurvedevelopment.co.uk/event/home-office-e1-l-pil-abc-22/
LOCATION:Central London\, United Kingdom
CATEGORIES:PIL ABC
ORGANIZER;CN="Gill":MAILTO:Info@LearningCurveDevelopment.co.uk
END:VEVENT
BEGIN:VEVENT
DTSTART;VALUE=DATE:20200121
DTEND;VALUE=DATE:20200123
DTSTAMP:20260423T104146
CREATED:20191014T105000Z
LAST-MODIFIED:20191220T130152Z
UID:4880-1579564800-1579737599@www.learningcurvedevelopment.co.uk
SUMMARY:NACWO Workshop
DESCRIPTION:NACWO two-day interactive workshop accredited by the Institute of Animal Technology \nSorry\, privately booked. Please contact TLC for more available dates or to organise an in-house event
URL:https://www.learningcurvedevelopment.co.uk/event/nacwo-workshop-32/
LOCATION:Newcastle
CATEGORIES:NACWO
ORGANIZER;CN="Gill":MAILTO:Info@LearningCurveDevelopment.co.uk
END:VEVENT
BEGIN:VEVENT
DTSTART;VALUE=DATE:20200116
DTEND;VALUE=DATE:20200117
DTSTAMP:20260423T104146
CREATED:20191125T092510Z
LAST-MODIFIED:20191125T092510Z
UID:4922-1579132800-1579219199@www.learningcurvedevelopment.co.uk
SUMMARY:Principles of Training\, Mentoring and Assessing
DESCRIPTION:Interactive workshop with exercises that teach the skills required to train others and assess competence in the workplace. \nSorry\, privately booked. Please contact TLC for more available dates or to organise an in-house event
URL:https://www.learningcurvedevelopment.co.uk/event/principles-of-training-mentoring-and-assessing-11/
LOCATION:Hampshire
CATEGORIES:Workplace Training
ORGANIZER;CN="Gill":MAILTO:Info@LearningCurveDevelopment.co.uk
END:VEVENT
BEGIN:VEVENT
DTSTART;VALUE=DATE:20200106
DTEND;VALUE=DATE:20200108
DTSTAMP:20260423T104146
CREATED:20191125T093024Z
LAST-MODIFIED:20191127T135159Z
UID:4924-1578268800-1578441599@www.learningcurvedevelopment.co.uk
SUMMARY:Home Office E1L\, PIL AB
DESCRIPTION:Royal Society of Biology accredited Home Office E1/L PIL AB training\, delivered over two days. \nParticipants may attend for E1/L or E1/L PIL AB\, depending on their needs. Please discuss this when you make your booking
URL:https://www.learningcurvedevelopment.co.uk/event/home-office-e1l-pil-ab/
LOCATION:Birmingham\, United Kingdom
CATEGORIES:E1/L,PIL AB
ORGANIZER;CN="Gill":MAILTO:Info@LearningCurveDevelopment.co.uk
END:VEVENT
BEGIN:VEVENT
DTSTART;VALUE=DATE:20191216
DTEND;VALUE=DATE:20191218
DTSTAMP:20260423T104146
CREATED:20191107T112136Z
LAST-MODIFIED:20191107T112136Z
UID:4901-1576454400-1576627199@www.learningcurvedevelopment.co.uk
SUMMARY:Home Office E1/L\, PIL AB
DESCRIPTION:Royal Society of Biology accredited Home Office E1/L PIL AB training\, delivered over two days. \nParticipants may attend for E1/L or E1/L PIL AB\, depending on their needs. Please discuss this when you make your booking
URL:https://www.learningcurvedevelopment.co.uk/event/home-office-e1-l-pil-ab-23/
LOCATION:Birmingham\, United Kingdom
CATEGORIES:PIL AB
ORGANIZER;CN="Gill":MAILTO:Info@LearningCurveDevelopment.co.uk
END:VEVENT
END:VCALENDAR