BEGIN:VCALENDAR
VERSION:2.0
PRODID:-//The Learning Curve - ECPv6.15.17.1//NONSGML v1.0//EN
CALSCALE:GREGORIAN
METHOD:PUBLISH
X-WR-CALNAME:The Learning Curve
X-ORIGINAL-URL:https://www.learningcurvedevelopment.co.uk
X-WR-CALDESC:Events for The Learning Curve
REFRESH-INTERVAL;VALUE=DURATION:PT1H
X-Robots-Tag:noindex
X-PUBLISHED-TTL:PT1H
BEGIN:VTIMEZONE
TZID:Europe/London
BEGIN:DAYLIGHT
TZOFFSETFROM:+0000
TZOFFSETTO:+0100
TZNAME:BST
DTSTART:20190331T010000
END:DAYLIGHT
BEGIN:STANDARD
TZOFFSETFROM:+0100
TZOFFSETTO:+0000
TZNAME:GMT
DTSTART:20191027T010000
END:STANDARD
BEGIN:DAYLIGHT
TZOFFSETFROM:+0000
TZOFFSETTO:+0100
TZNAME:BST
DTSTART:20200329T010000
END:DAYLIGHT
BEGIN:STANDARD
TZOFFSETFROM:+0100
TZOFFSETTO:+0000
TZNAME:GMT
DTSTART:20201025T010000
END:STANDARD
BEGIN:DAYLIGHT
TZOFFSETFROM:+0000
TZOFFSETTO:+0100
TZNAME:BST
DTSTART:20210328T010000
END:DAYLIGHT
BEGIN:STANDARD
TZOFFSETFROM:+0100
TZOFFSETTO:+0000
TZNAME:GMT
DTSTART:20211031T010000
END:STANDARD
BEGIN:DAYLIGHT
TZOFFSETFROM:+0000
TZOFFSETTO:+0100
TZNAME:BST
DTSTART:20220327T010000
END:DAYLIGHT
BEGIN:STANDARD
TZOFFSETFROM:+0100
TZOFFSETTO:+0000
TZNAME:GMT
DTSTART:20221030T010000
END:STANDARD
END:VTIMEZONE
BEGIN:VEVENT
DTSTART;VALUE=DATE:20210607
DTEND;VALUE=DATE:20210611
DTSTAMP:20260423T042920
CREATED:20201021T085446Z
LAST-MODIFIED:20210625T152727Z
UID:5213-1623024000-1623369599@www.learningcurvedevelopment.co.uk
SUMMARY:Home Office E1/L\, PIL ABC Virtual Classroom
DESCRIPTION:Royal Society of Biology accredited Home Office E1/L PIL ABC (theory only) tutor led training \n  \nLive teaching sessions delivered online via virtual classroom over four days 0900-1500hrs\nE1/L\, PIL AB: days 1 to 3\nPIL C: day 4 \nOnline assessment will take place 1300-1500hrs Wednesday 16 June 2021 \nParticipants may attend for E1/L\, E1/L PIL AB\, E1/L PIL ABC or PIL C depending on their needs\nPrivate group bookings also available; contact us at info@LearningCurveDevelopment.co.uk to discuss your needs
URL:https://www.learningcurvedevelopment.co.uk/event/home-office-e1-l-pil-abc-virtual-classroom-11/
LOCATION:Online Webinar\, United Kingdom
CATEGORIES:E1/L,PIL AB,PIL ABC
ORGANIZER;CN="Gill":MAILTO:Info@LearningCurveDevelopment.co.uk
END:VEVENT
BEGIN:VEVENT
DTSTART;VALUE=DATE:20210524
DTEND;VALUE=DATE:20210528
DTSTAMP:20260423T042920
CREATED:20201021T085321Z
LAST-MODIFIED:20201021T085321Z
UID:5211-1621814400-1622159999@www.learningcurvedevelopment.co.uk
SUMMARY:Home Office E1/L\, PIL ABC Virtual Classroom
DESCRIPTION:Royal Society of Biology accredited Home Office E1/L PIL ABC (theory only) tutor led training \n  \nLive teaching sessions delivered online via virtual classroom over four days 0900-1500hrs\nE1/L\, PIL AB: days 1 to 3\nPIL C: day 4 \nOnline assessment will take place 1300-1500hrs Wednesday 2 June 2021 \nParticipants may attend for E1/L\, E1/L PIL AB\, E1/L PIL ABC or PIL C depending on their needs\nPrivate group bookings also available; contact us at info@LearningCurveDevelopment.co.uk to discuss your needs
URL:https://www.learningcurvedevelopment.co.uk/event/home-office-e1-l-pil-abc-virtual-classroom-10/
LOCATION:Online Webinar\, United Kingdom
CATEGORIES:E1/L,PIL AB,PIL ABC
ORGANIZER;CN="Gill":MAILTO:Info@LearningCurveDevelopment.co.uk
END:VEVENT
BEGIN:VEVENT
DTSTART;VALUE=DATE:20210518
DTEND;VALUE=DATE:20210519
DTSTAMP:20260423T042920
CREATED:20201215T161033Z
LAST-MODIFIED:20201215T161033Z
UID:5724-1621296000-1621382399@www.learningcurvedevelopment.co.uk
SUMMARY:Virtual NTCO Workshop
DESCRIPTION:This one-day interactive Named Training and Competency Officer (NTCO) workshop explores the qualities needed to perform effectively in the role\, equipping delegates with practical skills and strategies. \nLaboratory Animal Science Association CPD points are awarded for attendance.
URL:https://www.learningcurvedevelopment.co.uk/event/virtual-ntco-workshop/
LOCATION:Online Webinar\, United Kingdom
CATEGORIES:NTCO
ORGANIZER;CN="Gill":MAILTO:info@learningcurvedevelopment.co.uk
END:VEVENT
BEGIN:VEVENT
DTSTART;VALUE=DATE:20210510
DTEND;VALUE=DATE:20210514
DTSTAMP:20260423T042920
CREATED:20201021T081752Z
LAST-MODIFIED:20201021T081752Z
UID:5198-1620604800-1620950399@www.learningcurvedevelopment.co.uk
SUMMARY:Home Office E1/L\, PIL ABC Virtual Classroom
DESCRIPTION:Royal Society of Biology accredited Home Office E1/L PIL ABC (theory only) tutor led training \n  \nLive teaching sessions delivered online via virtual classroom over four days 0900-1500hrs\nE1/L\, PIL AB: days 1 to 3\nPIL C: day 4 \nOnline assessment will take place 1300-1500hrs Wednesday 19 May 2021 \nParticipants may attend for E1/L\, E1/L PIL AB\, E1/L PIL ABC or PIL C depending on their needs\nPrivate group bookings also available; contact us at info@LearningCurveDevelopment.co.uk to discuss your needs
URL:https://www.learningcurvedevelopment.co.uk/event/home-office-e1-l-pil-abc-virtual-classroom-8/
LOCATION:Online Webinar\, United Kingdom
CATEGORIES:E1/L,PIL AB,PIL ABC
ORGANIZER;CN="Gill":MAILTO:Info@LearningCurveDevelopment.co.uk
END:VEVENT
BEGIN:VEVENT
DTSTART;VALUE=DATE:20210426
DTEND;VALUE=DATE:20210430
DTSTAMP:20260423T042920
CREATED:20201021T080803Z
LAST-MODIFIED:20201021T085115Z
UID:5196-1619395200-1619740799@www.learningcurvedevelopment.co.uk
SUMMARY:Home Office E1/L\, PIL ABC Virtual Classroom
DESCRIPTION:Royal Society of Biology accredited Home Office E1/L PIL ABC (theory only) tutor led training \n  \nLive teaching sessions delivered online via virtual classroom over four days 0900-1500hrs\nE1/L\, PIL AB: days 1 to 3\nPIL C: day 4 \nOnline assessment will take place 1300-1500hrs Wednesday 5 May 2021 \nParticipants may attend for E1/L\, E1/L PIL AB\, E1/L PIL ABC or PIL C depending on their needs\nPrivate group bookings also available; contact us at info@LearningCurveDevelopment.co.uk to discuss your needs
URL:https://www.learningcurvedevelopment.co.uk/event/home-office-e1-l-pil-abc-virtual-classroom-7/
LOCATION:Online Webinar\, United Kingdom
CATEGORIES:E1/L,PIL AB,PIL ABC
ORGANIZER;CN="Gill":MAILTO:Info@LearningCurveDevelopment.co.uk
END:VEVENT
BEGIN:VEVENT
DTSTART;VALUE=DATE:20210419
DTEND;VALUE=DATE:20210421
DTSTAMP:20260423T042920
CREATED:20201103T122457Z
LAST-MODIFIED:20201103T122457Z
UID:5278-1618790400-1618963199@www.learningcurvedevelopment.co.uk
SUMMARY:Virtual NACWO Workshop
DESCRIPTION:09:00hrs – 16:00hrs \nNACWO two-day interactive virtual workshop accredited by the Institute of Animal Technology\, contact us now to secure your booking
URL:https://www.learningcurvedevelopment.co.uk/event/virtual-nacwo-workshop-3/
LOCATION:Online Webinar\, United Kingdom
CATEGORIES:NACWO
ORGANIZER;CN="Gill":MAILTO:Info@LearningCurveDevelopment.co.uk
END:VEVENT
BEGIN:VEVENT
DTSTART;VALUE=DATE:20210412
DTEND;VALUE=DATE:20210416
DTSTAMP:20260423T042920
CREATED:20201021T080635Z
LAST-MODIFIED:20201021T085047Z
UID:5194-1618185600-1618531199@www.learningcurvedevelopment.co.uk
SUMMARY:Home Office E1/L\, PIL ABC Virtual Classroom
DESCRIPTION:Royal Society of Biology accredited Home Office E1/L PIL ABC (theory only) tutor led training \n  \nLive teaching sessions delivered online via virtual classroom over four days 0900-1500hrs\nE1/L\, PIL AB: days 1 to 3\nPIL C: day 4 \nOnline assessment will take place 1300-1500hrs Wednesday 21 April 2021 \nParticipants may attend for E1/L\, E1/L PIL AB\, E1/L PIL ABC or PIL C depending on their needs\nPrivate group bookings also available; contact us at info@LearningCurveDevelopment.co.uk to discuss your needs
URL:https://www.learningcurvedevelopment.co.uk/event/home-office-e1-l-pil-abc-virtual-classroom-6/
LOCATION:Online Webinar\, United Kingdom
CATEGORIES:E1/L,PIL AB,PIL ABC
ORGANIZER;CN="Gill":MAILTO:Info@LearningCurveDevelopment.co.uk
END:VEVENT
BEGIN:VEVENT
DTSTART;VALUE=DATE:20210322
DTEND;VALUE=DATE:20210326
DTSTAMP:20260423T042920
CREATED:20201021T080446Z
LAST-MODIFIED:20201021T084846Z
UID:5192-1616371200-1616716799@www.learningcurvedevelopment.co.uk
SUMMARY:Home Office E1/L\, PIL ABC Virtual Classroom
DESCRIPTION:Royal Society of Biology accredited Home Office E1/L PIL ABC (theory only) tutor led training \n  \nLive teaching sessions delivered online via virtual classroom over four days 0900-1500hrs\nE1/L\, PIL AB: days 1 to 3\nPIL C: day 4 \nOnline assessment will take place 1300-1500hrs Wednesday 31 March 2021 \nParticipants may attend for E1/L\, E1/L PIL AB\, E1/L PIL ABC or PIL C depending on their needs\nPrivate group bookings also available; contact us at info@LearningCurveDevelopment.co.uk to discuss your needs
URL:https://www.learningcurvedevelopment.co.uk/event/home-office-e1-l-pil-abc-virtual-classroom-5/
LOCATION:Online Webinar\, United Kingdom
CATEGORIES:E1/L,PIL AB,PIL ABC
ORGANIZER;CN="Gill":MAILTO:Info@LearningCurveDevelopment.co.uk
END:VEVENT
BEGIN:VEVENT
DTSTART;VALUE=DATE:20210308
DTEND;VALUE=DATE:20210312
DTSTAMP:20260423T042920
CREATED:20201021T085005Z
LAST-MODIFIED:20201021T085005Z
UID:5207-1615161600-1615507199@www.learningcurvedevelopment.co.uk
SUMMARY:Home Office E1/L\, PIL ABC Virtual Classroom
DESCRIPTION:Royal Society of Biology accredited Home Office E1/L PIL ABC (theory only) tutor led training \n  \nLive teaching sessions delivered online via virtual classroom over four days 0900-1500hrs\nE1/L\, PIL AB: days 1 to 3\nPIL C: day 4 \nOnline assessment will take place 1300-1500hrs Wednesday 17 March 2021 \nParticipants may attend for E1/L\, E1/L PIL AB\, E1/L PIL ABC or PIL C depending on their needs\nPrivate group bookings also available; contact us at info@LearningCurveDevelopment.co.uk to discuss your needs
URL:https://www.learningcurvedevelopment.co.uk/event/home-office-e1-l-pil-abc-virtual-classroom-9/
LOCATION:Online Webinar\, United Kingdom
CATEGORIES:E1/L,PIL AB,PIL ABC
ORGANIZER;CN="Gill":MAILTO:Info@LearningCurveDevelopment.co.uk
END:VEVENT
BEGIN:VEVENT
DTSTART;VALUE=DATE:20210222
DTEND;VALUE=DATE:20210226
DTSTAMP:20260423T042920
CREATED:20201021T080321Z
LAST-MODIFIED:20201021T082142Z
UID:5190-1613952000-1614297599@www.learningcurvedevelopment.co.uk
SUMMARY:Home Office E1/L\, PIL ABC Virtual Classroom
DESCRIPTION:Royal Society of Biology accredited Home Office E1/L PIL ABC (theory only) tutor led training \n  \nLive teaching sessions delivered online via virtual classroom over four days 0900-1500hrs\nE1/L\, PIL AB: days 1 to 3\nPIL C: day 4 \nOnline assessment will take place 1300-1500hrs Wednesday 3 March 2021 \nParticipants may attend for E1/L\, E1/L PIL AB\, E1/L PIL ABC or PIL C depending on their needs\nPrivate group bookings also available; contact us at info@LearningCurveDevelopment.co.uk to discuss your needs
URL:https://www.learningcurvedevelopment.co.uk/event/home-office-e1-l-pil-abc-virtual-classroom-4/
LOCATION:Online Webinar\, United Kingdom
CATEGORIES:E1/L,PIL AB,PIL ABC
ORGANIZER;CN="Gill":MAILTO:Info@LearningCurveDevelopment.co.uk
END:VEVENT
BEGIN:VEVENT
DTSTART;VALUE=DATE:20210208
DTEND;VALUE=DATE:20210212
DTSTAMP:20260423T042920
CREATED:20201021T080145Z
LAST-MODIFIED:20201021T082050Z
UID:5188-1612742400-1613087999@www.learningcurvedevelopment.co.uk
SUMMARY:Home Office E1/L\, PIL ABC Virtual Classroom
DESCRIPTION:Royal Society of Biology accredited Home Office E1/L PIL ABC (theory only) tutor led training \n  \nLive teaching sessions delivered online via virtual classroom over four days 0900-1500hrs\nE1/L\, PIL AB: days 1 to 3\nPIL C: day 4 \nOnline assessment will take place 1300-1500hrs Wednesday 17 February 2021 \nParticipants may attend for E1/L\, E1/L PIL AB\, E1/L PIL ABC or PIL C depending on their needs\nPrivate group bookings also available; contact us at info@LearningCurveDevelopment.co.uk to discuss your needs
URL:https://www.learningcurvedevelopment.co.uk/event/home-office-e1-l-pil-abc-virtual-classroom-3/
LOCATION:Online Webinar\, United Kingdom
CATEGORIES:E1/L,PIL AB,PIL ABC
ORGANIZER;CN="Gill":MAILTO:Info@LearningCurveDevelopment.co.uk
END:VEVENT
BEGIN:VEVENT
DTSTART;VALUE=DATE:20210125
DTEND;VALUE=DATE:20210129
DTSTAMP:20260423T042920
CREATED:20201021T075923Z
LAST-MODIFIED:20201021T081956Z
UID:5186-1611532800-1611878399@www.learningcurvedevelopment.co.uk
SUMMARY:Home Office E1/L\, PIL ABC Virtual Classroom
DESCRIPTION:Royal Society of Biology accredited Home Office E1/L PIL ABC (theory only) tutor led training \n  \nLive teaching sessions delivered online via virtual classroom over four days 0900-1500hrs\nE1/L\, PIL AB: days 1 to 3\nPIL C: day 4 \nOnline assessment will take place 1300-1500hrs Wednesday 3 February 2021 \nParticipants may attend for E1/L\, E1/L PIL AB\, E1/L PIL ABC or PIL C depending on their needs\nPrivate group bookings also available; contact us at info@LearningCurveDevelopment.co.uk to discuss your needs
URL:https://www.learningcurvedevelopment.co.uk/event/home-office-e1-l-pil-abc-virtual-classroom-2/
LOCATION:Online Webinar\, United Kingdom
CATEGORIES:E1/L,PIL AB,PIL ABC
ORGANIZER;CN="Gill":MAILTO:Info@LearningCurveDevelopment.co.uk
END:VEVENT
BEGIN:VEVENT
DTSTART;VALUE=DATE:20210111
DTEND;VALUE=DATE:20210115
DTSTAMP:20260423T042920
CREATED:20201021T075439Z
LAST-MODIFIED:20201021T091214Z
UID:5184-1610323200-1610668799@www.learningcurvedevelopment.co.uk
SUMMARY:Home Office E1/L\, PIL ABC Virtual Classroom
DESCRIPTION:Royal Society of Biology accredited Home Office E1/L PIL ABC (theory only) tutor led training \n  \nLive teaching sessions delivered online via virtual classroom over four days 0900-1500hrs\nE1/L\, PIL AB: days 1 to 3\nPIL C: day 4 \nOnline assessment will take place 1300-1500hrs Wednesday 20 January 2021 \nParticipants may attend for E1/L\, E1/L PIL AB\, E1/L PIL ABC or PIL C depending on their needs\nPrivate group bookings also available; contact us at info@LearningCurveDevelopment.co.uk to discuss your needs
URL:https://www.learningcurvedevelopment.co.uk/event/home-office-e1-l-pil-abc-virtual-classroom/
LOCATION:Online Webinar\, United Kingdom
CATEGORIES:E1/L,PIL AB,PIL ABC
ORGANIZER;CN="Gill":MAILTO:Info@LearningCurveDevelopment.co.uk
END:VEVENT
BEGIN:VEVENT
DTSTART;VALUE=DATE:20201217
DTEND;VALUE=DATE:20201218
DTSTAMP:20260423T042920
CREATED:20201103T133308Z
LAST-MODIFIED:20201103T141206Z
UID:5287-1608163200-1608249599@www.learningcurvedevelopment.co.uk
SUMMARY:Home Office Pig and Primate PIL AB Virtual Classroom
DESCRIPTION:Royal Society of Biology accredited Home Office PIL AB (theory only) tutor led training \n  \nLive half-day teaching sessions delivered online via virtual classroom \nContact us at info@LearningCurveDevelopment.co.uk for availability
URL:https://www.learningcurvedevelopment.co.uk/event/home-office-minipig-and-primate-pil-ab-virtual-classroom/
LOCATION:Online Webinar\, United Kingdom
CATEGORIES:PIL AB
END:VEVENT
BEGIN:VEVENT
DTSTART;VALUE=DATE:20201207
DTEND;VALUE=DATE:20201212
DTSTAMP:20260423T042920
CREATED:20200701T110027Z
LAST-MODIFIED:20201015T073605Z
UID:5032-1607299200-1607731199@www.learningcurvedevelopment.co.uk
SUMMARY:Home Office E1/L\, PIL ABC Virtual Classroom
DESCRIPTION:Royal Society of Biology accredited Home Office E1/L PIL ABC (theory only) tutor led training \n  \nLive teaching sessions delivered online via virtual classroom over five days (E1/L \, PIL AB days 1 to 4: half days\, PIL C day 5: full day) \nOnline assessment will take place Wednesday 16 December 10:00-12:00hrs \nParticipants may attend for E1/L\, E1/L PIL AB\, E1/L PIL ABC or PIL C depending on their needs\nPrivate group bookings also available; contact us at info@LearningCurveDevelopment.co.uk to discuss your needs \n 
URL:https://www.learningcurvedevelopment.co.uk/event/home-office-e1-l-pil-abc-webinar-10/
LOCATION:Online Webinar\, United Kingdom
CATEGORIES:E1/L,PIL AB,PIL ABC
ORGANIZER;CN="Gill":MAILTO:Info@LearningCurveDevelopment.co.uk
END:VEVENT
BEGIN:VEVENT
DTSTART;VALUE=DATE:20201203
DTEND;VALUE=DATE:20201205
DTSTAMP:20260423T042920
CREATED:20201103T133051Z
LAST-MODIFIED:20201103T141314Z
UID:5285-1606953600-1607126399@www.learningcurvedevelopment.co.uk
SUMMARY:Home Office E1/L\, PIL AB Virtual Classroom
DESCRIPTION:Royal Society of Biology accredited Home Office E1/L PIL AB (theory only) tutor led training \n  \nLive teaching sessions delivered online via virtual classroom over two days \nContact us at info@LearningCurveDevelopment.co.uk for availability
URL:https://www.learningcurvedevelopment.co.uk/event/home-office-e1-l-pil-ab-virtual-classroom-2/
LOCATION:Online Webinar\, United Kingdom
CATEGORIES:E1/L,PIL AB
ORGANIZER;CN="Gill":MAILTO:Info@LearningCurveDevelopment.co.uk
END:VEVENT
BEGIN:VEVENT
DTSTART;TZID=Europe/London:20201124T090000
DTEND;TZID=Europe/London:20201124T130000
DTSTAMP:20260423T042920
CREATED:20201013T093025Z
LAST-MODIFIED:20201105T084648Z
UID:5140-1606208400-1606222800@www.learningcurvedevelopment.co.uk
SUMMARY:Virtual Legislation Update Workshop
DESCRIPTION:An informative and interactive half-day workshop to refresh and update knowledge. \nEmail info@LearningCurveDevelopment.co.uk to book your place
URL:https://www.learningcurvedevelopment.co.uk/event/virtual-legislation-refresher-workshop/
CATEGORIES:Legislation Update
END:VEVENT
BEGIN:VEVENT
DTSTART;VALUE=DATE:20201123
DTEND;VALUE=DATE:20201125
DTSTAMP:20260423T042920
CREATED:20201013T092014Z
LAST-MODIFIED:20201015T073525Z
UID:5135-1606089600-1606262399@www.learningcurvedevelopment.co.uk
SUMMARY:Virtual NACWO Workshop
DESCRIPTION:09:00hrs – 16:00hrs \nNACWO two-day interactive virtual workshop accredited by the Institute of Animal Technology\, contact us now to secure your booking
URL:https://www.learningcurvedevelopment.co.uk/event/virtual-nacwo-workshop/
CATEGORIES:NACWO
ORGANIZER;CN="Gill":MAILTO:Info@LearningCurveDevelopment.co.uk
END:VEVENT
BEGIN:VEVENT
DTSTART;VALUE=DATE:20201116
DTEND;VALUE=DATE:20201121
DTSTAMP:20260423T042920
CREATED:20200701T105859Z
LAST-MODIFIED:20201015T073434Z
UID:5030-1605484800-1605916799@www.learningcurvedevelopment.co.uk
SUMMARY:Home Office E1/L\, PIL ABC Virtual Classroom
DESCRIPTION:Royal Society of Biology accredited Home Office E1/L PIL ABC (theory only) tutor led training \n  \nLive teaching sessions delivered online via virtual classroom over five days (E1/L \, PIL AB days 1 to 4: half days\, PIL C day 5: full day) \nOnline assessment will take place Wednesday 25 November 10:00-12:00hrs \nParticipants may attend for E1/L\, E1/L PIL AB\, E1/L PIL ABC or PIL C depending on their needs\nPrivate group bookings also available; contact us at info@LearningCurveDevelopment.co.uk to discuss your needs \n 
URL:https://www.learningcurvedevelopment.co.uk/event/home-office-e1-l-pil-abc-webinar-9/
LOCATION:Online Webinar\, United Kingdom
CATEGORIES:E1/L,PIL AB,PIL ABC
ORGANIZER;CN="Gill":MAILTO:Info@LearningCurveDevelopment.co.uk
END:VEVENT
BEGIN:VEVENT
DTSTART;VALUE=DATE:20201109
DTEND;VALUE=DATE:20201110
DTSTAMP:20260423T042920
CREATED:20201013T093601Z
LAST-MODIFIED:20201013T093744Z
UID:5142-1604880000-1604966399@www.learningcurvedevelopment.co.uk
SUMMARY:***NEW Virtual NTCO Workshop***
DESCRIPTION:This new one day interactive workshop explores the role and responsibilities of the NTCO\, the issues and challenges faced\, and provides practical tools and strategies to help both new and experienced delegates succeed in this essential and demanding role. \nEmail Info@LearningCurveDevelopment.co.uk to secure your place.
URL:https://www.learningcurvedevelopment.co.uk/event/new-virtual-ntco-workshop/
CATEGORIES:NTCO
ORGANIZER;CN="Gill":MAILTO:Info@LearningCurveDevelopment.co.uk
END:VEVENT
BEGIN:VEVENT
DTSTART;VALUE=DATE:20201102
DTEND;VALUE=DATE:20201107
DTSTAMP:20260423T042920
CREATED:20200701T104036Z
LAST-MODIFIED:20201015T073150Z
UID:5028-1604275200-1604707199@www.learningcurvedevelopment.co.uk
SUMMARY:Home Office E1/L\, PIL ABC Virtual Classroom
DESCRIPTION:Royal Society of Biology accredited Home Office E1/L PIL ABC (theory only) tutor led training \n  \nLive teaching sessions delivered online via virtual classroom over five days (E1/L \, PIL AB days 1 to 4: half days\, PIL C day 5: full day) \nOnline assessment will take place Wednesday 11 November 10:00-12:00hrs \nParticipants may attend for E1/L\, E1/L PIL AB\, E1/L PIL ABC or PIL C depending on their needs\nPrivate group bookings also available; contact us at info@LearningCurveDevelopment.co.uk to discuss your needs \n 
URL:https://www.learningcurvedevelopment.co.uk/event/home-office-e1-l-pil-abc-webinar-8/
LOCATION:Online Webinar\, United Kingdom
CATEGORIES:E1/L,PIL AB,PIL ABC
ORGANIZER;CN="Gill":MAILTO:Info@LearningCurveDevelopment.co.uk
END:VEVENT
BEGIN:VEVENT
DTSTART;TZID=Europe/London:20201029T093000
DTEND;TZID=Europe/London:20201029T133000
DTSTAMP:20260423T042920
CREATED:20200810T093846Z
LAST-MODIFIED:20200810T093846Z
UID:5058-1603963800-1603978200@www.learningcurvedevelopment.co.uk
SUMMARY:Virtual PPL Review for AWERB Workshop
DESCRIPTION:This interactive half-day virtual workshop\, accredited by the Laboratory Animal Science Association provides delegates with the opportunity to learn more about the AWERB process\, its function\, members responsibilities and the contribution they can make. Contact us now to secure your booking.
URL:https://www.learningcurvedevelopment.co.uk/event/virtual-ppl-review-for-awerb-workshop/
CATEGORIES:PPL Review
ORGANIZER;CN="Gill":MAILTO:Info@LearningCurveDevelopment.co.uk
END:VEVENT
BEGIN:VEVENT
DTSTART;VALUE=DATE:20201029
DTEND;VALUE=DATE:20201031
DTSTAMP:20260423T042920
CREATED:20201021T092247Z
LAST-MODIFIED:20201021T092247Z
UID:5240-1603929600-1604102399@www.learningcurvedevelopment.co.uk
SUMMARY:Home Office E1/L\, PIL AB Virtual Classroom
DESCRIPTION:Royal Society of Biology accredited Home Office E1/L PIL ABC (theory only) tutor led training \n  \nLive teaching sessions delivered online via virtual classroom over two days \nOnline assessment will take place 1400-1600hrs Wednesday 4 November 2021 \nParticipants may attend for E1/L\, PIL AB or E1/L PIL AB depending on their needs\nPrivate group bookings also available; contact us at info@LearningCurveDevelopment.co.uk to discuss your needs
URL:https://www.learningcurvedevelopment.co.uk/event/home-office-e1-l-pil-ab-virtual-classroom/
LOCATION:Online Webinar\, United Kingdom
CATEGORIES:E1/L,PIL AB
ORGANIZER;CN="Gill":MAILTO:Info@LearningCurveDevelopment.co.uk
END:VEVENT
BEGIN:VEVENT
DTSTART;TZID=Europe/London:20201028T130000
DTEND;TZID=Europe/London:20201028T170000
DTSTAMP:20260423T042920
CREATED:20201013T094330Z
LAST-MODIFIED:20201013T094617Z
UID:5146-1603890000-1603904400@www.learningcurvedevelopment.co.uk
SUMMARY:Virtual Bespoke Legislation Refresher Workshop
DESCRIPTION:A bespoke course designed to support PILs/PPL holders and animal technicians to ensure they are fully up to date and confident with all relevant UK legislation and guidelines. \nSorry privately booked.  Please contact us if you are interested in having a course tailored to your organisation’s needs.
URL:https://www.learningcurvedevelopment.co.uk/event/virtual-legislation-refresher-workshop-2/
CATEGORIES:Legislation Update
ORGANIZER;CN="Gill":MAILTO:Info@LearningCurveDevelopment.co.uk
END:VEVENT
BEGIN:VEVENT
DTSTART;VALUE=DATE:20201012
DTEND;VALUE=DATE:20201017
DTSTAMP:20260423T042920
CREATED:20200701T103752Z
LAST-MODIFIED:20201015T073324Z
UID:5024-1602460800-1602892799@www.learningcurvedevelopment.co.uk
SUMMARY:Home Office E1/L\, PIL ABC Virtual Classroom
DESCRIPTION:Royal Society of Biology accredited Home Office E1/L PIL ABC (theory only) tutor led training \n  \nLive teaching sessions delivered online via virtual classroom over five days (E1/L \, PIL AB days 1 to 4: half days\, PIL C day 5: full day) \nOnline assessment will take place Wednesday 21 October 13:30-15:30hrs \nParticipants may attend for E1/L\, E1/L PIL AB\, E1/L PIL ABC or PIL C depending on their needs\nPrivate group bookings also available; contact us at info@LearningCurveDevelopment.co.uk to discuss your needs \n 
URL:https://www.learningcurvedevelopment.co.uk/event/home-office-e1-l-pil-abc-webinar-6/
LOCATION:Online Webinar\, United Kingdom
CATEGORIES:E1/L,PIL AB,PIL ABC
ORGANIZER;CN="Gill":MAILTO:Info@LearningCurveDevelopment.co.uk
END:VEVENT
BEGIN:VEVENT
DTSTART;TZID=Europe/London:20201007T093000
DTEND;TZID=Europe/London:20201007T124500
DTSTAMP:20260423T042920
CREATED:20200813T085104Z
LAST-MODIFIED:20200813T085149Z
UID:5070-1602063000-1602074700@www.learningcurvedevelopment.co.uk
SUMMARY:Virtual Procedure Individual Licence (PIL) Refresher Workshop
DESCRIPTION:This half-day virtual workshop utilises exercises and case studies for an interactive and fun approach to refresh and update essential knowledge
URL:https://www.learningcurvedevelopment.co.uk/event/procedure-individual-licence-pil-refresher-virtual-workshop/
CATEGORIES:Legislation Update
ORGANIZER;CN="Gill":MAILTO:Info@LearningCurveDevelopment.co.uk
END:VEVENT
BEGIN:VEVENT
DTSTART;VALUE=DATE:20201005
DTEND;VALUE=DATE:20201007
DTSTAMP:20260423T042920
CREATED:20200121T094219Z
LAST-MODIFIED:20200810T093317Z
UID:4983-1601856000-1602028799@www.learningcurvedevelopment.co.uk
SUMMARY:Virtual NACWO Workshop
DESCRIPTION:NACWO two-day interactive virtual workshop accredited by the Institute of Animal Technology\, contact us now to secure your booking
URL:https://www.learningcurvedevelopment.co.uk/event/nacwo-workshop-37/
CATEGORIES:NACWO
ORGANIZER;CN="Gill":MAILTO:Info@LearningCurveDevelopment.co.uk
END:VEVENT
BEGIN:VEVENT
DTSTART;VALUE=DATE:20200928
DTEND;VALUE=DATE:20201003
DTSTAMP:20260423T042920
CREATED:20200701T103621Z
LAST-MODIFIED:20200923T104851Z
UID:5022-1601251200-1601683199@www.learningcurvedevelopment.co.uk
SUMMARY:Home Office E1/L\, PIL ABC Virtual Classroom
DESCRIPTION:Royal Society of Biology accredited Home Office E1/L PIL ABC (theory only) tutor led training \n  \nLive teaching sessions delivered online via virtual classroom over five days (E1/L \, PIL AB days 1 to 4: half days\, PIL C day 5: full day) \nOnline assessment will take place Wednesday 7 October 1300-1500hrs \nParticipants may attend for E1/L\, E1/L PIL AB\, E1/L PIL ABC or PIL C depending on their needs\nPrivate group bookings also available; contact us at info@LearningCurveDevelopment.co.uk to discuss your needs \n 
URL:https://www.learningcurvedevelopment.co.uk/event/home-office-e1-l-pil-abc-webinar-5/
LOCATION:Online Webinar\, United Kingdom
CATEGORIES:E1/L,PIL AB,PIL ABC
ORGANIZER;CN="Gill":MAILTO:Info@LearningCurveDevelopment.co.uk
END:VEVENT
BEGIN:VEVENT
DTSTART;VALUE=DATE:20200921
DTEND;VALUE=DATE:20200926
DTSTAMP:20260423T042920
CREATED:20200701T103508Z
LAST-MODIFIED:20200706T074521Z
UID:5020-1600646400-1601078399@www.learningcurvedevelopment.co.uk
SUMMARY:Home Office E1/L\, PIL ABC Virtual Classroom
DESCRIPTION:Royal Society of Biology accredited Home Office E1/L PIL ABC (theory only) tutor led training \nSorry – privately booked\, contact us for other available dates or to arrange a group booking \nLive teaching sessions delivered online via virtual classroom over five days (E1/L \, PIL AB days 1 to 4: half days\, PIL C day 5: full day)\nParticipants may attend for E1/L\, E1/L PIL AB\, E1/L PIL ABC or PIL C depending on their needs\nPrivate group bookings also available; contact us at info@LearningCurveDevelopment.co.uk to discuss your needs \n 
URL:https://www.learningcurvedevelopment.co.uk/event/home-office-e1-l-pil-abc-webinar-4/
LOCATION:Online Webinar\, United Kingdom
CATEGORIES:E1/L,PIL AB,PIL ABC
ORGANIZER;CN="Gill":MAILTO:Info@LearningCurveDevelopment.co.uk
END:VEVENT
BEGIN:VEVENT
DTSTART;TZID=Europe/London:20200916T120000
DTEND;TZID=Europe/London:20200916T160000
DTSTAMP:20260423T042920
CREATED:20200810T092651Z
LAST-MODIFIED:20200810T093126Z
UID:5051-1600257600-1600272000@www.learningcurvedevelopment.co.uk
SUMMARY:Virtual RAnTech Preparation Workshop
DESCRIPTION:Virtual interactive half day workshop to prepare candidates for inclusion in the Register
URL:https://www.learningcurvedevelopment.co.uk/event/rantech-preparation-workshop-2/
CATEGORIES:RAnTech
ORGANIZER;CN="Gill":MAILTO:Info@LearningCurveDevelopment.co.uk
END:VEVENT
END:VCALENDAR