BEGIN:VCALENDAR
VERSION:2.0
PRODID:-//The Learning Curve - ECPv6.15.17.1//NONSGML v1.0//EN
CALSCALE:GREGORIAN
METHOD:PUBLISH
X-WR-CALNAME:The Learning Curve
X-ORIGINAL-URL:https://www.learningcurvedevelopment.co.uk
X-WR-CALDESC:Events for The Learning Curve
REFRESH-INTERVAL;VALUE=DURATION:PT1H
X-Robots-Tag:noindex
X-PUBLISHED-TTL:PT1H
BEGIN:VTIMEZONE
TZID:Europe/London
BEGIN:DAYLIGHT
TZOFFSETFROM:+0000
TZOFFSETTO:+0100
TZNAME:BST
DTSTART:20200329T010000
END:DAYLIGHT
BEGIN:STANDARD
TZOFFSETFROM:+0100
TZOFFSETTO:+0000
TZNAME:GMT
DTSTART:20201025T010000
END:STANDARD
BEGIN:DAYLIGHT
TZOFFSETFROM:+0000
TZOFFSETTO:+0100
TZNAME:BST
DTSTART:20210328T010000
END:DAYLIGHT
BEGIN:STANDARD
TZOFFSETFROM:+0100
TZOFFSETTO:+0000
TZNAME:GMT
DTSTART:20211031T010000
END:STANDARD
BEGIN:DAYLIGHT
TZOFFSETFROM:+0000
TZOFFSETTO:+0100
TZNAME:BST
DTSTART:20220327T010000
END:DAYLIGHT
BEGIN:STANDARD
TZOFFSETFROM:+0100
TZOFFSETTO:+0000
TZNAME:GMT
DTSTART:20221030T010000
END:STANDARD
END:VTIMEZONE
BEGIN:VEVENT
DTSTART;VALUE=DATE:20211129
DTEND;VALUE=DATE:20211203
DTSTAMP:20260422T234412
CREATED:20201021T091108Z
LAST-MODIFIED:20201021T091108Z
UID:5238-1638144000-1638489599@www.learningcurvedevelopment.co.uk
SUMMARY:Home Office E1/L\, PIL ABC Virtual Classroom
DESCRIPTION:Royal Society of Biology accredited Home Office E1/L PIL ABC (theory only) tutor led training \n  \nLive teaching sessions delivered online via virtual classroom over four days 0900-1500hrs\nE1/L\, PIL AB: days 1 to 3\nPIL C: day 4 \nOnline assessment will take place 1300-1500hrs Wednesday 8 December 2021 \nParticipants may attend for E1/L\, E1/L PIL AB\, E1/L PIL ABC or PIL C depending on their needs\nPrivate group bookings also available; contact us at info@LearningCurveDevelopment.co.uk to discuss your needs
URL:https://www.learningcurvedevelopment.co.uk/event/home-office-e1-l-pil-abc-virtual-classroom-23/
LOCATION:Online Webinar\, United Kingdom
CATEGORIES:E1/L,PIL AB,PIL ABC
ORGANIZER;CN="Gill":MAILTO:Info@LearningCurveDevelopment.co.uk
END:VEVENT
BEGIN:VEVENT
DTSTART;VALUE=DATE:20211125
DTEND;VALUE=DATE:20211126
DTSTAMP:20260422T234412
CREATED:20210628T123352Z
LAST-MODIFIED:20210804T110056Z
UID:5814-1637798400-1637884799@www.learningcurvedevelopment.co.uk
SUMMARY:Virtual Principles of Training\, Mentoring and Assessing
DESCRIPTION:This interactive workshop has exercises designed to teach the skills required to train others\, and assess competence in the workplace. It is ideal for those new to training delivery and NTCOs \nHalf day course – Cost £150 + VAT\nFull day course – Cost £225 + VAT \nEmail Info@LearningCurveDevelopment.co.uk to secure your place.
URL:https://www.learningcurvedevelopment.co.uk/event/virtual-principles-of-training-mentoring-and-assessing/
LOCATION:Online Webinar\, United Kingdom
CATEGORIES:Principles of Training,Workplace Training
ORGANIZER;CN="Gill":MAILTO:info@learningcurvedevelopment.co.uk
END:VEVENT
BEGIN:VEVENT
DTSTART;VALUE=DATE:20211123
DTEND;VALUE=DATE:20211125
DTSTAMP:20260422T234412
CREATED:20210528T073456Z
LAST-MODIFIED:20210528T073456Z
UID:5802-1637625600-1637798399@www.learningcurvedevelopment.co.uk
SUMMARY:Virtual NACWO Workshop
DESCRIPTION:09:00hrs – 16:00hrs \nNACWO two-day interactive virtual workshop accredited by the Institute of Animal Technology\, contact us now to secure your booking
URL:https://www.learningcurvedevelopment.co.uk/event/virtual-nacwo-workshop-5/
LOCATION:Online Webinar\, United Kingdom
CATEGORIES:NACWO
ORGANIZER;CN="Gill":MAILTO:info@learningcurvedevelopment.co.uk
END:VEVENT
BEGIN:VEVENT
DTSTART;VALUE=DATE:20211115
DTEND;VALUE=DATE:20211119
DTSTAMP:20260422T234412
CREATED:20201021T090943Z
LAST-MODIFIED:20201021T090943Z
UID:5236-1636934400-1637279999@www.learningcurvedevelopment.co.uk
SUMMARY:Home Office E1/L\, PIL ABC Virtual Classroom
DESCRIPTION:Royal Society of Biology accredited Home Office E1/L PIL ABC (theory only) tutor led training \n  \nLive teaching sessions delivered online via virtual classroom over four days 0900-1500hrs\nE1/L\, PIL AB: days 1 to 3\nPIL C: day 4 \nOnline assessment will take place 1300-1500hrs Wednesday 24 November 2021 \nParticipants may attend for E1/L\, E1/L PIL AB\, E1/L PIL ABC or PIL C depending on their needs\nPrivate group bookings also available; contact us at info@LearningCurveDevelopment.co.uk to discuss your needs
URL:https://www.learningcurvedevelopment.co.uk/event/home-office-e1-l-pil-abc-virtual-classroom-22/
LOCATION:Online Webinar\, United Kingdom
CATEGORIES:E1/L,PIL AB,PIL ABC
ORGANIZER;CN="Gill":MAILTO:Info@LearningCurveDevelopment.co.uk
END:VEVENT
BEGIN:VEVENT
DTSTART;VALUE=DATE:20211101
DTEND;VALUE=DATE:20211105
DTSTAMP:20260422T234412
CREATED:20201021T090826Z
LAST-MODIFIED:20201021T090826Z
UID:5234-1635724800-1636070399@www.learningcurvedevelopment.co.uk
SUMMARY:Home Office E1/L\, PIL ABC Virtual Classroom
DESCRIPTION:Royal Society of Biology accredited Home Office E1/L PIL ABC (theory only) tutor led training \n  \nLive teaching sessions delivered online via virtual classroom over four days 0900-1500hrs\nE1/L\, PIL AB: days 1 to 3\nPIL C: day 4 \nOnline assessment will take place 1300-1500hrs Wednesday 10 November 2021 \nParticipants may attend for E1/L\, E1/L PIL AB\, E1/L PIL ABC or PIL C depending on their needs\nPrivate group bookings also available; contact us at info@LearningCurveDevelopment.co.uk to discuss your needs
URL:https://www.learningcurvedevelopment.co.uk/event/home-office-e1-l-pil-abc-virtual-classroom-21/
LOCATION:Online Webinar\, United Kingdom
CATEGORIES:E1/L,PIL AB,PIL ABC
ORGANIZER;CN="Gill":MAILTO:Info@LearningCurveDevelopment.co.uk
END:VEVENT
BEGIN:VEVENT
DTSTART;VALUE=DATE:20211028
DTEND;VALUE=DATE:20211029
DTSTAMP:20260422T234412
CREATED:20210528T073848Z
LAST-MODIFIED:20210528T073848Z
UID:5804-1635379200-1635465599@www.learningcurvedevelopment.co.uk
SUMMARY:Virtual NACWO Refresher Workshop
DESCRIPTION:NACWO refresher one-day interactive virtual workshop\, contact us now to secure your booking
URL:https://www.learningcurvedevelopment.co.uk/event/virtual-nacwo-refresher-workshop/
LOCATION:Online Webinar\, United Kingdom
CATEGORIES:NACWO Refresher
ORGANIZER;CN="Gill":MAILTO:info@learningcurvedevelopment.co.uk
END:VEVENT
BEGIN:VEVENT
DTSTART;VALUE=DATE:20211026
DTEND;VALUE=DATE:20211027
DTSTAMP:20260422T234412
CREATED:20210528T074045Z
LAST-MODIFIED:20210528T074045Z
UID:5806-1635206400-1635292799@www.learningcurvedevelopment.co.uk
SUMMARY:Virtual NTCO Workshop
DESCRIPTION:This one-day interactive Named Training and Competency Officer (NTCO) workshop explores the qualities needed to perform effectively in the role\, equipping delegates with practical skills and strategies. \nLaboratory Animal Science Association CPD points are awarded for attendance.
URL:https://www.learningcurvedevelopment.co.uk/event/virtual-ntco-workshop-3/
LOCATION:Online Webinar\, United Kingdom
CATEGORIES:NTCO
ORGANIZER;CN="Gill":MAILTO:info@learningcurvedevelopment.co.uk
END:VEVENT
BEGIN:VEVENT
DTSTART;VALUE=DATE:20211018
DTEND;VALUE=DATE:20211022
DTSTAMP:20260422T234412
CREATED:20201021T090714Z
LAST-MODIFIED:20201021T090714Z
UID:5232-1634515200-1634860799@www.learningcurvedevelopment.co.uk
SUMMARY:Home Office E1/L\, PIL ABC Virtual Classroom
DESCRIPTION:Royal Society of Biology accredited Home Office E1/L PIL ABC (theory only) tutor led training \n  \nLive teaching sessions delivered online via virtual classroom over four days 0900-1500hrs\nE1/L\, PIL AB: days 1 to 3\nPIL C: day 4 \nOnline assessment will take place 1300-1500hrs Wednesday 27 October 2021 \nParticipants may attend for E1/L\, E1/L PIL AB\, E1/L PIL ABC or PIL C depending on their needs\nPrivate group bookings also available; contact us at info@LearningCurveDevelopment.co.uk to discuss your needs
URL:https://www.learningcurvedevelopment.co.uk/event/home-office-e1-l-pil-abc-virtual-classroom-20/
LOCATION:Online Webinar\, United Kingdom
CATEGORIES:E1/L,PIL AB,PIL ABC
ORGANIZER;CN="Gill":MAILTO:Info@LearningCurveDevelopment.co.uk
END:VEVENT
BEGIN:VEVENT
DTSTART;VALUE=DATE:20211004
DTEND;VALUE=DATE:20211008
DTSTAMP:20260422T234412
CREATED:20201021T090601Z
LAST-MODIFIED:20201021T090601Z
UID:5230-1633305600-1633651199@www.learningcurvedevelopment.co.uk
SUMMARY:Home Office E1/L\, PIL ABC Virtual Classroom
DESCRIPTION:Royal Society of Biology accredited Home Office E1/L PIL ABC (theory only) tutor led training \n  \nLive teaching sessions delivered online via virtual classroom over four days 0900-1500hrs\nE1/L\, PIL AB: days 1 to 3\nPIL C: day 4 \nOnline assessment will take place 1300-1500hrs Wednesday 13 October 2021 \nParticipants may attend for E1/L\, E1/L PIL AB\, E1/L PIL ABC or PIL C depending on their needs\nPrivate group bookings also available; contact us at info@LearningCurveDevelopment.co.uk to discuss your needs
URL:https://www.learningcurvedevelopment.co.uk/event/home-office-e1-l-pil-abc-virtual-classroom-19/
LOCATION:Online Webinar\, United Kingdom
CATEGORIES:E1/L,PIL AB,PIL ABC
ORGANIZER;CN="Gill":MAILTO:Info@LearningCurveDevelopment.co.uk
END:VEVENT
BEGIN:VEVENT
DTSTART;VALUE=DATE:20210920
DTEND;VALUE=DATE:20210924
DTSTAMP:20260422T234412
CREATED:20201021T090451Z
LAST-MODIFIED:20201021T090451Z
UID:5228-1632096000-1632441599@www.learningcurvedevelopment.co.uk
SUMMARY:Home Office E1/L\, PIL ABC Virtual Classroom
DESCRIPTION:Royal Society of Biology accredited Home Office E1/L PIL ABC (theory only) tutor led training \n  \nLive teaching sessions delivered online via virtual classroom over four days 0900-1500hrs\nE1/L\, PIL AB: days 1 to 3\nPIL C: day 4 \nOnline assessment will take place 1300-1500hrs Wednesday 29 September 2021 \nParticipants may attend for E1/L\, E1/L PIL AB\, E1/L PIL ABC or PIL C depending on their needs\nPrivate group bookings also available; contact us at info@LearningCurveDevelopment.co.uk to discuss your needs
URL:https://www.learningcurvedevelopment.co.uk/event/home-office-e1-l-pil-abc-virtual-classroom-18/
LOCATION:Online Webinar\, United Kingdom
CATEGORIES:E1/L,PIL AB,PIL ABC
ORGANIZER;CN="Gill":MAILTO:Info@LearningCurveDevelopment.co.uk
END:VEVENT
BEGIN:VEVENT
DTSTART;VALUE=DATE:20210914
DTEND;VALUE=DATE:20210916
DTSTAMP:20260422T234412
CREATED:20210528T073401Z
LAST-MODIFIED:20210528T073401Z
UID:5800-1631577600-1631750399@www.learningcurvedevelopment.co.uk
SUMMARY:Virtual NACWO Workshop
DESCRIPTION:09:00hrs – 16:00hrs \nNACWO two-day interactive virtual workshop accredited by the Institute of Animal Technology\, contact us now to secure your booking
URL:https://www.learningcurvedevelopment.co.uk/event/virtual-nacwo-workshop-4/
LOCATION:Online Webinar\, United Kingdom
CATEGORIES:NACWO
ORGANIZER;CN="Gill":MAILTO:info@learningcurvedevelopment.co.uk
END:VEVENT
BEGIN:VEVENT
DTSTART;VALUE=DATE:20210906
DTEND;VALUE=DATE:20210910
DTSTAMP:20260422T234412
CREATED:20201021T090257Z
LAST-MODIFIED:20201021T090257Z
UID:5226-1630886400-1631231999@www.learningcurvedevelopment.co.uk
SUMMARY:Home Office E1/L\, PIL ABC Virtual Classroom
DESCRIPTION:Royal Society of Biology accredited Home Office E1/L PIL ABC (theory only) tutor led training \n  \nLive teaching sessions delivered online via virtual classroom over four days 0900-1500hrs\nE1/L\, PIL AB: days 1 to 3\nPIL C: day 4 \nOnline assessment will take place 1300-1500hrs Wednesday 15 September 2021 \nParticipants may attend for E1/L\, E1/L PIL AB\, E1/L PIL ABC or PIL C depending on their needs\nPrivate group bookings also available; contact us at info@LearningCurveDevelopment.co.uk to discuss your needs
URL:https://www.learningcurvedevelopment.co.uk/event/home-office-e1-l-pil-abc-virtual-classroom-17/
LOCATION:Online Webinar\, United Kingdom
CATEGORIES:E1/L,PIL AB,PIL ABC
ORGANIZER;CN="Gill":MAILTO:Info@LearningCurveDevelopment.co.uk
END:VEVENT
BEGIN:VEVENT
DTSTART;VALUE=DATE:20210816
DTEND;VALUE=DATE:20210820
DTSTAMP:20260422T234412
CREATED:20201021T090140Z
LAST-MODIFIED:20201021T090140Z
UID:5224-1629072000-1629417599@www.learningcurvedevelopment.co.uk
SUMMARY:Home Office E1/L\, PIL ABC Virtual Classroom
DESCRIPTION:Royal Society of Biology accredited Home Office E1/L PIL ABC (theory only) tutor led training \n  \nLive teaching sessions delivered online via virtual classroom over four days 0900-1500hrs\nE1/L\, PIL AB: days 1 to 3\nPIL C: day 4 \nOnline assessment will take place 1300-1500hrs Wednesday 25 August 2021 \nParticipants may attend for E1/L\, E1/L PIL AB\, E1/L PIL ABC or PIL C depending on their needs\nPrivate group bookings also available; contact us at info@LearningCurveDevelopment.co.uk to discuss your needs
URL:https://www.learningcurvedevelopment.co.uk/event/home-office-e1-l-pil-abc-virtual-classroom-16/
LOCATION:Online Webinar\, United Kingdom
CATEGORIES:E1/L,PIL AB,PIL ABC
ORGANIZER;CN="Gill":MAILTO:Info@LearningCurveDevelopment.co.uk
END:VEVENT
BEGIN:VEVENT
DTSTART;VALUE=DATE:20210802
DTEND;VALUE=DATE:20210806
DTSTAMP:20260422T234412
CREATED:20201021T085957Z
LAST-MODIFIED:20201021T085957Z
UID:5221-1627862400-1628207999@www.learningcurvedevelopment.co.uk
SUMMARY:Home Office E1/L\, PIL ABC Virtual Classroom
DESCRIPTION:Royal Society of Biology accredited Home Office E1/L PIL ABC (theory only) tutor led training \n  \nLive teaching sessions delivered online via virtual classroom over four days 0900-1500hrs\nE1/L\, PIL AB: days 1 to 3\nPIL C: day 4 \nOnline assessment will take place 1300-1500hrs Wednesday 11 August 2021 \nParticipants may attend for E1/L\, E1/L PIL AB\, E1/L PIL ABC or PIL C depending on their needs\nPrivate group bookings also available; contact us at info@LearningCurveDevelopment.co.uk to discuss your needs
URL:https://www.learningcurvedevelopment.co.uk/event/home-office-e1-l-pil-abc-virtual-classroom-15/
LOCATION:Online Webinar\, United Kingdom
CATEGORIES:E1/L,PIL AB,PIL ABC
ORGANIZER;CN="Gill":MAILTO:Info@LearningCurveDevelopment.co.uk
END:VEVENT
BEGIN:VEVENT
DTSTART;VALUE=DATE:20210719
DTEND;VALUE=DATE:20210723
DTSTAMP:20260422T234412
CREATED:20201021T085841Z
LAST-MODIFIED:20201021T085841Z
UID:5219-1626652800-1626998399@www.learningcurvedevelopment.co.uk
SUMMARY:Home Office E1/L\, PIL ABC Virtual Classroom
DESCRIPTION:Royal Society of Biology accredited Home Office E1/L PIL ABC (theory only) tutor led training \n  \nLive teaching sessions delivered online via virtual classroom over four days 0900-1500hrs\nE1/L\, PIL AB: days 1 to 3\nPIL C: day 4 \nOnline assessment will take place 1300-1500hrs Wednesday 28 July 2021 \nParticipants may attend for E1/L\, E1/L PIL AB\, E1/L PIL ABC or PIL C depending on their needs\nPrivate group bookings also available; contact us at info@LearningCurveDevelopment.co.uk to discuss your needs
URL:https://www.learningcurvedevelopment.co.uk/event/home-office-e1-l-pil-abc-virtual-classroom-14/
LOCATION:Online Webinar\, United Kingdom
CATEGORIES:E1/L,PIL AB,PIL ABC
ORGANIZER;CN="Gill":MAILTO:Info@LearningCurveDevelopment.co.uk
END:VEVENT
BEGIN:VEVENT
DTSTART;VALUE=DATE:20210705
DTEND;VALUE=DATE:20210709
DTSTAMP:20260422T234412
CREATED:20201021T085739Z
LAST-MODIFIED:20201021T085739Z
UID:5217-1625443200-1625788799@www.learningcurvedevelopment.co.uk
SUMMARY:Home Office E1/L\, PIL ABC Virtual Classroom
DESCRIPTION:Royal Society of Biology accredited Home Office E1/L PIL ABC (theory only) tutor led training \n  \nLive teaching sessions delivered online via virtual classroom over four days 0900-1500hrs\nE1/L\, PIL AB: days 1 to 3\nPIL C: day 4 \nOnline assessment will take place 1300-1500hrs Wednesday 14 July 2021 \nParticipants may attend for E1/L\, E1/L PIL AB\, E1/L PIL ABC or PIL C depending on their needs\nPrivate group bookings also available; contact us at info@LearningCurveDevelopment.co.uk to discuss your needs
URL:https://www.learningcurvedevelopment.co.uk/event/home-office-e1-l-pil-abc-virtual-classroom-13/
LOCATION:Online Webinar\, United Kingdom
CATEGORIES:E1/L,PIL AB,PIL ABC
ORGANIZER;CN="Gill":MAILTO:Info@LearningCurveDevelopment.co.uk
END:VEVENT
BEGIN:VEVENT
DTSTART;TZID=Europe/London:20210629T090000
DTEND;TZID=Europe/London:20210629T130000
DTSTAMP:20260422T234412
CREATED:20210505T152733Z
LAST-MODIFIED:20210505T152733Z
UID:5797-1624957200-1624971600@www.learningcurvedevelopment.co.uk
SUMMARY:Virtual RAnTech Preparation Workshop
DESCRIPTION:Virtual interactive half day workshop to prepare candidates for inclusion in the Register of Animal Technologists
URL:https://www.learningcurvedevelopment.co.uk/event/virtual-rantech-preparation-workshop/
LOCATION:Online Webinar\, United Kingdom
CATEGORIES:RAnTech
ORGANIZER;CN="Gill":MAILTO:info@learningcurvedevelopment.co.uk
END:VEVENT
BEGIN:VEVENT
DTSTART;VALUE=DATE:20210621
DTEND;VALUE=DATE:20210625
DTSTAMP:20260422T234412
CREATED:20201021T085615Z
LAST-MODIFIED:20201021T085615Z
UID:5215-1624233600-1624579199@www.learningcurvedevelopment.co.uk
SUMMARY:Home Office E1/L\, PIL ABC Virtual Classroom
DESCRIPTION:Royal Society of Biology accredited Home Office E1/L PIL ABC (theory only) tutor led training \n  \nLive teaching sessions delivered online via virtual classroom over four days 0900-1500hrs\nE1/L\, PIL AB: days 1 to 3\nPIL C: day 4 \nOnline assessment will take place 1300-1500hrs Wednesday 30 June 2021 \nParticipants may attend for E1/L\, E1/L PIL AB\, E1/L PIL ABC or PIL C depending on their needs\nPrivate group bookings also available; contact us at info@LearningCurveDevelopment.co.uk to discuss your needs
URL:https://www.learningcurvedevelopment.co.uk/event/home-office-e1-l-pil-abc-virtual-classroom-12/
LOCATION:Online Webinar\, United Kingdom
CATEGORIES:E1/L,PIL AB,PIL ABC
END:VEVENT
BEGIN:VEVENT
DTSTART;VALUE=DATE:20210615
DTEND;VALUE=DATE:20210617
DTSTAMP:20260422T234412
CREATED:20210324T084241Z
LAST-MODIFIED:20210324T084241Z
UID:5782-1623715200-1623887999@www.learningcurvedevelopment.co.uk
SUMMARY:Virtual NACWO Workshop
DESCRIPTION:09:00hrs – 16:00hrs \nNACWO two-day interactive virtual workshop accredited by the Institute of Animal Technology\, contact us now to secure your booking
URL:https://www.learningcurvedevelopment.co.uk/event/virtual-nacwo-workshop-2/
LOCATION:Online Webinar\, United Kingdom
CATEGORIES:NACWO
ORGANIZER;CN="Gill":MAILTO:info@learningcurvedevelopment.co.uk
END:VEVENT
BEGIN:VEVENT
DTSTART;VALUE=DATE:20210615
DTEND;VALUE=DATE:20210616
DTSTAMP:20260422T234412
CREATED:20210129T113441Z
LAST-MODIFIED:20210129T114006Z
UID:5736-1623715200-1623801599@www.learningcurvedevelopment.co.uk
SUMMARY:Virtual Principles of Training\, Mentoring and Assessing Workshop
DESCRIPTION:This interactive workshop has exercises designed to teach the skills required to train others\, and assess competence in the workplace. It is ideal for those new to training delivery and NTCOs \nHalf day course – Cost £150 + VAT\nFull day course – Cost £225 + VAT \nEmail Info@LearningCurveDevelopment.co.uk to secure your place.
URL:https://www.learningcurvedevelopment.co.uk/event/virtual-ntco-workshop-2/
LOCATION:Online Webinar\, United Kingdom
CATEGORIES:Principles of Training,Workplace Training
ORGANIZER;CN="Gill":MAILTO:info@learningcurvedevelopment.co.uk
END:VEVENT
BEGIN:VEVENT
DTSTART;VALUE=DATE:20210609
DTEND;VALUE=DATE:20210610
DTSTAMP:20260422T234412
CREATED:20210115T114551Z
LAST-MODIFIED:20210115T114551Z
UID:5733-1623196800-1623283199@www.learningcurvedevelopment.co.uk
SUMMARY:Virtual Named Information Officer Workshop
DESCRIPTION:This informative and fun one-day Named Information Officer (NIO) workshop provides both new and experienced delegates with practical advice to assist in developing innovative and effective communication strategies. \nLaboratory Animal Science Association CPD points are awarded for attendance. \nContact us now to secure your booking.
URL:https://www.learningcurvedevelopment.co.uk/event/virtual-named-information-officer-workshop/
LOCATION:Online Webinar\, United Kingdom
CATEGORIES:NIO
ORGANIZER;CN="Gill":MAILTO:info@learningcurvedevelopment.co.uk
END:VEVENT
BEGIN:VEVENT
DTSTART;VALUE=DATE:20210607
DTEND;VALUE=DATE:20210611
DTSTAMP:20260422T234412
CREATED:20201021T085446Z
LAST-MODIFIED:20210625T152727Z
UID:5213-1623024000-1623369599@www.learningcurvedevelopment.co.uk
SUMMARY:Home Office E1/L\, PIL ABC Virtual Classroom
DESCRIPTION:Royal Society of Biology accredited Home Office E1/L PIL ABC (theory only) tutor led training \n  \nLive teaching sessions delivered online via virtual classroom over four days 0900-1500hrs\nE1/L\, PIL AB: days 1 to 3\nPIL C: day 4 \nOnline assessment will take place 1300-1500hrs Wednesday 16 June 2021 \nParticipants may attend for E1/L\, E1/L PIL AB\, E1/L PIL ABC or PIL C depending on their needs\nPrivate group bookings also available; contact us at info@LearningCurveDevelopment.co.uk to discuss your needs
URL:https://www.learningcurvedevelopment.co.uk/event/home-office-e1-l-pil-abc-virtual-classroom-11/
LOCATION:Online Webinar\, United Kingdom
CATEGORIES:E1/L,PIL AB,PIL ABC
ORGANIZER;CN="Gill":MAILTO:Info@LearningCurveDevelopment.co.uk
END:VEVENT
BEGIN:VEVENT
DTSTART;VALUE=DATE:20210524
DTEND;VALUE=DATE:20210528
DTSTAMP:20260422T234412
CREATED:20201021T085321Z
LAST-MODIFIED:20201021T085321Z
UID:5211-1621814400-1622159999@www.learningcurvedevelopment.co.uk
SUMMARY:Home Office E1/L\, PIL ABC Virtual Classroom
DESCRIPTION:Royal Society of Biology accredited Home Office E1/L PIL ABC (theory only) tutor led training \n  \nLive teaching sessions delivered online via virtual classroom over four days 0900-1500hrs\nE1/L\, PIL AB: days 1 to 3\nPIL C: day 4 \nOnline assessment will take place 1300-1500hrs Wednesday 2 June 2021 \nParticipants may attend for E1/L\, E1/L PIL AB\, E1/L PIL ABC or PIL C depending on their needs\nPrivate group bookings also available; contact us at info@LearningCurveDevelopment.co.uk to discuss your needs
URL:https://www.learningcurvedevelopment.co.uk/event/home-office-e1-l-pil-abc-virtual-classroom-10/
LOCATION:Online Webinar\, United Kingdom
CATEGORIES:E1/L,PIL AB,PIL ABC
ORGANIZER;CN="Gill":MAILTO:Info@LearningCurveDevelopment.co.uk
END:VEVENT
BEGIN:VEVENT
DTSTART;VALUE=DATE:20210518
DTEND;VALUE=DATE:20210519
DTSTAMP:20260422T234412
CREATED:20201215T161033Z
LAST-MODIFIED:20201215T161033Z
UID:5724-1621296000-1621382399@www.learningcurvedevelopment.co.uk
SUMMARY:Virtual NTCO Workshop
DESCRIPTION:This one-day interactive Named Training and Competency Officer (NTCO) workshop explores the qualities needed to perform effectively in the role\, equipping delegates with practical skills and strategies. \nLaboratory Animal Science Association CPD points are awarded for attendance.
URL:https://www.learningcurvedevelopment.co.uk/event/virtual-ntco-workshop/
LOCATION:Online Webinar\, United Kingdom
CATEGORIES:NTCO
ORGANIZER;CN="Gill":MAILTO:info@learningcurvedevelopment.co.uk
END:VEVENT
BEGIN:VEVENT
DTSTART;VALUE=DATE:20210510
DTEND;VALUE=DATE:20210514
DTSTAMP:20260422T234412
CREATED:20201021T081752Z
LAST-MODIFIED:20201021T081752Z
UID:5198-1620604800-1620950399@www.learningcurvedevelopment.co.uk
SUMMARY:Home Office E1/L\, PIL ABC Virtual Classroom
DESCRIPTION:Royal Society of Biology accredited Home Office E1/L PIL ABC (theory only) tutor led training \n  \nLive teaching sessions delivered online via virtual classroom over four days 0900-1500hrs\nE1/L\, PIL AB: days 1 to 3\nPIL C: day 4 \nOnline assessment will take place 1300-1500hrs Wednesday 19 May 2021 \nParticipants may attend for E1/L\, E1/L PIL AB\, E1/L PIL ABC or PIL C depending on their needs\nPrivate group bookings also available; contact us at info@LearningCurveDevelopment.co.uk to discuss your needs
URL:https://www.learningcurvedevelopment.co.uk/event/home-office-e1-l-pil-abc-virtual-classroom-8/
LOCATION:Online Webinar\, United Kingdom
CATEGORIES:E1/L,PIL AB,PIL ABC
ORGANIZER;CN="Gill":MAILTO:Info@LearningCurveDevelopment.co.uk
END:VEVENT
BEGIN:VEVENT
DTSTART;VALUE=DATE:20210426
DTEND;VALUE=DATE:20210430
DTSTAMP:20260422T234412
CREATED:20201021T080803Z
LAST-MODIFIED:20201021T085115Z
UID:5196-1619395200-1619740799@www.learningcurvedevelopment.co.uk
SUMMARY:Home Office E1/L\, PIL ABC Virtual Classroom
DESCRIPTION:Royal Society of Biology accredited Home Office E1/L PIL ABC (theory only) tutor led training \n  \nLive teaching sessions delivered online via virtual classroom over four days 0900-1500hrs\nE1/L\, PIL AB: days 1 to 3\nPIL C: day 4 \nOnline assessment will take place 1300-1500hrs Wednesday 5 May 2021 \nParticipants may attend for E1/L\, E1/L PIL AB\, E1/L PIL ABC or PIL C depending on their needs\nPrivate group bookings also available; contact us at info@LearningCurveDevelopment.co.uk to discuss your needs
URL:https://www.learningcurvedevelopment.co.uk/event/home-office-e1-l-pil-abc-virtual-classroom-7/
LOCATION:Online Webinar\, United Kingdom
CATEGORIES:E1/L,PIL AB,PIL ABC
ORGANIZER;CN="Gill":MAILTO:Info@LearningCurveDevelopment.co.uk
END:VEVENT
BEGIN:VEVENT
DTSTART;VALUE=DATE:20210419
DTEND;VALUE=DATE:20210421
DTSTAMP:20260422T234412
CREATED:20201103T122457Z
LAST-MODIFIED:20201103T122457Z
UID:5278-1618790400-1618963199@www.learningcurvedevelopment.co.uk
SUMMARY:Virtual NACWO Workshop
DESCRIPTION:09:00hrs – 16:00hrs \nNACWO two-day interactive virtual workshop accredited by the Institute of Animal Technology\, contact us now to secure your booking
URL:https://www.learningcurvedevelopment.co.uk/event/virtual-nacwo-workshop-3/
LOCATION:Online Webinar\, United Kingdom
CATEGORIES:NACWO
ORGANIZER;CN="Gill":MAILTO:Info@LearningCurveDevelopment.co.uk
END:VEVENT
BEGIN:VEVENT
DTSTART;VALUE=DATE:20210412
DTEND;VALUE=DATE:20210416
DTSTAMP:20260422T234412
CREATED:20201021T080635Z
LAST-MODIFIED:20201021T085047Z
UID:5194-1618185600-1618531199@www.learningcurvedevelopment.co.uk
SUMMARY:Home Office E1/L\, PIL ABC Virtual Classroom
DESCRIPTION:Royal Society of Biology accredited Home Office E1/L PIL ABC (theory only) tutor led training \n  \nLive teaching sessions delivered online via virtual classroom over four days 0900-1500hrs\nE1/L\, PIL AB: days 1 to 3\nPIL C: day 4 \nOnline assessment will take place 1300-1500hrs Wednesday 21 April 2021 \nParticipants may attend for E1/L\, E1/L PIL AB\, E1/L PIL ABC or PIL C depending on their needs\nPrivate group bookings also available; contact us at info@LearningCurveDevelopment.co.uk to discuss your needs
URL:https://www.learningcurvedevelopment.co.uk/event/home-office-e1-l-pil-abc-virtual-classroom-6/
LOCATION:Online Webinar\, United Kingdom
CATEGORIES:E1/L,PIL AB,PIL ABC
ORGANIZER;CN="Gill":MAILTO:Info@LearningCurveDevelopment.co.uk
END:VEVENT
BEGIN:VEVENT
DTSTART;VALUE=DATE:20210322
DTEND;VALUE=DATE:20210326
DTSTAMP:20260422T234412
CREATED:20201021T080446Z
LAST-MODIFIED:20201021T084846Z
UID:5192-1616371200-1616716799@www.learningcurvedevelopment.co.uk
SUMMARY:Home Office E1/L\, PIL ABC Virtual Classroom
DESCRIPTION:Royal Society of Biology accredited Home Office E1/L PIL ABC (theory only) tutor led training \n  \nLive teaching sessions delivered online via virtual classroom over four days 0900-1500hrs\nE1/L\, PIL AB: days 1 to 3\nPIL C: day 4 \nOnline assessment will take place 1300-1500hrs Wednesday 31 March 2021 \nParticipants may attend for E1/L\, E1/L PIL AB\, E1/L PIL ABC or PIL C depending on their needs\nPrivate group bookings also available; contact us at info@LearningCurveDevelopment.co.uk to discuss your needs
URL:https://www.learningcurvedevelopment.co.uk/event/home-office-e1-l-pil-abc-virtual-classroom-5/
LOCATION:Online Webinar\, United Kingdom
CATEGORIES:E1/L,PIL AB,PIL ABC
ORGANIZER;CN="Gill":MAILTO:Info@LearningCurveDevelopment.co.uk
END:VEVENT
BEGIN:VEVENT
DTSTART;VALUE=DATE:20210308
DTEND;VALUE=DATE:20210312
DTSTAMP:20260422T234412
CREATED:20201021T085005Z
LAST-MODIFIED:20201021T085005Z
UID:5207-1615161600-1615507199@www.learningcurvedevelopment.co.uk
SUMMARY:Home Office E1/L\, PIL ABC Virtual Classroom
DESCRIPTION:Royal Society of Biology accredited Home Office E1/L PIL ABC (theory only) tutor led training \n  \nLive teaching sessions delivered online via virtual classroom over four days 0900-1500hrs\nE1/L\, PIL AB: days 1 to 3\nPIL C: day 4 \nOnline assessment will take place 1300-1500hrs Wednesday 17 March 2021 \nParticipants may attend for E1/L\, E1/L PIL AB\, E1/L PIL ABC or PIL C depending on their needs\nPrivate group bookings also available; contact us at info@LearningCurveDevelopment.co.uk to discuss your needs
URL:https://www.learningcurvedevelopment.co.uk/event/home-office-e1-l-pil-abc-virtual-classroom-9/
LOCATION:Online Webinar\, United Kingdom
CATEGORIES:E1/L,PIL AB,PIL ABC
ORGANIZER;CN="Gill":MAILTO:Info@LearningCurveDevelopment.co.uk
END:VEVENT
END:VCALENDAR