BEGIN:VCALENDAR
VERSION:2.0
PRODID:-//The Learning Curve - ECPv6.15.17.1//NONSGML v1.0//EN
CALSCALE:GREGORIAN
METHOD:PUBLISH
X-WR-CALNAME:The Learning Curve
X-ORIGINAL-URL:https://www.learningcurvedevelopment.co.uk
X-WR-CALDESC:Events for The Learning Curve
REFRESH-INTERVAL;VALUE=DURATION:PT1H
X-Robots-Tag:noindex
X-PUBLISHED-TTL:PT1H
BEGIN:VTIMEZONE
TZID:Europe/London
BEGIN:DAYLIGHT
TZOFFSETFROM:+0000
TZOFFSETTO:+0100
TZNAME:BST
DTSTART:20230326T010000
END:DAYLIGHT
BEGIN:STANDARD
TZOFFSETFROM:+0100
TZOFFSETTO:+0000
TZNAME:GMT
DTSTART:20231029T010000
END:STANDARD
BEGIN:DAYLIGHT
TZOFFSETFROM:+0000
TZOFFSETTO:+0100
TZNAME:BST
DTSTART:20240331T010000
END:DAYLIGHT
BEGIN:STANDARD
TZOFFSETFROM:+0100
TZOFFSETTO:+0000
TZNAME:GMT
DTSTART:20241027T010000
END:STANDARD
BEGIN:DAYLIGHT
TZOFFSETFROM:+0000
TZOFFSETTO:+0100
TZNAME:BST
DTSTART:20250330T010000
END:DAYLIGHT
BEGIN:STANDARD
TZOFFSETFROM:+0100
TZOFFSETTO:+0000
TZNAME:GMT
DTSTART:20251026T010000
END:STANDARD
END:VTIMEZONE
BEGIN:VEVENT
DTSTART;VALUE=DATE:20240325
DTEND;VALUE=DATE:20240326
DTSTAMP:20260422T232547
CREATED:20231024T140108Z
LAST-MODIFIED:20231024T140108Z
UID:6622-1711324800-1711411199@www.learningcurvedevelopment.co.uk
SUMMARY:NTCO Live Webinar
DESCRIPTION:09:30 – 16:30hrs \nThis one-day interactive Named Training and Competency Officer (NTCO) workshop explores the qualities needed to perform effectively in the role\, equipping delegates with practical skills and strategies. \nContact us at Info@LearningCurveDevelopment.co.uk or call 01279 814969 for more information\, or to request a booking form. \nLaboratory Animal Science Association CPD points are awarded for attendance.
URL:https://www.learningcurvedevelopment.co.uk/event/ntco-live-webinar-4/
LOCATION:Online Webinar\, United Kingdom
CATEGORIES:NTCO
ORGANIZER;CN="Gill":MAILTO:info@learningcurvedevelopment.co.uk
END:VEVENT
END:VCALENDAR