BEGIN:VCALENDAR
VERSION:2.0
PRODID:-//The Learning Curve - ECPv6.15.17.1//NONSGML v1.0//EN
CALSCALE:GREGORIAN
METHOD:PUBLISH
X-WR-CALNAME:The Learning Curve
X-ORIGINAL-URL:https://www.learningcurvedevelopment.co.uk
X-WR-CALDESC:Events for The Learning Curve
REFRESH-INTERVAL;VALUE=DURATION:PT1H
X-Robots-Tag:noindex
X-PUBLISHED-TTL:PT1H
BEGIN:VTIMEZONE
TZID:Europe/London
BEGIN:DAYLIGHT
TZOFFSETFROM:+0000
TZOFFSETTO:+0100
TZNAME:BST
DTSTART:20250330T010000
END:DAYLIGHT
BEGIN:STANDARD
TZOFFSETFROM:+0100
TZOFFSETTO:+0000
TZNAME:GMT
DTSTART:20251026T010000
END:STANDARD
BEGIN:DAYLIGHT
TZOFFSETFROM:+0000
TZOFFSETTO:+0100
TZNAME:BST
DTSTART:20260329T010000
END:DAYLIGHT
BEGIN:STANDARD
TZOFFSETFROM:+0100
TZOFFSETTO:+0000
TZNAME:GMT
DTSTART:20261025T010000
END:STANDARD
BEGIN:DAYLIGHT
TZOFFSETFROM:+0000
TZOFFSETTO:+0100
TZNAME:BST
DTSTART:20270328T010000
END:DAYLIGHT
BEGIN:STANDARD
TZOFFSETFROM:+0100
TZOFFSETTO:+0000
TZNAME:GMT
DTSTART:20271031T010000
END:STANDARD
END:VTIMEZONE
BEGIN:VEVENT
DTSTART;VALUE=DATE:20260602
DTEND;VALUE=DATE:20260603
DTSTAMP:20260423T105852
CREATED:20250808T115035Z
LAST-MODIFIED:20250808T115035Z
UID:8168-1780358400-1780444799@www.learningcurvedevelopment.co.uk
SUMMARY:NACWO Refresher Live Webinar
DESCRIPTION:NACWOs are required to maintain and continue to develop their professional knowledge and skills\, and those who are Registered Animal Technologists (RAnTechs) are obliged to undertake and record CPD. \nThis interactive workshop enables NACWOs to ensure their knowledge remains current and relevant to their role and to ensure the husbandry and care provided meets or exceeds the minimum standards set out in the Code of Practice. \nBook Online\, or download a booking form here and email it to Info@LearningCurveDevelopment.co.uk; call 01279 814969 for more information. \nPrivate live webinar or in-house group bookings are also available\, contact us to discuss your needs
URL:https://www.learningcurvedevelopment.co.uk/event/nacwo-refresher-live-webinar-16/
LOCATION:Online Webinar\, United Kingdom
CATEGORIES:NACWO Refresher
ORGANIZER;CN="Gill":MAILTO:info@learningcurvedevelopment.co.uk
END:VEVENT
END:VCALENDAR