BEGIN:VCALENDAR
VERSION:2.0
PRODID:-//The Learning Curve - ECPv6.15.17.1//NONSGML v1.0//EN
CALSCALE:GREGORIAN
METHOD:PUBLISH
X-ORIGINAL-URL:https://www.learningcurvedevelopment.co.uk
X-WR-CALDESC:Events for The Learning Curve
REFRESH-INTERVAL;VALUE=DURATION:PT1H
X-Robots-Tag:noindex
X-PUBLISHED-TTL:PT1H
BEGIN:VTIMEZONE
TZID:Europe/London
BEGIN:DAYLIGHT
TZOFFSETFROM:+0000
TZOFFSETTO:+0100
TZNAME:BST
DTSTART:20230326T010000
END:DAYLIGHT
BEGIN:STANDARD
TZOFFSETFROM:+0100
TZOFFSETTO:+0000
TZNAME:GMT
DTSTART:20231029T010000
END:STANDARD
BEGIN:DAYLIGHT
TZOFFSETFROM:+0000
TZOFFSETTO:+0100
TZNAME:BST
DTSTART:20240331T010000
END:DAYLIGHT
BEGIN:STANDARD
TZOFFSETFROM:+0100
TZOFFSETTO:+0000
TZNAME:GMT
DTSTART:20241027T010000
END:STANDARD
BEGIN:DAYLIGHT
TZOFFSETFROM:+0000
TZOFFSETTO:+0100
TZNAME:BST
DTSTART:20250330T010000
END:DAYLIGHT
BEGIN:STANDARD
TZOFFSETFROM:+0100
TZOFFSETTO:+0000
TZNAME:GMT
DTSTART:20251026T010000
END:STANDARD
END:VTIMEZONE
BEGIN:VEVENT
DTSTART;TZID=Europe/London:20241204T090000
DTEND;TZID=Europe/London:20241204T130000
DTSTAMP:20260423T122354
CREATED:20231020T100041Z
LAST-MODIFIED:20240628T051302Z
UID:6590-1733302800-1733317200@www.learningcurvedevelopment.co.uk
SUMMARY:AWERB Training Live Webinar
DESCRIPTION:09:00 – 13:00hrs \nThis interactive half-day workshop provides delegates with the opportunity to learn more about the AWERB process\, its function\, members responsibilities and the contribution they can make. \nTo book a place\, contact us at Info@LearningCurveDevelopment.co.uk or call 01279 814969
URL:https://www.learningcurvedevelopment.co.uk/event/awerb-training-live-webinar-7/
LOCATION:Online Webinar\, United Kingdom
CATEGORIES:AWERB
ORGANIZER;CN="Gill":MAILTO:info@learningcurvedevelopment.co.uk
END:VEVENT
END:VCALENDAR