BEGIN:VCALENDAR
VERSION:2.0
PRODID:-//The Learning Curve - ECPv6.15.17.1//NONSGML v1.0//EN
CALSCALE:GREGORIAN
METHOD:PUBLISH
X-WR-CALNAME:The Learning Curve
X-ORIGINAL-URL:https://www.learningcurvedevelopment.co.uk
X-WR-CALDESC:Events for The Learning Curve
REFRESH-INTERVAL;VALUE=DURATION:PT1H
X-Robots-Tag:noindex
X-PUBLISHED-TTL:PT1H
BEGIN:VTIMEZONE
TZID:Europe/London
BEGIN:DAYLIGHT
TZOFFSETFROM:+0000
TZOFFSETTO:+0100
TZNAME:BST
DTSTART:20220327T010000
END:DAYLIGHT
BEGIN:STANDARD
TZOFFSETFROM:+0100
TZOFFSETTO:+0000
TZNAME:GMT
DTSTART:20221030T010000
END:STANDARD
BEGIN:DAYLIGHT
TZOFFSETFROM:+0000
TZOFFSETTO:+0100
TZNAME:BST
DTSTART:20230326T010000
END:DAYLIGHT
BEGIN:STANDARD
TZOFFSETFROM:+0100
TZOFFSETTO:+0000
TZNAME:GMT
DTSTART:20231029T010000
END:STANDARD
BEGIN:DAYLIGHT
TZOFFSETFROM:+0000
TZOFFSETTO:+0100
TZNAME:BST
DTSTART:20240331T010000
END:DAYLIGHT
BEGIN:STANDARD
TZOFFSETFROM:+0100
TZOFFSETTO:+0000
TZNAME:GMT
DTSTART:20241027T010000
END:STANDARD
END:VTIMEZONE
BEGIN:VEVENT
DTSTART;VALUE=DATE:20230904
DTEND;VALUE=DATE:20230908
DTSTAMP:20260423T213056
CREATED:20221013T073744Z
LAST-MODIFIED:20240628T081532Z
UID:6215-1693785600-1694131199@www.learningcurvedevelopment.co.uk
SUMMARY:Home Office E1/L\, PIL ABC (Theory) Rodent and Rabbit Live Webinar
DESCRIPTION:Royal Society of Biology accredited Home Office (theory only) E1/L\, PIL AB Rodent and Rabbit\, and PIL C tutor led training \n  \nLive teaching sessions delivered via webinar over four days 0900-1500hrs\nE1/L\, PIL AB: days 1 to 3\nPIL C: day 4 \nOnline assessments will take place the following Wednesday between 0900-1100hrs \nParticipants may attend for E1/L\, E1/L PIL AB\, E1/L PIL ABC or PIL C depending on their needs\nPrivate group bookings also available; contact us at info@LearningCurveDevelopment.co.uk to discuss your needs
URL:https://www.learningcurvedevelopment.co.uk/event/home-office-e1-l-pil-abc-theory-rodent-and-rabbit-live-webinar-13/
LOCATION:Online Webinar\, United Kingdom
CATEGORIES:Accredited Home Office Courses
ORGANIZER;CN="Gill":MAILTO:info@learningcurvedevelopment.co.uk
END:VEVENT
BEGIN:VEVENT
DTSTART;VALUE=DATE:20230918
DTEND;VALUE=DATE:20230920
DTSTAMP:20260423T213056
CREATED:20221013T090927Z
LAST-MODIFIED:20240628T081517Z
UID:6247-1694995200-1695167999@www.learningcurvedevelopment.co.uk
SUMMARY:Home Office E1/L\, PIL AB (Theory) Rodent and Rabbit Live Webinar
DESCRIPTION:Private Group Booking\n \n  \n  \nRoyal Society of Biology accredited Home Office (theory only) E1/L\, PIL AB Rodent and Rabbit tutor led training \nLive teaching sessions delivered via webinar over two days\, including online assessments \nIf you would like to discuss private group training\, contact us at info@LearningCurveDevelopment.co.uk \nWe also run Home Office E1/L\, PIL ABC (Theory) Rodent and Rabbit Live Webinars every two weeks which are open to all delegates \nVisit our website calendar for available dates \n 
URL:https://www.learningcurvedevelopment.co.uk/event/home-office-e1-l-pil-ab-theory-rodent-and-rabbit-live-webinar-9/
LOCATION:Online Webinar\, United Kingdom
CATEGORIES:Accredited Home Office Courses
ORGANIZER;CN="Gill":MAILTO:info@learningcurvedevelopment.co.uk
END:VEVENT
BEGIN:VEVENT
DTSTART;VALUE=DATE:20230920
DTEND;VALUE=DATE:20230922
DTSTAMP:20260423T213056
CREATED:20221013T091036Z
LAST-MODIFIED:20240628T081505Z
UID:6249-1695168000-1695340799@www.learningcurvedevelopment.co.uk
SUMMARY:Home Office E1/L\, PIL AB (Theory) Rodent and Rabbit Live Webinar
DESCRIPTION:Private Group Booking\n \n  \n  \nRoyal Society of Biology accredited Home Office (theory only) E1/L\, PIL AB Rodent and Rabbit tutor led training \nLive teaching sessions delivered via webinar over two days\, including online assessments \nIf you would like to discuss private group training\, contact us at info@LearningCurveDevelopment.co.uk \nWe also run Home Office E1/L\, PIL ABC (Theory) Rodent and Rabbit Live Webinars every two weeks which are open to all delegates \nVisit our website calendar for available dates \n 
URL:https://www.learningcurvedevelopment.co.uk/event/home-office-e1-l-pil-ab-theory-rodent-and-rabbit-live-webinar-10/
LOCATION:Online Webinar\, United Kingdom
CATEGORIES:Accredited Home Office Courses
ORGANIZER;CN="Gill":MAILTO:info@learningcurvedevelopment.co.uk
END:VEVENT
BEGIN:VEVENT
DTSTART;VALUE=DATE:20230925
DTEND;VALUE=DATE:20230929
DTSTAMP:20260423T213056
CREATED:20221013T073922Z
LAST-MODIFIED:20240628T081452Z
UID:6217-1695600000-1695945599@www.learningcurvedevelopment.co.uk
SUMMARY:Home Office E1/L\, PIL ABC (Theory) Rodent and Rabbit Live Webinar
DESCRIPTION:Royal Society of Biology accredited Home Office (theory only) E1/L\, PIL AB Rodent and Rabbit\, and PIL C tutor led training \n  \nLive teaching sessions delivered via webinar over four days 0900-1500hrs\nE1/L\, PIL AB: days 1 to 3\nPIL C: day 4 \nOnline assessments will take place the following Wednesday between 1300-1500hrs \nParticipants may attend for E1/L\, E1/L PIL AB\, E1/L PIL ABC or PIL C depending on their needs\nPrivate group bookings also available; contact us at info@LearningCurveDevelopment.co.uk to discuss your needs
URL:https://www.learningcurvedevelopment.co.uk/event/home-office-e1-l-pil-abc-theory-rodent-and-rabbit-live-webinar-14/
LOCATION:Online Webinar\, United Kingdom
CATEGORIES:Accredited Home Office Courses
ORGANIZER;CN="Gill":MAILTO:info@learningcurvedevelopment.co.uk
END:VEVENT
END:VCALENDAR